BEGIN:VCALENDAR
VERSION:2.0
PRODID:-//jEvents 2.0 for Joomla//EN
CALSCALE:GREGORIAN
METHOD:PUBLISH
BEGIN:VTIMEZONE
TZID:Europe/Lisbon
BEGIN:STANDARD
DTSTART:20161127T000000
RDATE:20170326T020000
TZOFFSETFROM:+0100
TZOFFSETTO:+0000
TZNAME:Europe/Lisbon WET
END:STANDARD
BEGIN:STANDARD
DTSTART:20171029T010000
RDATE:20180325T020000
TZOFFSETFROM:+0100
TZOFFSETTO:+0000
TZNAME:Europe/Lisbon WET
END:STANDARD
BEGIN:STANDARD
DTSTART:20181028T010000
RDATE:20190331T020000
TZOFFSETFROM:+0100
TZOFFSETTO:+0000
TZNAME:Europe/Lisbon WET
END:STANDARD
BEGIN:STANDARD
DTSTART:20191027T010000
RDATE:20200329T020000
TZOFFSETFROM:+0100
TZOFFSETTO:+0000
TZNAME:Europe/Lisbon WET
END:STANDARD
BEGIN:STANDARD
DTSTART:20201025T010000
RDATE:20210328T020000
TZOFFSETFROM:+0100
TZOFFSETTO:+0000
TZNAME:Europe/Lisbon WET
END:STANDARD
BEGIN:DAYLIGHT
DTSTART:20170326T020000
RDATE:20171029T010000
TZOFFSETFROM:+0000
TZOFFSETTO:+0100
TZNAME:Europe/Lisbon WEST
END:DAYLIGHT
BEGIN:DAYLIGHT
DTSTART:20180325T020000
RDATE:20181028T010000
TZOFFSETFROM:+0000
TZOFFSETTO:+0100
TZNAME:Europe/Lisbon WEST
END:DAYLIGHT
BEGIN:DAYLIGHT
DTSTART:20190331T020000
RDATE:20191027T010000
TZOFFSETFROM:+0000
TZOFFSETTO:+0100
TZNAME:Europe/Lisbon WEST
END:DAYLIGHT
BEGIN:DAYLIGHT
DTSTART:20200329T020000
RDATE:20201025T010000
TZOFFSETFROM:+0000
TZOFFSETTO:+0100
TZNAME:Europe/Lisbon WEST
END:DAYLIGHT
END:VTIMEZONE
BEGIN:VEVENT
UID:e195af39f06d04b10ec4317247fbf25f
CATEGORIES:Santos
SUMMARY:São Tiago da Marca
DESCRIPTION;ENCODING=QUOTED-PRINTABLE:\n São Tiago da Marca nasceu a 1 de Setembro de 1391 em Monteprandone, na p
 rovíncia de Ascoli Piceni, região das Marcas, na Itália e faleceu a 28 de N
 ovembro de 1476. Foi baptizado como Domingos Gangali e, ainda pequeno e órf
 ão, foi educado pelo tio, que o conduziu sabiamente no seguimento de Cristo
 . Aos sete anos, apascentava ovelhas. Apavorado pela obstinada presença de 
 um estranho lobo, que mais tarde ele chamará de &ldquo;Anjo de Deus e não l
 obo como parecia&rdquo;, abandonando o rebanho fugiu para Offida e foi mora
 r com um padre, parente seu.\nComo na escola aprendia com facilidade, os ir
 mãos deixaram-no estudar. Prosseguiu os estudos de direito civil em Perugia
 . Tornou-se tabelião. Estabeleceu-se depois em Florença.\nVoltando a Marca,
  para resolver negócios familiares, parou em Assis, e aí após uma conversa 
 com o prior de Santa Maria dos Anjos, decidiu entrar na família franciscana
 , onde estudou teologia e foi ordenado sacerdote. Quando vestiu o hábito, t
 omou o nome de Tiago, que logo foi completado com o &ldquo;das Marcas&rdquo
 ;, em razão de sua origem. Foi discípulo de outro santo e seu contemporâneo
  da Ordem, Bernardino de Sena, que se destacava como o maior pregador daque
 la época, tal qual conhecemos.\nS. Tiago da Marca era magro e só dormia 3 h
 oras por noite. Usava um hábito feito de pano grosso. Jejuava dia sim, dia 
 não. No final da sua vida o papa, Sixto IV, proibiu-o de jejuar porque a su
 a saúde era de interesse público. Mas São Tiago comia apenas pão, feijão, a
 lho e cebola. Dizia que o Espirito Santo o inspirava a grandes sermões com 
 grande poder e ferocidade e com sucesso incrível, mesmo com o estômago vazi
 o.\nS. Tiago da Marca consagrou toda a sua vida à pregação. Percorreu a Itá
 lia, a Polónia, a Bósnia e depois foi para a Hungria, obedecendo a uma orde
 m direta de Roma. Permanecia num lugar apenas o tempo suficiente para const
 ruir um convento novo ou, num já existente, restabelecer a observância genu
 ína da Regra da Ordem Franciscana.\nDepois, partia em busca de novo desafio
  ou para cumprir uma das delicadas missões em favor da Igreja, para as quai
 s era enviado especialmente.\nViveu em extrema penitência e oração, oferece
 ndo seu sacrifício a Deus para o bem da humanidade sempre tão necessitada d
 e misericórdia. Mas os severos e frequentes jejuns a que se submetia minara
 m o seu organismo, chegando a receber o sacramento da unção dos enfermos se
 is vezes.\nFaleceu aos 80 anos em Nápoles, pedindo perdão aos irmãos franci
 scanos pelo mau exemplo que foi a sua vida.\nFoi canonizado pelo Papa Bento
  XIII 1726.\n
DTSTAMP:20260422T111112Z
DTSTART;TZID=Europe/Lisbon;VALUE=DATE:20171128
DTEND;TZID=Europe/Lisbon;VALUE=DATE:20171129
SEQUENCE:0
RRULE:FREQ=YEARLY;COUNT=100;INTERVAL=1;BYYEARDAY=-34
TRANSP:OPAQUE
END:VEVENT
END:VCALENDAR