BEGIN:VCALENDAR
VERSION:2.0
PRODID:-//jEvents 2.0 for Joomla//EN
CALSCALE:GREGORIAN
METHOD:PUBLISH
BEGIN:VTIMEZONE
TZID:Europe/Lisbon
BEGIN:STANDARD
DTSTART:20161118T000000
RDATE:20170326T020000
TZOFFSETFROM:+0100
TZOFFSETTO:+0000
TZNAME:Europe/Lisbon WET
END:STANDARD
BEGIN:STANDARD
DTSTART:20171029T010000
RDATE:20180325T020000
TZOFFSETFROM:+0100
TZOFFSETTO:+0000
TZNAME:Europe/Lisbon WET
END:STANDARD
BEGIN:STANDARD
DTSTART:20181028T010000
RDATE:20190331T020000
TZOFFSETFROM:+0100
TZOFFSETTO:+0000
TZNAME:Europe/Lisbon WET
END:STANDARD
BEGIN:STANDARD
DTSTART:20191027T010000
RDATE:20200329T020000
TZOFFSETFROM:+0100
TZOFFSETTO:+0000
TZNAME:Europe/Lisbon WET
END:STANDARD
BEGIN:STANDARD
DTSTART:20201025T010000
RDATE:20210328T020000
TZOFFSETFROM:+0100
TZOFFSETTO:+0000
TZNAME:Europe/Lisbon WET
END:STANDARD
BEGIN:DAYLIGHT
DTSTART:20170326T020000
RDATE:20171029T010000
TZOFFSETFROM:+0000
TZOFFSETTO:+0100
TZNAME:Europe/Lisbon WEST
END:DAYLIGHT
BEGIN:DAYLIGHT
DTSTART:20180325T020000
RDATE:20181028T010000
TZOFFSETFROM:+0000
TZOFFSETTO:+0100
TZNAME:Europe/Lisbon WEST
END:DAYLIGHT
BEGIN:DAYLIGHT
DTSTART:20190331T020000
RDATE:20191027T010000
TZOFFSETFROM:+0000
TZOFFSETTO:+0100
TZNAME:Europe/Lisbon WEST
END:DAYLIGHT
BEGIN:DAYLIGHT
DTSTART:20200329T020000
RDATE:20201025T010000
TZOFFSETFROM:+0000
TZOFFSETTO:+0100
TZNAME:Europe/Lisbon WEST
END:DAYLIGHT
END:VTIMEZONE
BEGIN:VEVENT
UID:2c1293f5b50ee7935c5e68db7ccd4ffd
CATEGORIES:Santos
SUMMARY:São Rafael Kalinowski
DESCRIPTION;ENCODING=QUOTED-PRINTABLE:\n\n\nSão Rafael Kalinowski nasceu a 1 de Setembro de 1835 em Vilna (Lituân
 ia) e faleceu a \n15 de Novembro de 1907 em Wadowice na Polónia. São Rafael
  Kalinowski foi baptizado como José Kalinowski e era filho de André Kalinow
 ski e de Josefina Polinska, nobres católicos.\nSão Rafael estudou na academ
 ia militar de São Petersburgo, com bons resultados, mas devido à insurreiçã
 o do seu país diante da ocupação russa, São Rafael decide deixar o exército
  e apesar de saber que o êxito da insurreição é impossível, decide ajudar o
 s seus compatriotas, aceita o cargo de ministro de guerra e evita no possív
 el o maior derramamento de sangue.\nEm Março de 1864 São Rafael Kalinowski 
 é preso e condenado à morte, pena que é trocada por 10 anos de trabalhos fo
 rçados na Sibéria. Com um crucifixo e o livro Imitação de Cristo, vai para 
 a Sibéria e após 9 meses de uma dura viagem, chega com os sobreviventes ao 
 lago Bajkal.\nNaquelas circunstâncias especialmente duras, São Rafael demon
 strou uma grande caridade, suportando os sofrimentos, partilhando com os ou
 tros o que tinha, e o que recebia dos seus familiares: «Escrevo-o clarament
 e, a mi­séria aqui é grande; encontrar dinheiro na pátria é sempre mais fác
 il que na Sibéria. É-me inconcebível ser indiferente».\nA 2 de Fevereiro de
  1874 concedem-lhe a liberdade, mas não pode voltar a viver na Lituânia. Ac
 eitou então o cargo de tutor de Augusto Czartoryski, de 16 anos, que vivia 
 a maior parte do tempo em Paris.\nA 15 de Julho de 1877, entra no convento 
 carmelita de Grantz (Áustria), com o nome de Rafael de São José. Pronuncia 
 os seus primeiros votos a 26 de Novembro de 1878 e parte para a Hungria par
 a estudar filosofia e teologia no convento de Raab. A 27 de Novembro de 188
 1, pronuncia os seus votos perpétuos e é enviado a Polónia ao convento de C
 zerna onde é ordenado sacerdote a 15 de Janeiro de 1882. Um ano depois dera
 m-lhe responsabilidades de governo.\nSão Rafael reorganiza a Ordem na Polón
 ia e a ordem secular. Publica algumas biografias. Em 1906, toma a direção d
 o colégio de teologia em Wadowice. É apreciado por todos como diretor espir
 itual e confessor. São Rafael Kalinowski dedica-se com especial interesse a
 o cuidado das suas irmãs carmelitas descalças.\nÉ invocado como patrono de 
 siberianos, educadores, ferroviários, engenheiros e jovens.\nFoi canonizado
  pelo Papa João Paulo II a 17 de Novembro de 1991. \n \nSão Rafael Kalinows
 ki rogai por nós!\n
DTSTAMP:20260420T080656Z
DTSTART;TZID=Europe/Lisbon;VALUE=DATE:20171119
DTEND;TZID=Europe/Lisbon;VALUE=DATE:20171120
SEQUENCE:0
RRULE:FREQ=YEARLY;COUNT=100;INTERVAL=1;BYYEARDAY=-43
TRANSP:OPAQUE
END:VEVENT
END:VCALENDAR