BEGIN:VCALENDAR
VERSION:2.0
PRODID:-//jEvents 2.0 for Joomla//EN
CALSCALE:GREGORIAN
METHOD:PUBLISH
BEGIN:VTIMEZONE
TZID:Europe/Lisbon
BEGIN:STANDARD
DTSTART:20161126T000000
RDATE:20170326T020000
TZOFFSETFROM:+0100
TZOFFSETTO:+0000
TZNAME:Europe/Lisbon WET
END:STANDARD
BEGIN:STANDARD
DTSTART:20171029T010000
RDATE:20180325T020000
TZOFFSETFROM:+0100
TZOFFSETTO:+0000
TZNAME:Europe/Lisbon WET
END:STANDARD
BEGIN:STANDARD
DTSTART:20181028T010000
RDATE:20190331T020000
TZOFFSETFROM:+0100
TZOFFSETTO:+0000
TZNAME:Europe/Lisbon WET
END:STANDARD
BEGIN:STANDARD
DTSTART:20191027T010000
RDATE:20200329T020000
TZOFFSETFROM:+0100
TZOFFSETTO:+0000
TZNAME:Europe/Lisbon WET
END:STANDARD
BEGIN:STANDARD
DTSTART:20201025T010000
RDATE:20210328T020000
TZOFFSETFROM:+0100
TZOFFSETTO:+0000
TZNAME:Europe/Lisbon WET
END:STANDARD
BEGIN:DAYLIGHT
DTSTART:20170326T020000
RDATE:20171029T010000
TZOFFSETFROM:+0000
TZOFFSETTO:+0100
TZNAME:Europe/Lisbon WEST
END:DAYLIGHT
BEGIN:DAYLIGHT
DTSTART:20180325T020000
RDATE:20181028T010000
TZOFFSETFROM:+0000
TZOFFSETTO:+0100
TZNAME:Europe/Lisbon WEST
END:DAYLIGHT
BEGIN:DAYLIGHT
DTSTART:20190331T020000
RDATE:20191027T010000
TZOFFSETFROM:+0000
TZOFFSETTO:+0100
TZNAME:Europe/Lisbon WEST
END:DAYLIGHT
BEGIN:DAYLIGHT
DTSTART:20200329T020000
RDATE:20201025T010000
TZOFFSETFROM:+0000
TZOFFSETTO:+0100
TZNAME:Europe/Lisbon WEST
END:DAYLIGHT
END:VTIMEZONE
BEGIN:VEVENT
UID:72a486c29105a3abb5a729f9d9a12186
CATEGORIES:Santos
SUMMARY:São Francisco Fasani
DESCRIPTION;ENCODING=QUOTED-PRINTABLE:\n\n\n\n\n São Francisco Fasani nasceu em Lucera (Itália), a 6 de Agosto de
  1681.\nFrancisco António Fasani, era filho duma família de modestos lavrad
 ores. Sendo ainda muito novo, entrou na ordem franciscana, no convento de L
 ucera dos frades menores conventuais, e não tardou a distinguir-se pela ino
 cência de vida, espírito de penitência e pobreza, ardor seráfico e zelo apo
 stólico, a ponto de parecer um São Francisco redivivo.\nFez o noviciado no 
 convento do Monte Santo Ângelo, no Gárgano, e aí emitiu os votos de consagr
 ação ao Senhor em 1699. Quatro anos depois, para completar a formação, foi 
 enviado para o Sacro Convento de Assis, onde foi ordenado sacerdote em 1705
 .\nDali passou ao colégio de São Boaventura, onde recebeu o título de mestr
 e de teologia &ndash; e por isso daí em diante os seus conterrâneos de Luce
 ra começaram a chamar-lhe de o &ldquo;Padre Mestre&rdquo;. Voltando para As
 sis, dedicou-se à pregação pelas aldeias, até que pouco depois voltou defin
 itivamente à sua terra natal.\nA partir da cátedra, do púlpito ou do confes
 sionário, o seu apostolado era sempre intenso e fecundo. Percorreu todas as
  terras da Apúlia e arredores, merecendo o epíteto de &ldquo;apóstolo da su
 a terra&rdquo;. Profundo em filosofia e não menos em teologia, começou por 
 ser leitor e prefeito de estudos no Colégio de Filosofia de Lucera. Depois 
 foi mestre de noviços e guardião do convento, e sempre modelo de observânci
 a regular para os confrades, sendo por isso nomeado em 1721, por especial B
 reve de Clemente XI, ministro da Província religiosa de Santo Ângelo, que n
 esse tempo era muito extensa. Escreveu diversas obras de pregação, entre el
 as um &ldquo;Quaresmal&rdquo; e um &ldquo;Marial&rdquo;. A sua principal pr
 eocupação ao falar ao povo era fazer-se entender por todos. Por isso a sua 
 catequese, tipicamente franciscana, era especialmente dirigida ao povo simp
 les, pelo qual ele sentia particular atração.\nOutra característica sua foi
  uma inesgotável caridade para com os pobres. Entre as diversas iniciativas
 , promoveu o simpático costume de recolher e distribuir prendas úteis para 
 os pobres por ocasião do Natal. Também foi notável o seu zelo sacerdotal na
  assistência a presos e condenados à morte, a quem acompanhava até o lugar 
 do suplício, para os consolar nos derradeiros momentos. Neste admirável min
 istério da caridade antecipou-se a São José Cafasso.\nMandou restaurar a be
 la igreja de São Francisco em Lucera, centro da sua incansável atividade sa
 cerdotal durante 35 anos. Às pessoas de quem era diretor espiritual recomen
 dava a devoção a Santíssima Virgem, em especial no privilégio da Imaculada 
 Conceição.\nFaleceu a 29 de novembro de 1742 em Lucera, Itália.\nCanonizado
  por João Paulo II no dia 13 de abril de 1986.\n \nS. Francisco Fasani roga
 i por nós!\n
DTSTAMP:20260422T233504Z
DTSTART;TZID=Europe/Lisbon;VALUE=DATE:20171127
DTEND;TZID=Europe/Lisbon;VALUE=DATE:20171128
SEQUENCE:0
RRULE:FREQ=YEARLY;COUNT=100;INTERVAL=1;BYYEARDAY=-35
TRANSP:OPAQUE
END:VEVENT
END:VCALENDAR