BEGIN:VCALENDAR
VERSION:2.0
PRODID:-//jEvents 2.0 for Joomla//EN
CALSCALE:GREGORIAN
METHOD:PUBLISH
BEGIN:VTIMEZONE
TZID:Europe/Lisbon
BEGIN:STANDARD
DTSTART:20161126T000000
RDATE:20170326T020000
TZOFFSETFROM:+0100
TZOFFSETTO:+0000
TZNAME:Europe/Lisbon WET
END:STANDARD
BEGIN:STANDARD
DTSTART:20171029T010000
RDATE:20180325T020000
TZOFFSETFROM:+0100
TZOFFSETTO:+0000
TZNAME:Europe/Lisbon WET
END:STANDARD
BEGIN:STANDARD
DTSTART:20181028T010000
RDATE:20190331T020000
TZOFFSETFROM:+0100
TZOFFSETTO:+0000
TZNAME:Europe/Lisbon WET
END:STANDARD
BEGIN:STANDARD
DTSTART:20191027T010000
RDATE:20200329T020000
TZOFFSETFROM:+0100
TZOFFSETTO:+0000
TZNAME:Europe/Lisbon WET
END:STANDARD
BEGIN:STANDARD
DTSTART:20201025T010000
RDATE:20210328T020000
TZOFFSETFROM:+0100
TZOFFSETTO:+0000
TZNAME:Europe/Lisbon WET
END:STANDARD
BEGIN:DAYLIGHT
DTSTART:20170326T020000
RDATE:20171029T010000
TZOFFSETFROM:+0000
TZOFFSETTO:+0100
TZNAME:Europe/Lisbon WEST
END:DAYLIGHT
BEGIN:DAYLIGHT
DTSTART:20180325T020000
RDATE:20181028T010000
TZOFFSETFROM:+0000
TZOFFSETTO:+0100
TZNAME:Europe/Lisbon WEST
END:DAYLIGHT
BEGIN:DAYLIGHT
DTSTART:20190331T020000
RDATE:20191027T010000
TZOFFSETFROM:+0000
TZOFFSETTO:+0100
TZNAME:Europe/Lisbon WEST
END:DAYLIGHT
BEGIN:DAYLIGHT
DTSTART:20200329T020000
RDATE:20201025T010000
TZOFFSETFROM:+0000
TZOFFSETTO:+0100
TZNAME:Europe/Lisbon WEST
END:DAYLIGHT
END:VTIMEZONE
BEGIN:VEVENT
UID:cc4fabbe7f16e194dcf0acfe3e00a690
CATEGORIES:Santos
SUMMARY:Manifestação de Nossa Senhora da Medalha Milagrosa
DESCRIPTION;ENCODING=QUOTED-PRINTABLE:\n\n\n\n\n Foi numa tarde de sábado, no dia 27 de Novembro de 1830, na cape
 la das Irmãs Filhas da Caridade de São Vicente de Paulo, na Rue du Bac, em 
 Paris, que Santa Catarina Labouré (http://www.paroquia-almancil.pt/utilidad
 es/vida-dos-santos/icalrepeat.detail/2017/11/28/41387/-/s-catarina-labour%C
 3%A9.html) teve uma visão de Nossa Senhora. A Virgem Santíssima tinha, sob 
 os seus lindos pés descalços, um globo, segurando com as duas mãos um outro
  globo menor, sobre o qual aparecia uma cruzinha de ouro. Dos dedos das sua
 s mãos, que de repente se encheram de anéis com pedras preciosas, partiam r
 aios luminosos em todas as direcções e, num gesto de súplica, Nossa Senhora
  oferecia o globo ao Senhor.\nFoi deste modo que Santa Catarina Labouré rel
 atou a sua visão: "A Virgem Santíssima baixou os olhos para mim e disse-me 
 no íntimo do meu coração: &ldquo;Este globo que vês representa o mundo inte
 iro (...) e cada pessoa em particular. Eis o símbolo das graças que derramo
  sobre as pessoas que as pedem&rdquo;.\nDesapareceu, então, o globo que tin
 ha nas mãos e estas (as mãos) inclinaram-se para a terra. Formou-se em volt
 a da Santíssima Virgem um quadro oval, no qual em letras de ouro se liam es
 tas palavras que cercavam a mesma Senhora: "Ó Maria, concebida sem pecado, 
 rogai por nós que recorremos a vós".\nOuvi, então, uma voz que me dizia: "F
 az cunhar uma medalha por este modelo; todas as pessoas que a trouxerem rec
 eberão grandes graças, sobretudo se a trouxerem no pescoço; as graças serão
  abundantes, especialmente para aqueles que a usarem com confiança."\n Entã
 o o quadro virou-se, e no verso apareceu a letra M, monograma de Maria, com
  uma cruz em cima, tendo um terço na base; por baixo da letra M estavam os 
 corações de Jesus e sua Mãe Santíssima. O primeiro cercado por uma coroa de
  espinhos, e o segundo atravessado por uma espada. Contornando o quadro hav
 ia uma coroa de doze estrelas.\n A mesma visão repetiu-se várias vezes, sob
 re o sacrário do altar-mor; ali aparecia Nossa Senhora, sempre com as mãos 
 cheias de graças, estendidas para a terra, e a invocação já referida a envo
 lvê-la.\nO Arcebispo de Paris, Dom Quelen, autorizou a cunhagem da medalha 
 e instaurou um inquérito oficial sobre a origem e os efeitos da medalha, a 
 que a piedade do povo deu o nome de Medalha Milagrosa, ou Medalha de Nossa 
 Senhora das Graças.\nA conclusão do inquérito foi a seguinte: "A rápida pro
 pagação, o grande número de medalhas cunhadas e distribuídas, os admiráveis
  benefícios e graças singulares obtidos, parecem sinais do céu que confirma
 m a realidade das aparições, a verdade das narrativas da vidente e a difusã
 o da Medalha".\nNossa Senhora da Medalha Milagrosa é a mesma Nossa Senhora 
 das Graças, por ter Santa Catarina Labouré ouvido, no princípio da visão, a
 s palavras: "Estes raios são o símbolo das Graças que Maria Santíssima alca
 nça para os homens."\nSignificado da Medalha:\nA Santíssima Virgem de pé so
 bre o globo terrestre: isso significa que Ela, além de ser Nossa Mãe do Céu
 , é também a Rainha da Terra e de todo o Universo.\nEla esmaga sob seus pés
  uma serpente que representa o demônio, que tenta continuamente os homens c
 om o intuito de levá-los para o inferno.\nNossa Senhora tem um poder incomp
 aravelmente maior que o do demônio. Ela protege todos os filhos que lhe ped
 em com confiança.\nDe seus dedos saem raios de luz. Estes raios representam
  as graças que a Santíssima Virgem concede aos que se devotam a Ela.\nPergu
 ntada por Santa Catarina por que de alguns dedos não saíam raios, Ela respo
 ndeu que desejava conceder mais graças, porém os homens não lhe pediam.\nO 
 grande &ldquo;M&rdquo; tendo sobre si uma cruz, é a inicial do nome de Mari
 a. A cruz é a Cruz de Jesus, que morreu por nós. Aos pés da Cruz encontra-s
 e Maria que sofre e nos anima em união completa com Jesus.\nEm volta da Med
 alha estão desenhadas doze estrelas: é a coroa da Santíssima Virgem. Como R
 ainha do Céu e da Terra, Nossa Senhora tem uma coroa de doze estrelas que r
 epresentam seu poder sobre toda a Criação. Tudo o que Ela pede a Deus, Ela 
 obtém.\nLado a lado, estão o Coração de Jesus e o Coração de Maria. Duas pe
 quenas chamas indicam que eles queimam de amor por nós. À esquerda, o Coraç
 ão de Jesus está envolto por uma coroa de espinhos e tem uma chaga aberta q
 ue sangra. São nossos pecados e nossas más ações que O fazem sofrer: para r
 edimir nossos pecados, Ele foi coroado de espinhos. Ele morreu na Cruz e se
 u Coração foi transpassado por uma lança.\nÀ direita, o Coração de Maria es
 tá atravessado por uma espada que representa toda a dor que Ela sentiu dura
 nte a Paixão de Seu Filho por nós. Ela ofereceu esses sofrimentos em união 
 aos de Jesus para que nós nos salvemos e possamos ir ao Céu.\nOração a Noss
 a Senhora das Graças\nÓ Imaculada Virgem Mãe de Deus e nossa Mãe, ao contem
 plar-vos de braços abertos derramando graças sobre os que vo-las pedem, che
 ios de confiança na vossa poderosa intercessão, inúmeras vezes manifestada 
 pela Medalha Milagrosa, embora reconhecendo a nossa indignidade por causa d
 e nossas inúmeras culpas, acercamo-nos de vossos pés para vos expor, durant
 e esta oração, as nossas mais prementes necessidades (momento de silêncio e
  de pedir a graça desejada).\nConcedei, pois, ó Virgem da Medalha Milagrosa
 , este favor que confiantes vos solicitamos, para maior Glória de Deus, eng
 randecimento do vosso nome, e o bem de nossas almas. E para melhor servirmo
 s ao vosso Divino Filho, inspirai-nos profundo ódio ao pecado e dai-nos cor
 agem de nos afirmar sempre como verdadeiros cristãos.\n \nRezar 3 Ave Maria
 s.\n \nÓ Maria concebida sem pecado, rogai por nós que recorremos a vós. Am
 ém.\n
DTSTAMP:20260422T233504Z
DTSTART;TZID=Europe/Lisbon;VALUE=DATE:20171127
DTEND;TZID=Europe/Lisbon;VALUE=DATE:20171128
SEQUENCE:0
RRULE:FREQ=YEARLY;COUNT=100;INTERVAL=1;BYYEARDAY=-35
TRANSP:OPAQUE
END:VEVENT
END:VCALENDAR