BEGIN:VCALENDAR
VERSION:2.0
PRODID:-//jEvents 2.0 for Joomla//EN
CALSCALE:GREGORIAN
METHOD:PUBLISH
BEGIN:VTIMEZONE
TZID:Europe/Lisbon
BEGIN:STANDARD
DTSTART:20161125T000000
RDATE:20170326T020000
TZOFFSETFROM:+0100
TZOFFSETTO:+0000
TZNAME:Europe/Lisbon WET
END:STANDARD
BEGIN:STANDARD
DTSTART:20171029T010000
RDATE:20180325T020000
TZOFFSETFROM:+0100
TZOFFSETTO:+0000
TZNAME:Europe/Lisbon WET
END:STANDARD
BEGIN:STANDARD
DTSTART:20181028T010000
RDATE:20190331T020000
TZOFFSETFROM:+0100
TZOFFSETTO:+0000
TZNAME:Europe/Lisbon WET
END:STANDARD
BEGIN:STANDARD
DTSTART:20191027T010000
RDATE:20200329T020000
TZOFFSETFROM:+0100
TZOFFSETTO:+0000
TZNAME:Europe/Lisbon WET
END:STANDARD
BEGIN:STANDARD
DTSTART:20201025T010000
RDATE:20210328T020000
TZOFFSETFROM:+0100
TZOFFSETTO:+0000
TZNAME:Europe/Lisbon WET
END:STANDARD
BEGIN:DAYLIGHT
DTSTART:20170326T020000
RDATE:20171029T010000
TZOFFSETFROM:+0000
TZOFFSETTO:+0100
TZNAME:Europe/Lisbon WEST
END:DAYLIGHT
BEGIN:DAYLIGHT
DTSTART:20180325T020000
RDATE:20181028T010000
TZOFFSETFROM:+0000
TZOFFSETTO:+0100
TZNAME:Europe/Lisbon WEST
END:DAYLIGHT
BEGIN:DAYLIGHT
DTSTART:20190331T020000
RDATE:20191027T010000
TZOFFSETFROM:+0000
TZOFFSETTO:+0100
TZNAME:Europe/Lisbon WEST
END:DAYLIGHT
BEGIN:DAYLIGHT
DTSTART:20200329T020000
RDATE:20201025T010000
TZOFFSETFROM:+0000
TZOFFSETTO:+0100
TZNAME:Europe/Lisbon WEST
END:DAYLIGHT
END:VTIMEZONE
BEGIN:VEVENT
UID:37707b16f9fb55b25f6f0571d3ea8c9a
CATEGORIES:Santos
SUMMARY:São Leonardo de Porto Maurício
DESCRIPTION;ENCODING=QUOTED-PRINTABLE:\n\n\n\n\n \nSão Leonardo de Porto Maurício, nasceu a 20 de Dezembro de 167
 6 em Porto Maurício, na Itália e faleceu a 26 de Novembro de 1751. São Leon
 ardo de Porto Maurício foi baptizado sob o nome Paolo Girolamo.  \nSão Leon
 ardo de Porto Maurício ficou órfão muito cedo e foi criado e educado por um
  tio. \nSão Leonardo encontrou cedo a sua vocação ao Sacerdócio, e foi para
  Roma formar-se no Colégio da Companhia de Jesus. Por causa da sua inocênci
 a e sólida virtude, S. Leonardo conquistou a simpatia e a alta consideração
  de seus superiores, que nele viam outro angélico Luís Gonzaga. Entrou para
  a Ordem Franciscana, no Convento de São Boaventura, e com 26 anos já era P
 adre.\nS. Leonardo começou a vivenciar toda a riqueza do Evangelho e a radi
 calidade típica dos imitadores de Francisco, por isso ocupou posições cada 
 vez maiores no serviço à Ordem, à Igreja e para com todos. Devoto da Virgem
  Maria, que lhe salvou a vida num tempo de incurável doença (tuberculose), 
 São Leonardo de Porto Maurício era devotíssimo do Sagrado Coração de Jesus 
 na forma da adoração ao Jesus Eucarístico.\nFoi, no século XVIII, o grande 
 apóstolo do santo exercício da Via-Sacra. Era um grande amante da pobreza r
 adical e franciscana. Toda a vida, penitências e orações de São Leonardo co
 nvergiam para a salvação das almas. Era tal a unção, a caridade ardente e o
  entusiasmo que repassava em suas pregações, que o célebre orador Bapherini
 , encanecido já no exercício da palavra, sendo enviado por Clemente XII a o
 uvir os sermões de Leonardo para depois o informar a este respeito, desempe
 nhou-se da sua missão dizendo &ldquo;que nunca ouvira pregador mais arrebat
 ador, que o efeito de seus discursos era irresistível, que ele próprio não 
 pudera reter as lágrimas&rdquo;.\nFoi canonizado pelo Papa Pio IX a 29 de J
 unho de 1867.\nÉ padroeiro dos prisioneiros.\n \nSão Leonardo de Porto Maur
 ício rogai por nós!\n
DTSTAMP:20260423T015427Z
DTSTART;TZID=Europe/Lisbon;VALUE=DATE:20171126
DTEND;TZID=Europe/Lisbon;VALUE=DATE:20171127
SEQUENCE:0
RRULE:FREQ=YEARLY;COUNT=100;INTERVAL=1;BYYEARDAY=-36
TRANSP:OPAQUE
END:VEVENT
END:VCALENDAR