BEGIN:VCALENDAR
VERSION:2.0
PRODID:-//jEvents 2.0 for Joomla//EN
CALSCALE:GREGORIAN
METHOD:PUBLISH
BEGIN:VTIMEZONE
TZID:Europe/Lisbon
BEGIN:STANDARD
DTSTART:20161125T000000
RDATE:20170326T020000
TZOFFSETFROM:+0100
TZOFFSETTO:+0000
TZNAME:Europe/Lisbon WET
END:STANDARD
BEGIN:STANDARD
DTSTART:20171029T010000
RDATE:20180325T020000
TZOFFSETFROM:+0100
TZOFFSETTO:+0000
TZNAME:Europe/Lisbon WET
END:STANDARD
BEGIN:STANDARD
DTSTART:20181028T010000
RDATE:20190331T020000
TZOFFSETFROM:+0100
TZOFFSETTO:+0000
TZNAME:Europe/Lisbon WET
END:STANDARD
BEGIN:STANDARD
DTSTART:20191027T010000
RDATE:20200329T020000
TZOFFSETFROM:+0100
TZOFFSETTO:+0000
TZNAME:Europe/Lisbon WET
END:STANDARD
BEGIN:STANDARD
DTSTART:20201025T010000
RDATE:20210328T020000
TZOFFSETFROM:+0100
TZOFFSETTO:+0000
TZNAME:Europe/Lisbon WET
END:STANDARD
BEGIN:DAYLIGHT
DTSTART:20170326T020000
RDATE:20171029T010000
TZOFFSETFROM:+0000
TZOFFSETTO:+0100
TZNAME:Europe/Lisbon WEST
END:DAYLIGHT
BEGIN:DAYLIGHT
DTSTART:20180325T020000
RDATE:20181028T010000
TZOFFSETFROM:+0000
TZOFFSETTO:+0100
TZNAME:Europe/Lisbon WEST
END:DAYLIGHT
BEGIN:DAYLIGHT
DTSTART:20190331T020000
RDATE:20191027T010000
TZOFFSETFROM:+0000
TZOFFSETTO:+0100
TZNAME:Europe/Lisbon WEST
END:DAYLIGHT
BEGIN:DAYLIGHT
DTSTART:20200329T020000
RDATE:20201025T010000
TZOFFSETFROM:+0000
TZOFFSETTO:+0100
TZNAME:Europe/Lisbon WEST
END:DAYLIGHT
END:VTIMEZONE
BEGIN:VEVENT
UID:8b75a7ef0459cb6e74c9dc75d6e4dd68
CATEGORIES:Santos
SUMMARY:São Silvestre
DESCRIPTION;ENCODING=QUOTED-PRINTABLE:\n\n \nSão Silvestre Guzzolini nasceu em Osimo, Itália no ano de 1177 e fal
 eceu em 26 de Novembro de 1267 em Fabriano, Itália.\nSão Silvestre nasceu n
 uma família de nobres. Era filho de Gislério e Branca. Os pais deram a S. S
 ilvestre uma boa formação religiosa, não poupando esforços para que Silvest
 re seguisse a carreira como jurista. S. Silvestre estudou Direito nas unive
 rsidades de Bolonha. Mas decidiu abandonar o curso para estudar teologia em
  Padova. \nS. Silvestre foi ordenado sacerdote na sua cidade natal, tendo-s
 e tornando depois cónego da catedral. Mais tarde, em 1227 quando já estava 
 com cinquenta anos de idade, S. Silvestre decidiu retirar-se para a vida er
 emítica numa gruta perto de Frassassi. A fama de sua santidade e de sua gra
 nde espiritualidade fez chegar outros religiosos com a mesma aspiração ascé
 tica. Assim uma nova comunidade monástica se formava. Silvestre logo teve d
 e procurar um local maior, devido ao grande número de monges ali agrupados.
  Foram então para uma localidade próxima chamada Montefano, onde em 1231, S
 . Silvestre fundou a congregação beneditina masculina, mais tarde chamada d
 e monges silvestrinos, da qual o fundador se tornou o abade. \nS. Silvestre
  era de fato uma alma contemplativa, desejosa de coerência evangélica, e po
 r isso se tornou eremita. Praticou uma vida monástica rigorosa e amadureceu
  uma profunda e forte espiritualidade. Escolheu a Regra de São Bento, porqu
 e desejava constituir uma nova família religiosa dedicada à contemplação, m
 as que não abandonasse a realidade social à sua volta. S. Silvestre unia ao
  recolhimento o apostolado de uma sublime paternidade espiritual e a pregaç
 ão do Evangelho às populações da região. \nMorreu aos anos, na santidade no
  Ermo de Montefano, no dia 26 de novembro de 1267.\n\n\nFoi canonizado no a
 no de 1589.\n
DTSTAMP:20260422T085455Z
DTSTART;TZID=Europe/Lisbon;VALUE=DATE:20171126
DTEND;TZID=Europe/Lisbon;VALUE=DATE:20171127
SEQUENCE:0
RRULE:FREQ=YEARLY;COUNT=100;INTERVAL=1;BYYEARDAY=-36
TRANSP:OPAQUE
END:VEVENT
END:VCALENDAR