BEGIN:VCALENDAR
VERSION:2.0
PRODID:-//jEvents 2.0 for Joomla//EN
CALSCALE:GREGORIAN
METHOD:PUBLISH
BEGIN:VTIMEZONE
TZID:Europe/Lisbon
BEGIN:STANDARD
DTSTART:20161124T000000
RDATE:20170326T020000
TZOFFSETFROM:+0100
TZOFFSETTO:+0000
TZNAME:Europe/Lisbon WET
END:STANDARD
BEGIN:STANDARD
DTSTART:20171029T010000
RDATE:20180325T020000
TZOFFSETFROM:+0100
TZOFFSETTO:+0000
TZNAME:Europe/Lisbon WET
END:STANDARD
BEGIN:STANDARD
DTSTART:20181028T010000
RDATE:20190331T020000
TZOFFSETFROM:+0100
TZOFFSETTO:+0000
TZNAME:Europe/Lisbon WET
END:STANDARD
BEGIN:STANDARD
DTSTART:20191027T010000
RDATE:20200329T020000
TZOFFSETFROM:+0100
TZOFFSETTO:+0000
TZNAME:Europe/Lisbon WET
END:STANDARD
BEGIN:STANDARD
DTSTART:20201025T010000
RDATE:20210328T020000
TZOFFSETFROM:+0100
TZOFFSETTO:+0000
TZNAME:Europe/Lisbon WET
END:STANDARD
BEGIN:DAYLIGHT
DTSTART:20170326T020000
RDATE:20171029T010000
TZOFFSETFROM:+0000
TZOFFSETTO:+0100
TZNAME:Europe/Lisbon WEST
END:DAYLIGHT
BEGIN:DAYLIGHT
DTSTART:20180325T020000
RDATE:20181028T010000
TZOFFSETFROM:+0000
TZOFFSETTO:+0100
TZNAME:Europe/Lisbon WEST
END:DAYLIGHT
BEGIN:DAYLIGHT
DTSTART:20190331T020000
RDATE:20191027T010000
TZOFFSETFROM:+0000
TZOFFSETTO:+0100
TZNAME:Europe/Lisbon WEST
END:DAYLIGHT
BEGIN:DAYLIGHT
DTSTART:20200329T020000
RDATE:20201025T010000
TZOFFSETFROM:+0000
TZOFFSETTO:+0100
TZNAME:Europe/Lisbon WEST
END:DAYLIGHT
END:VTIMEZONE
BEGIN:VEVENT
UID:fb62e78ac323cb625d38839f7508a235
CATEGORIES:Santos
SUMMARY:Beata Beatriz
DESCRIPTION;ENCODING=QUOTED-PRINTABLE:\n\n\nBeata Beatriz nasceu no ano de 1260, no solar feudal da nobre família
  dos Ornacieux, nos confins do Delfinado e da Saboia no Sudeste da França. 
 Faleceu a 25 de Novembro de 1303.\nBeata Beatriz recebeu uma educação crist
 ã que a levaria, com apenas 13 anos, a entrar na cartuxa do Monte de Santa 
 Maria, em Parménie (Isére, França).\nBeata Beatriz de Ornacieux destacou-se
  pela santidade de vida. Manifestou sempre muita caridade e uma profunda hu
 mildade de coração; procurava em tudo ajudar a suas irmãs de religião e man
 ifestou uma grande capacidade para sofrer. Beata Beatriz era de uma obediên
 cia extrema e fiel à vida de oração.\nUm dia, diante do Sacrário, pediu a D
 eus que a tirasse do mundo para se colocar a salvo dos contínuos ataques do
  demónio; porém, uma voz saída do Sacrário proibiu-a de desejar outra coisa
  que não fosse fazer a vontade do Senhor. Então, Beata Beatriz, sentiu inte
 riormente que o seu desejo de morrer mudou para um imenso anseio de viver p
 ara a maior glória de Deus, e suplicou ao Senhor que lhe concedesse a saúde
  que em tantos momentos lhe faltava devido a suas numerosas enfermidades. U
 ma vez mais, a voz do Senhor se fez ouvir dizendo: &ldquo;Recebe as consola
 ções que te dou e não recuses os sofrimentos que te envio&rdquo;. A partir 
 de então, dirigida por estas comunicações divinas, Beatriz de Ornacieux não
  desejou senão aquilo que fosse da vontade de Deus, convertendo-se num mode
 lo de confiança e de abandono na Divina Providência.\n Beata Beatriz amou p
 rofundamente a penitência, expressão de seu amor pela Cruz. Entregava-se a 
 prolongados jejuns e a disciplinas. Foi especialmente devota da Paixão de C
 risto e diz-se que perfurou sua mão esquerda com um cravo para recordar mel
 hor os sofrimentos da crucificação.\nTeve que suportar os assaltos frequent
 es do demónio, que em especial a tentava contra a virtude da santa pureza, 
 colocando-a diante de representações obscenas, às quais sempre resistiu com
  invencível pureza de alma e de corpo. Em meio a estes ataques do inimigo e
  das vitórias da graça, sentia os consolos de Jesus e Maria.\nEm 1301 a Bea
 ta Beatriz foi enviada com três companheiras (Luisa Allemman de Grésivaudan
 , Margarida de Sassenage e Ambrosina de Nerpol), a Eymeux, na diocese de Va
 lence, para fundar um novo mosteiro. Depois outras jovens ingressaram no mo
 steiro, apesar da extrema pobreza em que deveriam viver.\n\n\nFoi beatifica
 da pelo Papa Pio IX a 15 de Abril de 1869.\n
DTSTAMP:20260422T105936Z
DTSTART;TZID=Europe/Lisbon;VALUE=DATE:20171125
DTEND;TZID=Europe/Lisbon;VALUE=DATE:20171126
SEQUENCE:0
RRULE:FREQ=YEARLY;COUNT=100;INTERVAL=1;BYYEARDAY=-37
TRANSP:OPAQUE
END:VEVENT
END:VCALENDAR