BEGIN:VCALENDAR
VERSION:2.0
PRODID:-//jEvents 2.0 for Joomla//EN
CALSCALE:GREGORIAN
METHOD:PUBLISH
BEGIN:VTIMEZONE
TZID:Europe/Lisbon
BEGIN:STANDARD
DTSTART:20161122T000000
RDATE:20170326T020000
TZOFFSETFROM:+0100
TZOFFSETTO:+0000
TZNAME:Europe/Lisbon WET
END:STANDARD
BEGIN:STANDARD
DTSTART:20171029T010000
RDATE:20180325T020000
TZOFFSETFROM:+0100
TZOFFSETTO:+0000
TZNAME:Europe/Lisbon WET
END:STANDARD
BEGIN:STANDARD
DTSTART:20181028T010000
RDATE:20190331T020000
TZOFFSETFROM:+0100
TZOFFSETTO:+0000
TZNAME:Europe/Lisbon WET
END:STANDARD
BEGIN:STANDARD
DTSTART:20191027T010000
RDATE:20200329T020000
TZOFFSETFROM:+0100
TZOFFSETTO:+0000
TZNAME:Europe/Lisbon WET
END:STANDARD
BEGIN:STANDARD
DTSTART:20201025T010000
RDATE:20210328T020000
TZOFFSETFROM:+0100
TZOFFSETTO:+0000
TZNAME:Europe/Lisbon WET
END:STANDARD
BEGIN:DAYLIGHT
DTSTART:20170326T020000
RDATE:20171029T010000
TZOFFSETFROM:+0000
TZOFFSETTO:+0100
TZNAME:Europe/Lisbon WEST
END:DAYLIGHT
BEGIN:DAYLIGHT
DTSTART:20180325T020000
RDATE:20181028T010000
TZOFFSETFROM:+0000
TZOFFSETTO:+0100
TZNAME:Europe/Lisbon WEST
END:DAYLIGHT
BEGIN:DAYLIGHT
DTSTART:20190331T020000
RDATE:20191027T010000
TZOFFSETFROM:+0000
TZOFFSETTO:+0100
TZNAME:Europe/Lisbon WEST
END:DAYLIGHT
BEGIN:DAYLIGHT
DTSTART:20200329T020000
RDATE:20201025T010000
TZOFFSETFROM:+0000
TZOFFSETTO:+0100
TZNAME:Europe/Lisbon WEST
END:DAYLIGHT
END:VTIMEZONE
BEGIN:VEVENT
UID:8721a87fb51cc247c1c1b5936601e2de
CATEGORIES:Santos
SUMMARY:Miguel Augustin Pro
DESCRIPTION;ENCODING=QUOTED-PRINTABLE:\n\n\nMiguel Agustin Pro nasceu a 13 de Janeiro de 1891 em Guadalupe (Méxic
 o) e faleceu a 23 de Novembro de 1927 na Cidade do México.\nMiguel Agustín 
 Pro Juárez foi um sacerdote católico, membro da Companhia de Jesus, acusado
  de participar em actos de sabotagem e terrorismo, no contexto do conflito 
 igreja-estado que afetou o México entre 1926 e 1929. Foi condenado à morte,
  acusado de participação num atentado contra o ex-presidente Álvaro Obregón
 . Miguel Agustin Pro morreu, sem qualquer julgamento ou evidência, juntamen
 te com seu irmão Humberto Pro Juárez, fuzilado por um pelotão na sede da po
 lícia na Cidade do México.\nDepois que o governo do México decidiu regulame
 ntar os artigos 27 e 130 da Constituição Política do país sobre as relações
  entre o Estado e a Igreja, uma onda de descontentamento e protestos espalh
 aram-se por todo o país. Como resultado, foram criadas a Liga Nacional para
  a Defesa da Liberdade Religiosa e outras organizações de leigos, sacerdote
 s religiosos e católicos no México.\nO padre Pro ofereceu seus serviços com
 o conselheiro espiritual e sacerdote a várias dessas organizações durante e
 sse período. Rapidamente tornou-se popular entre os católicos mexicanos e, 
 portanto, foi visto com suspeita pelas autoridades que se ressentiam de sua
  vontade de desafiar, muitas vezes, as restrições impostas pela nova legisl
 ação.\nPor essa razão, Miguel Agustin Pro foi acusado, juntamente com seu i
 rmão Humberto e outros leigos e religiosos mexicanos, como Concepción Aceve
 do de la Llata de participar numa vasta conspiração para se opor e derrubar
  as autoridades do país.\nO ministério público construiu um caso fraco que 
 tem sido frequentemente criticado tanto pelo tipo de evidência utilizada qu
 anto pelas acusações contra os irmãos Pro e outros. Sua morte foi decretada
  sem qualquer julgamento, apenas pela ordem direta de Plutarco Elías Calles
  ao general Roberto Cruz e apesar de ter obtido uma injunção a seu favor: o
  atuário não podia apresentar e suspender a suspensão. Foi fuzilado gritand
 o "Viva Cristo Rei!".\nA fraqueza das acusações e o carisma de Miguel Agust
 in Pro logo fez seu caso se tornar não apenas um exemplo dos excessos comet
 idos pelo governo mexicano na época, mas também para promover sua causa de 
 beatificação.\nFoi beatificado pelo Papa João Paulo II em 25 de Setembro de
  1988.\n
DTSTAMP:20260423T015300Z
DTSTART;TZID=Europe/Lisbon;VALUE=DATE:20171123
DTEND;TZID=Europe/Lisbon;VALUE=DATE:20171124
SEQUENCE:0
RRULE:FREQ=YEARLY;COUNT=100;INTERVAL=1;BYYEARDAY=-39
TRANSP:OPAQUE
END:VEVENT
END:VCALENDAR