BEGIN:VCALENDAR
VERSION:2.0
PRODID:-//jEvents 2.0 for Joomla//EN
CALSCALE:GREGORIAN
METHOD:PUBLISH
BEGIN:VTIMEZONE
TZID:Europe/Lisbon
BEGIN:STANDARD
DTSTART:20161123T000000
RDATE:20170326T020000
TZOFFSETFROM:+0100
TZOFFSETTO:+0000
TZNAME:Europe/Lisbon WET
END:STANDARD
BEGIN:STANDARD
DTSTART:20171029T010000
RDATE:20180325T020000
TZOFFSETFROM:+0100
TZOFFSETTO:+0000
TZNAME:Europe/Lisbon WET
END:STANDARD
BEGIN:STANDARD
DTSTART:20181028T010000
RDATE:20190331T020000
TZOFFSETFROM:+0100
TZOFFSETTO:+0000
TZNAME:Europe/Lisbon WET
END:STANDARD
BEGIN:STANDARD
DTSTART:20191027T010000
RDATE:20200329T020000
TZOFFSETFROM:+0100
TZOFFSETTO:+0000
TZNAME:Europe/Lisbon WET
END:STANDARD
BEGIN:STANDARD
DTSTART:20201025T010000
RDATE:20210328T020000
TZOFFSETFROM:+0100
TZOFFSETTO:+0000
TZNAME:Europe/Lisbon WET
END:STANDARD
BEGIN:DAYLIGHT
DTSTART:20170326T020000
RDATE:20171029T010000
TZOFFSETFROM:+0000
TZOFFSETTO:+0100
TZNAME:Europe/Lisbon WEST
END:DAYLIGHT
BEGIN:DAYLIGHT
DTSTART:20180325T020000
RDATE:20181028T010000
TZOFFSETFROM:+0000
TZOFFSETTO:+0100
TZNAME:Europe/Lisbon WEST
END:DAYLIGHT
BEGIN:DAYLIGHT
DTSTART:20190331T020000
RDATE:20191027T010000
TZOFFSETFROM:+0000
TZOFFSETTO:+0100
TZNAME:Europe/Lisbon WEST
END:DAYLIGHT
BEGIN:DAYLIGHT
DTSTART:20200329T020000
RDATE:20201025T010000
TZOFFSETFROM:+0000
TZOFFSETTO:+0100
TZNAME:Europe/Lisbon WEST
END:DAYLIGHT
END:VTIMEZONE
BEGIN:VEVENT
UID:f4da3f580891044340e3f2f77c14d6ab
CATEGORIES:Santos
SUMMARY:São Columbano
DESCRIPTION;ENCODING=QUOTED-PRINTABLE:\n\n São Columbano nasceu no ano de 540 em Leinster (Irlanda) e faleceu a 2
 3 de Novembro de 615 em Bobbio (Itália).\nSão Columbano foi um monge e miss
 ionário irlandês, conhecido pela fundação de inúmeros mosteiros pela Europa
 . Com 50 partiu juntamente com mais doze monges, andou pela França toda, on
 de fundou vários mosteiros, centros propulsores de vida missionária.\nDepoi
 s do primeiro impulso de evangelização e de vida cristã, por obra sobretudo
  dos santos bispos Hilário de Poitiers e Martinho de Tours, quando o espíri
 to religioso na França estava em decadência, devido sobretudo às frequentes
  invasões de bárbaros, a presença de São Columbano, profeta e reformador, c
 om os seus monges, reavivou a vida cristã, e numerosos foram os seguidores 
 da vida austera de São Columbano.\nFoi através de São Columbano que foi dif
 undido o espírito penitencial e a prática da confissão pessoal auricular em
  vez da confissão colectiva.\nTendo entrado em conflito com a despótica rai
 nha da França por ter verberado certos abusos da corte real, São Columbano 
 deixou aquele país e rumou para a Suíça, iniciando a evangelização na regiã
 o do lago de Constança. Lá ficara seu discípulo São Galo, que deixou o seu 
 nome ligado ao célebre mosteiro de Sant Gallen, ainda hoje centro de espiri
 tualidade.\nCom cerca de setenta anos, Columbano atravessou os Alpes e no n
 orte da Itália deixou outra fundação importante, o mosteiro de Bobbio, que 
 evoluiu na cidade e diocese. Aí, São Columbano, vencido pelo cansaço, veio 
 a falecer com 75 anos de idade. \n
DTSTAMP:20260420T080739Z
DTSTART;TZID=Europe/Lisbon;VALUE=DATE:20171124
DTEND;TZID=Europe/Lisbon;VALUE=DATE:20171125
SEQUENCE:0
RRULE:FREQ=YEARLY;COUNT=100;INTERVAL=1;BYYEARDAY=-38
TRANSP:OPAQUE
END:VEVENT
END:VCALENDAR