BEGIN:VCALENDAR
VERSION:2.0
PRODID:-//jEvents 2.0 for Joomla//EN
CALSCALE:GREGORIAN
METHOD:PUBLISH
BEGIN:VTIMEZONE
TZID:Europe/Lisbon
BEGIN:STANDARD
DTSTART:20161122T000000
RDATE:20170326T020000
TZOFFSETFROM:+0100
TZOFFSETTO:+0000
TZNAME:Europe/Lisbon WET
END:STANDARD
BEGIN:STANDARD
DTSTART:20171029T010000
RDATE:20180325T020000
TZOFFSETFROM:+0100
TZOFFSETTO:+0000
TZNAME:Europe/Lisbon WET
END:STANDARD
BEGIN:STANDARD
DTSTART:20181028T010000
RDATE:20190331T020000
TZOFFSETFROM:+0100
TZOFFSETTO:+0000
TZNAME:Europe/Lisbon WET
END:STANDARD
BEGIN:STANDARD
DTSTART:20191027T010000
RDATE:20200329T020000
TZOFFSETFROM:+0100
TZOFFSETTO:+0000
TZNAME:Europe/Lisbon WET
END:STANDARD
BEGIN:STANDARD
DTSTART:20201025T010000
RDATE:20210328T020000
TZOFFSETFROM:+0100
TZOFFSETTO:+0000
TZNAME:Europe/Lisbon WET
END:STANDARD
BEGIN:DAYLIGHT
DTSTART:20170326T020000
RDATE:20171029T010000
TZOFFSETFROM:+0000
TZOFFSETTO:+0100
TZNAME:Europe/Lisbon WEST
END:DAYLIGHT
BEGIN:DAYLIGHT
DTSTART:20180325T020000
RDATE:20181028T010000
TZOFFSETFROM:+0000
TZOFFSETTO:+0100
TZNAME:Europe/Lisbon WEST
END:DAYLIGHT
BEGIN:DAYLIGHT
DTSTART:20190331T020000
RDATE:20191027T010000
TZOFFSETFROM:+0000
TZOFFSETTO:+0100
TZNAME:Europe/Lisbon WEST
END:DAYLIGHT
BEGIN:DAYLIGHT
DTSTART:20200329T020000
RDATE:20201025T010000
TZOFFSETFROM:+0000
TZOFFSETTO:+0100
TZNAME:Europe/Lisbon WEST
END:DAYLIGHT
END:VTIMEZONE
BEGIN:VEVENT
UID:551d16d1880e187566d42d85b7ba53eb
CATEGORIES:Santos
SUMMARY:São Clemente I
DESCRIPTION;ENCODING=QUOTED-PRINTABLE:\n\n\nSão Clemente I nasceu em Roma no ano 35 e faleceu em Quersoneso (Ucrâ
 nia) no ano 100. São Clemente era oriundo de uma família hebraica e foi um 
 dos primeiros a receber o baptismo de S. Pedro. \nSão Clemente foi o quarto
  Papa da Igreja de Roma, depois de S. Pedro, Lino e Anacleto. O seu papado 
 durou 9 anos, entre os anos 88 e 97, numa época de intensas perseguições ao
 s seguidores de Cristo.\n S. Clemente foi denominado como o escritor de uma
  carta anônima enviada à comunidade de Coríntio, carta esta que os animou a
  continuarem seguindo a fé de Cristo e participarem da Igreja. Diz &ldquo;V
 ós darei júbilo e alegria se, obedecendo às evidências por nós escritas com
  a graça do Espírito Santo, resguardes a ilícita paião da inveja&rdquo;\n A
  devoção de S. Clemente era tão grande, que converteu à Igreja Católica a i
 rmã do Imperador Domiciano, ajudando muito a diminuir a intensidade das per
 seguições aos cristãos.\n Por expandir o cristianismo, foi exilado na Crimé
 ia, onde continuou a evangelizar, principalmente com os condenados a trabal
 har nas minas de pedras.\nO Imperador Trajano mandou joga-lo no mar Negro c
 om uma âncora no pescoço, e assim foi feito em 23 de novembro do ano de 101
 .\n
DTSTAMP:20260422T111147Z
DTSTART;TZID=Europe/Lisbon;VALUE=DATE:20171123
DTEND;TZID=Europe/Lisbon;VALUE=DATE:20171124
SEQUENCE:0
RRULE:FREQ=YEARLY;COUNT=100;INTERVAL=1;BYYEARDAY=-39
TRANSP:OPAQUE
END:VEVENT
END:VCALENDAR