BEGIN:VCALENDAR
VERSION:2.0
PRODID:-//jEvents 2.0 for Joomla//EN
CALSCALE:GREGORIAN
METHOD:PUBLISH
BEGIN:VTIMEZONE
TZID:Europe/Lisbon
BEGIN:STANDARD
DTSTART:20130113T000000
RDATE:20130331T020000
TZOFFSETFROM:+0100
TZOFFSETTO:+0000
TZNAME:Europe/Lisbon WET
END:STANDARD
BEGIN:STANDARD
DTSTART:20131027T010000
RDATE:20140330T020000
TZOFFSETFROM:+0100
TZOFFSETTO:+0000
TZNAME:Europe/Lisbon WET
END:STANDARD
BEGIN:STANDARD
DTSTART:20141026T010000
RDATE:20150329T020000
TZOFFSETFROM:+0100
TZOFFSETTO:+0000
TZNAME:Europe/Lisbon WET
END:STANDARD
BEGIN:STANDARD
DTSTART:20151025T010000
RDATE:20160327T020000
TZOFFSETFROM:+0100
TZOFFSETTO:+0000
TZNAME:Europe/Lisbon WET
END:STANDARD
BEGIN:STANDARD
DTSTART:20161030T010000
RDATE:20170326T020000
TZOFFSETFROM:+0100
TZOFFSETTO:+0000
TZNAME:Europe/Lisbon WET
END:STANDARD
BEGIN:STANDARD
DTSTART:20171029T010000
RDATE:20180325T020000
TZOFFSETFROM:+0100
TZOFFSETTO:+0000
TZNAME:Europe/Lisbon WET
END:STANDARD
BEGIN:STANDARD
DTSTART:20181028T010000
RDATE:20190331T020000
TZOFFSETFROM:+0100
TZOFFSETTO:+0000
TZNAME:Europe/Lisbon WET
END:STANDARD
BEGIN:STANDARD
DTSTART:20191027T010000
RDATE:20200329T020000
TZOFFSETFROM:+0100
TZOFFSETTO:+0000
TZNAME:Europe/Lisbon WET
END:STANDARD
BEGIN:STANDARD
DTSTART:20201025T010000
RDATE:20210328T020000
TZOFFSETFROM:+0100
TZOFFSETTO:+0000
TZNAME:Europe/Lisbon WET
END:STANDARD
BEGIN:DAYLIGHT
DTSTART:20130331T020000
RDATE:20131027T010000
TZOFFSETFROM:+0000
TZOFFSETTO:+0100
TZNAME:Europe/Lisbon WEST
END:DAYLIGHT
BEGIN:DAYLIGHT
DTSTART:20140330T020000
RDATE:20141026T010000
TZOFFSETFROM:+0000
TZOFFSETTO:+0100
TZNAME:Europe/Lisbon WEST
END:DAYLIGHT
BEGIN:DAYLIGHT
DTSTART:20150329T020000
RDATE:20151025T010000
TZOFFSETFROM:+0000
TZOFFSETTO:+0100
TZNAME:Europe/Lisbon WEST
END:DAYLIGHT
BEGIN:DAYLIGHT
DTSTART:20160327T020000
RDATE:20161030T010000
TZOFFSETFROM:+0000
TZOFFSETTO:+0100
TZNAME:Europe/Lisbon WEST
END:DAYLIGHT
BEGIN:DAYLIGHT
DTSTART:20170326T020000
RDATE:20171029T010000
TZOFFSETFROM:+0000
TZOFFSETTO:+0100
TZNAME:Europe/Lisbon WEST
END:DAYLIGHT
BEGIN:DAYLIGHT
DTSTART:20180325T020000
RDATE:20181028T010000
TZOFFSETFROM:+0000
TZOFFSETTO:+0100
TZNAME:Europe/Lisbon WEST
END:DAYLIGHT
BEGIN:DAYLIGHT
DTSTART:20190331T020000
RDATE:20191027T010000
TZOFFSETFROM:+0000
TZOFFSETTO:+0100
TZNAME:Europe/Lisbon WEST
END:DAYLIGHT
BEGIN:DAYLIGHT
DTSTART:20200329T020000
RDATE:20201025T010000
TZOFFSETFROM:+0000
TZOFFSETTO:+0100
TZNAME:Europe/Lisbon WEST
END:DAYLIGHT
END:VTIMEZONE
BEGIN:VEVENT
UID:3425c6aa0b91c66978304b7a0552f922
CATEGORIES:Santos
SUMMARY:Santo Arnaldo Janssen
DESCRIPTION;ENCODING=QUOTED-PRINTABLE:\n\n\nSanto Arnaldo Jansenn nasceu em 1837 na Alemanha. Era o segundo de 10
  filhos e os pais incuntiram em Santo Arnaldo Jansenn uma grande dedicação 
 ao trabalho e profunda religiosidade.\nA 15 de agosto de 1861, Santo Arnald
 o Jansenn foi ordenado sacerdote na diocese de Münster e começou a trabalha
 r numa escola secundária em Bocholt, onde se distinguiu como um professor e
 xigente mas justo. Devido à sua devoção ao Sagrado Coração de Jesus, Santo 
 Arnaldo Jansenn, foi nomeado Diretor Diocesano do Apostolado da Oração. \nS
 anto Arnaldo Jansenn resignou ao seu cargo de professor e fundou a revista 
 mensal "Mensageiro do Sagrado Coração". A revista fundada por Arnaldo Janse
 nn dava notícias da missão e animava os cristãos de língua alemã a trabalha
 r mais pelas missões. \nCom a ajuda de alguns bispos, Santo Arnaldo Jansenn
 , inaugurou a 8 de setembro de 1875, em Styel - Holanda, a casa missionária
  e esta é data considerada como o dia da fundação da Congregação dos Missio
 nários do Verbo Divino. \nFundou ainda a 8 de dezembro de 1889 a Congregaçã
 o Missionária das Servas do Espírito Santo.\nFaleceu em 1909. \n\nNasciment
 o: 05 de novembro de 1837 d.C. em Goch, na Baixa Renânia, Alemanha\nMorte: 
 15 de janeiro de 1909 d.C.\n\nCuriosidade: Foi canonizado por João Paulo II
  a 05 de outubro de 2003.\n\n
DTSTAMP:20260424T035333Z
DTSTART;TZID=Europe/Lisbon;VALUE=DATE:20140114
DTEND;TZID=Europe/Lisbon;VALUE=DATE:20140115
SEQUENCE:0
RRULE:FREQ=YEARLY;COUNT=100;INTERVAL=1;BYYEARDAY=+14
TRANSP:OPAQUE
END:VEVENT
END:VCALENDAR