BEGIN:VCALENDAR
VERSION:2.0
PRODID:-//jEvents 2.0 for Joomla//EN
CALSCALE:GREGORIAN
METHOD:PUBLISH
BEGIN:VTIMEZONE
TZID:Europe/Lisbon
BEGIN:STANDARD
DTSTART:20151121T000000
RDATE:20160327T020000
TZOFFSETFROM:+0100
TZOFFSETTO:+0000
TZNAME:Europe/Lisbon WET
END:STANDARD
BEGIN:STANDARD
DTSTART:20161030T010000
RDATE:20170326T020000
TZOFFSETFROM:+0100
TZOFFSETTO:+0000
TZNAME:Europe/Lisbon WET
END:STANDARD
BEGIN:STANDARD
DTSTART:20171029T010000
RDATE:20180325T020000
TZOFFSETFROM:+0100
TZOFFSETTO:+0000
TZNAME:Europe/Lisbon WET
END:STANDARD
BEGIN:STANDARD
DTSTART:20181028T010000
RDATE:20190331T020000
TZOFFSETFROM:+0100
TZOFFSETTO:+0000
TZNAME:Europe/Lisbon WET
END:STANDARD
BEGIN:STANDARD
DTSTART:20191027T010000
RDATE:20200329T020000
TZOFFSETFROM:+0100
TZOFFSETTO:+0000
TZNAME:Europe/Lisbon WET
END:STANDARD
BEGIN:STANDARD
DTSTART:20201025T010000
RDATE:20210328T020000
TZOFFSETFROM:+0100
TZOFFSETTO:+0000
TZNAME:Europe/Lisbon WET
END:STANDARD
BEGIN:DAYLIGHT
DTSTART:20160327T020000
RDATE:20161030T010000
TZOFFSETFROM:+0000
TZOFFSETTO:+0100
TZNAME:Europe/Lisbon WEST
END:DAYLIGHT
BEGIN:DAYLIGHT
DTSTART:20170326T020000
RDATE:20171029T010000
TZOFFSETFROM:+0000
TZOFFSETTO:+0100
TZNAME:Europe/Lisbon WEST
END:DAYLIGHT
BEGIN:DAYLIGHT
DTSTART:20180325T020000
RDATE:20181028T010000
TZOFFSETFROM:+0000
TZOFFSETTO:+0100
TZNAME:Europe/Lisbon WEST
END:DAYLIGHT
BEGIN:DAYLIGHT
DTSTART:20190331T020000
RDATE:20191027T010000
TZOFFSETFROM:+0000
TZOFFSETTO:+0100
TZNAME:Europe/Lisbon WEST
END:DAYLIGHT
BEGIN:DAYLIGHT
DTSTART:20200329T020000
RDATE:20201025T010000
TZOFFSETFROM:+0000
TZOFFSETTO:+0100
TZNAME:Europe/Lisbon WEST
END:DAYLIGHT
END:VTIMEZONE
BEGIN:VEVENT
UID:2375d245b1762b4bb96b9e827e305976
CATEGORIES:Santos
SUMMARY:Apresentação de Nossa Senhora
DESCRIPTION;ENCODING=QUOTED-PRINTABLE:\n\n\nA Apresentação da Virgem Maria (no ocidente) ou A Entrada da Mais Sag
 rada Thetokos no Templo (no oriente) são nomes de uma festa litúrgica celeb
 rada pela Igreja Católica, inclusive as de tradição oriental, e pela Igreja
  Ortodoxa.\nA festa está associada com um evento que não está relatado no N
 ovo Testamento, mas no apócrifo Evangelho de Tiago (Evangelho não reconheci
 do). De acordo com o relato, os pais da Virgem Maria, Joaquim e Ana, que nã
 o podiam ter filhos, receberam uma mensagem de que teriam um filho. Como ag
 radecimento pela graça da filha que lhes veio, eles a levaram ainda pequena
  para o Templo em Jerusalém para consagrá-la a Deus. Versões posteriores da
  história (como no Evangelho de Pseudo-Mateus e no Evangelho da Natividade 
 de Maria) contam-nos que Maria foi levada para o Templo com cerca de três a
 nos de idade para cumprir uma promessa. A tradição conta que ela permaneceu
  ali para se preparar para o seu futuro papel como Mãe de Deus (Theotokos e
 m grego).\n \nO relato da apresentação da Virgem Maria no Templo baseia-se 
 principalmente no Evangelho de Tiago, que tem sido datado pelos historiador
 es por volta de 200 d.C. A história relata que para agradecer o nascimento 
 da filha Maria, Joaquim e Ana decidiram consagrá-la a Deus e a levaram, aos
  três anos, para o Templo em Jerusalém. A apresentação de Maria traça paral
 elos com a do profeta Samuel.\nMaria permaneceu no Templo até os doze anos,
  quando foi confiada a José, seu novo guardião. De acordo com a tradição co
 pta, Joaquim morreu quando Maria tinha seis anos de idade e sua mãe, quando
  ela tinha oito. Ainda que sem nenhum fundamento histórico, a tradição serv
 e para demonstrar que Maria, mesmo na infância, já estava completamente ded
 icada a Deus. É deste relato que que surgiu a festa da Apresentação de Mari
 a.\nPara a Igreja Católica, no dia da Apresentação de Maria, "nós celebramo
 s a dedicação de si própria que Maria fez a Deus desde a sua tenra infância
  sob a inspiração do Espírito Santo, que preencheu-a com sua graça..."(Litu
 rgia dos Horas prevista para o dia 21 de Novembro). O Papa Paulo VI, em sua
  encíclica de 1974, Marialis Cultus, escreveu que "apesar de seu conteúdo a
 pócrifo, [a história da Apresentação] apresenta elevados e exemplares valor
 es e avança veneráveis tradições de origem nas igrejas orientais".\n
DTSTAMP:20260422T110847Z
DTSTART;TZID=Europe/Lisbon;VALUE=DATE:20161121
DTEND;TZID=Europe/Lisbon;VALUE=DATE:20161122
SEQUENCE:0
RRULE:FREQ=YEARLY;COUNT=100;INTERVAL=1;BYYEARDAY=-41
TRANSP:OPAQUE
END:VEVENT
END:VCALENDAR