BEGIN:VCALENDAR
VERSION:2.0
PRODID:-//jEvents 2.0 for Joomla//EN
CALSCALE:GREGORIAN
METHOD:PUBLISH
BEGIN:VTIMEZONE
TZID:Europe/Lisbon
BEGIN:STANDARD
DTSTART:20161118T000000
RDATE:20170326T020000
TZOFFSETFROM:+0100
TZOFFSETTO:+0000
TZNAME:Europe/Lisbon WET
END:STANDARD
BEGIN:STANDARD
DTSTART:20171029T010000
RDATE:20180325T020000
TZOFFSETFROM:+0100
TZOFFSETTO:+0000
TZNAME:Europe/Lisbon WET
END:STANDARD
BEGIN:STANDARD
DTSTART:20181028T010000
RDATE:20190331T020000
TZOFFSETFROM:+0100
TZOFFSETTO:+0000
TZNAME:Europe/Lisbon WET
END:STANDARD
BEGIN:STANDARD
DTSTART:20191027T010000
RDATE:20200329T020000
TZOFFSETFROM:+0100
TZOFFSETTO:+0000
TZNAME:Europe/Lisbon WET
END:STANDARD
BEGIN:STANDARD
DTSTART:20201025T010000
RDATE:20210328T020000
TZOFFSETFROM:+0100
TZOFFSETTO:+0000
TZNAME:Europe/Lisbon WET
END:STANDARD
BEGIN:DAYLIGHT
DTSTART:20170326T020000
RDATE:20171029T010000
TZOFFSETFROM:+0000
TZOFFSETTO:+0100
TZNAME:Europe/Lisbon WEST
END:DAYLIGHT
BEGIN:DAYLIGHT
DTSTART:20180325T020000
RDATE:20181028T010000
TZOFFSETFROM:+0000
TZOFFSETTO:+0100
TZNAME:Europe/Lisbon WEST
END:DAYLIGHT
BEGIN:DAYLIGHT
DTSTART:20190331T020000
RDATE:20191027T010000
TZOFFSETFROM:+0000
TZOFFSETTO:+0100
TZNAME:Europe/Lisbon WEST
END:DAYLIGHT
BEGIN:DAYLIGHT
DTSTART:20200329T020000
RDATE:20201025T010000
TZOFFSETFROM:+0000
TZOFFSETTO:+0100
TZNAME:Europe/Lisbon WEST
END:DAYLIGHT
END:VTIMEZONE
BEGIN:VEVENT
UID:4de5f141a417513adcf3702f5489b9d3
CATEGORIES:Santos
SUMMARY:São Roque Gonzáles e Companheiros
DESCRIPTION;ENCODING=QUOTED-PRINTABLE:\n\n\nSão Roque González também é conhecido como Roque González de Santa Cr
 uz, nasceu em 16 de Agosto de 1576 em Assunção (Paraguai) e faleceu a 15 de
  Novembro de 1628 na cidade de Caibaté, no Brasil.\nSão Roque era filho de 
 Bartolomé González de Villaverde e María Santa Cruz. Tinha sete irmãos: um 
 deles, Pedro, se tornou sacedorte; Gabriel, o mais novo, foi estudar num Se
 minário no Peru; outro irmão, chamado de Francisco, casou-se com uma filha 
 de Hernandarias e foi assistente do governador em mais de uma ocasião.\nEm 
 1598, com 22 anos, São Roque González foi ordenado sacerdote. A vocação de 
 S. Roque era trabalhar na evangelização dos povos nativos, mas cumprindo as
  ordens do Bispo Martín Ignácio de Loyola exerceu os primeiros nove anos de
  sacerdócio em Assunção.\nEm 9 de Maio de 1609, S. Roque González ingressou
  na Companhia de Jesus.\nJuntamente aos padres Afonso Rodrigues e João de C
 astilho (ou Juan del Castillo na sua forma castelhana original), São Roque 
 González foi um dos primeiros evangelizadores nas terras do Sul do Brasil, 
 isto é, no território atualmente pertencente ao Rio Grande do Sul, Brasil. 
 Ele foi um homem católico dedicado à ordem dos Jesuítas e exerceu seu traba
 lho missionário junto aos povos guaranis, no noroeste daquele estado brasil
 eiro.\nMais tarde o padre Roque González fundou numerosas comunidades crist
 ãs, chamadas Missões ou Reduções, entre elas as aldeias de São Nicolau, Ass
 unção e Todos os Santos do Caaró.\nDepois de dois anos e meio de intenso tr
 abalho missionário, os padres Roque González e Afonso Rodrigues foram morto
 s em Caaró por um grupo de nativos contrários à evangelização cristã, lider
 ados pelo pajé cacique Nheçu, um líder guarani que possuia autoridade máxim
 a na região do atual município de Roque Gonzales, Rio Grande do Sul, e redo
 ndezas.\nDiz-se que os indígenas que o interceptaram teriam descarregado na
  cabeça de padre Roque González uma pancada com um machado de pedra ("itaiz
 á") que o deixara morto e, depois, foi despido de suas vestes litúrgicas. E
 m seguida, eles teriam matado o padre Afonso Rodrigues, queimando os cadáve
 res. O coração de Roque González foi arrancado do peito e trespassado por u
 ma flecha. Dois dias depois, teria chegado a vez do padre João de Castilho 
 em uma aldeia vizinha, ser torturado até à morte. Um homem nativo, ainda ca
 tecúmeno, que se encontrava presente e que se opôs aos assassinatos, também
  foi trucidado junto aos missionários em Caaró. Ele é conhecido como o Caci
 que Adauto. Existem pessoas que acreditam que ele também, futuramente, pode
 ria ter seu nome acrescentado aos nomes dos três mártires canonizados, poré
 m, não existem quaisquer indicadores ou mesmo probabilidades para que isso 
 venha a ocorrer um dia, dadas as extensivas complexas forças e tradições en
 volvidas.\nOs missionários mártires foram canonizados pelo Papa João Paulo 
 II a 16 de Maio de 1988. \n
DTSTAMP:20260423T073608Z
DTSTART;TZID=Europe/Lisbon;VALUE=DATE:20171119
DTEND;TZID=Europe/Lisbon;VALUE=DATE:20171120
SEQUENCE:0
RRULE:FREQ=YEARLY;COUNT=100;INTERVAL=1;BYYEARDAY=-43
TRANSP:OPAQUE
END:VEVENT
END:VCALENDAR