BEGIN:VCALENDAR
VERSION:2.0
PRODID:-//jEvents 2.0 for Joomla//EN
CALSCALE:GREGORIAN
METHOD:PUBLISH
BEGIN:VTIMEZONE
TZID:Europe/Lisbon
BEGIN:STANDARD
DTSTART:20161117T000000
RDATE:20170326T020000
TZOFFSETFROM:+0100
TZOFFSETTO:+0000
TZNAME:Europe/Lisbon WET
END:STANDARD
BEGIN:STANDARD
DTSTART:20171029T010000
RDATE:20180325T020000
TZOFFSETFROM:+0100
TZOFFSETTO:+0000
TZNAME:Europe/Lisbon WET
END:STANDARD
BEGIN:STANDARD
DTSTART:20181028T010000
RDATE:20190331T020000
TZOFFSETFROM:+0100
TZOFFSETTO:+0000
TZNAME:Europe/Lisbon WET
END:STANDARD
BEGIN:STANDARD
DTSTART:20191027T010000
RDATE:20200329T020000
TZOFFSETFROM:+0100
TZOFFSETTO:+0000
TZNAME:Europe/Lisbon WET
END:STANDARD
BEGIN:STANDARD
DTSTART:20201025T010000
RDATE:20210328T020000
TZOFFSETFROM:+0100
TZOFFSETTO:+0000
TZNAME:Europe/Lisbon WET
END:STANDARD
BEGIN:DAYLIGHT
DTSTART:20170326T020000
RDATE:20171029T010000
TZOFFSETFROM:+0000
TZOFFSETTO:+0100
TZNAME:Europe/Lisbon WEST
END:DAYLIGHT
BEGIN:DAYLIGHT
DTSTART:20180325T020000
RDATE:20181028T010000
TZOFFSETFROM:+0000
TZOFFSETTO:+0100
TZNAME:Europe/Lisbon WEST
END:DAYLIGHT
BEGIN:DAYLIGHT
DTSTART:20190331T020000
RDATE:20191027T010000
TZOFFSETFROM:+0000
TZOFFSETTO:+0100
TZNAME:Europe/Lisbon WEST
END:DAYLIGHT
BEGIN:DAYLIGHT
DTSTART:20200329T020000
RDATE:20201025T010000
TZOFFSETFROM:+0000
TZOFFSETTO:+0100
TZNAME:Europe/Lisbon WEST
END:DAYLIGHT
END:VTIMEZONE
BEGIN:VEVENT
UID:4cf068b447b4ec991ef1d62d15da09cf
CATEGORIES:Santos
SUMMARY:Beata Gabriela e Companheiras
DESCRIPTION;ENCODING=QUOTED-PRINTABLE:\n\n\nMaria Gabriela Hinojosa Naveros, (1872) e as seis religiosas da Visit
 ação de Santa Maria : Josefa M. Barrera Izaguirre (1881), Teresa M.  Cavest
 any y Anduaga (1888), Maria Ângela Olaizola Garagarza (1893), Maria Engraci
 a Lecuona Aramburu (1897), Maria Inés Zudaire Galdeano (1900), e Maria Cecí
 lia Cendoya Araquistain (1910), morreram assassinadas em Madrid, em Novembr
 o de 1936.\nTodas tiveram como berço um ambiente familiar profundamente cri
 stão, onde receberam verdadeira formação religiosa que as preparou para a v
 ida de consagração total a Deus. Eram religiosas do Mosteiro da Visitação e
 m Madrid, e enquanto as Religiosas da comunidade se tinham transferido para
  Oronoz por causa da revolução espanhola, estas 7 Irmãs permaneceram ali pa
 ra guardar a igreja do Mosteiro, mas depois, devido à perseguição, transfer
 iram-se para um pequeno apartamento sob a direção da Irmã Maria Gabriela, u
 ma verdadeira e forte Visitandina capaz de sustentar a moral, a coragem, a 
 esperança e a fé das outras Irmãs.\nGeralmente eram bem vistas pelos seus v
 izinhos, mas duas pessoas denunciaram-nas por ódio à religião: começou entã
 o um período de angústia e de apreensão para as irmãs. No dia 18 de Novembr
 o de 1936 uma patrulha da FAI (Federação Anarquista Ibérica) irrompe no apa
 rtamento onde elas se encontravam e leva-as prisioneiras. O camião que as t
 ransporta detém-se a poucos quilómetros daquele local, e em seguida os mili
 cianos executam-nas com alguns tiros. A Irmã Maria Cecília, a única que esc
 apara àquele terrível morticínio, entregou-se cinco dias depois aos milicia
 nos, que também a fuzilaram.\n
DTSTAMP:20260423T073441Z
DTSTART;TZID=Europe/Lisbon;VALUE=DATE:20171118
DTEND;TZID=Europe/Lisbon;VALUE=DATE:20171119
SEQUENCE:0
RRULE:FREQ=YEARLY;COUNT=100;INTERVAL=1;BYYEARDAY=-44
TRANSP:OPAQUE
END:VEVENT
END:VCALENDAR