BEGIN:VCALENDAR
VERSION:2.0
PRODID:-//jEvents 2.0 for Joomla//EN
CALSCALE:GREGORIAN
METHOD:PUBLISH
BEGIN:VTIMEZONE
TZID:Europe/Lisbon
BEGIN:STANDARD
DTSTART:20161117T000000
RDATE:20170326T020000
TZOFFSETFROM:+0100
TZOFFSETTO:+0000
TZNAME:Europe/Lisbon WET
END:STANDARD
BEGIN:STANDARD
DTSTART:20171029T010000
RDATE:20180325T020000
TZOFFSETFROM:+0100
TZOFFSETTO:+0000
TZNAME:Europe/Lisbon WET
END:STANDARD
BEGIN:STANDARD
DTSTART:20181028T010000
RDATE:20190331T020000
TZOFFSETFROM:+0100
TZOFFSETTO:+0000
TZNAME:Europe/Lisbon WET
END:STANDARD
BEGIN:STANDARD
DTSTART:20191027T010000
RDATE:20200329T020000
TZOFFSETFROM:+0100
TZOFFSETTO:+0000
TZNAME:Europe/Lisbon WET
END:STANDARD
BEGIN:STANDARD
DTSTART:20201025T010000
RDATE:20210328T020000
TZOFFSETFROM:+0100
TZOFFSETTO:+0000
TZNAME:Europe/Lisbon WET
END:STANDARD
BEGIN:DAYLIGHT
DTSTART:20170326T020000
RDATE:20171029T010000
TZOFFSETFROM:+0000
TZOFFSETTO:+0100
TZNAME:Europe/Lisbon WEST
END:DAYLIGHT
BEGIN:DAYLIGHT
DTSTART:20180325T020000
RDATE:20181028T010000
TZOFFSETFROM:+0000
TZOFFSETTO:+0100
TZNAME:Europe/Lisbon WEST
END:DAYLIGHT
BEGIN:DAYLIGHT
DTSTART:20190331T020000
RDATE:20191027T010000
TZOFFSETFROM:+0000
TZOFFSETTO:+0100
TZNAME:Europe/Lisbon WEST
END:DAYLIGHT
BEGIN:DAYLIGHT
DTSTART:20200329T020000
RDATE:20201025T010000
TZOFFSETFROM:+0000
TZOFFSETTO:+0100
TZNAME:Europe/Lisbon WEST
END:DAYLIGHT
END:VTIMEZONE
BEGIN:VEVENT
UID:6543a0a5f6550c34c2e32a8d915623a8
CATEGORIES:Santos
SUMMARY:Beata Salomé de Cracóvia
DESCRIPTION;ENCODING=QUOTED-PRINTABLE:\n\n\nBeata Salomé de Cracóvia, nasceu em Cracóvia, na Polónia no ano de 12
 11 e faleceu a 17 de Novembro de 1268 em Cracóvia.\nConforme os costumes da
  época, Beata Salomé aos três anos de idade foi prometida como esposa a um 
 príncipe de seis anos, Colomano, filhos do rei da Hungria. Com a autorizaçã
 o do Papa Inocêncio III, a cerimônia da coroação teve lugar no Outono desse
  mesmo ano, e foi presidida pelo bispo de Strigônia. A partir desse dia as 
 duas crianças passaram a reinar o País. No entanto, o reinado das duas cria
 nças durou menos de três anos, porque um outro príncipe se insurgiu contra 
 eles e os fez prisioneiros. Nessa altura, contando Salomé com 9 anos e Colo
 mano 12, ambos de comum acordo fizeram voto de castidade. Quando André, fil
 ho do rei da Hungria, destituiu o usurpador e repôs a normalidade da situaç
 ão, puderam ambos regressar à corte húngara.\nAo completar de 16 anos e ati
 ngir a maioridade, Beata Salomé considerou-se sempre ligada ao voto de cast
 idade que fizera, e sabendo que a sua beleza poderia seduzir os homens, pro
 curava evitá-los, usava roupas modestas e recusava-se a tomar parte nas fes
 tas e diversões mundanas da corte, dedicando à oração o tempo que dessa for
 ma poupava.\nColomano, ainda em vida do pai, governou a Dalmácia e a Eslové
 nia até morrer até morrer em 1241 numa batalha contra os Tártaros. Entretan
 to Salomé protegia e ajudava os conventos dos franciscanos e dominicanos. U
 m ano depois da morte do marido, Beata Salomé regressou à Polónia, onde em 
 1245 vestiu o hábito das irmãs clarissas. Nesse mesmo ano, associada ao seu
  irmão Boleslau, fundou uma igreja e respectivo convento para os franciscan
 os, e para as clarissas um hospital e um mosteiro onde ela mesma se enclaus
 urou.\nPerante a ameaça dos Tártaros, em Março de 1259 parte das clarissas 
 transferiu-se para Skala, onde Salomé fundou novo mosteiro que dotou com al
 faias de culto e ornamentos litúrgicos. Durante 28 anos viveu no silêncio e
  recolhimento do mosteiro, onde foi modelo de penitência, abnegação, humild
 ade, inocência e caridade. Por muitos anos foi uma abadessa bondosa, afável
 , serviçal, apaixonada pelo ideal da pobreza seráfica.\nFaleceu a 17 de Nov
 embro de 1268 depois duma aparição da Virgem Santíssima e de seu Filho Jesu
 s Cristo. Depois da aparição e percebendo do que se tratava reuniu as irmãs
 , exortou-as à mútua caridade, à paz, à pureza de coração, à obediência sem
  limites e ao desprendimento das coisas do mundo. Pouco depois as irmãs vir
 am uma espécie de pequena estrela a formar-se sobre ela e a subir ao céu.\n
 Foi beatificada pelo Papa Clemente X a 17 de Maio de 1672.\n
DTSTAMP:20260422T013754Z
DTSTART;TZID=Europe/Lisbon;VALUE=DATE:20171118
DTEND;TZID=Europe/Lisbon;VALUE=DATE:20171119
SEQUENCE:0
RRULE:FREQ=YEARLY;COUNT=100;INTERVAL=1;BYYEARDAY=-44
TRANSP:OPAQUE
END:VEVENT
END:VCALENDAR