BEGIN:VCALENDAR
VERSION:2.0
PRODID:-//jEvents 2.0 for Joomla//EN
CALSCALE:GREGORIAN
METHOD:PUBLISH
BEGIN:VTIMEZONE
TZID:Europe/Lisbon
BEGIN:STANDARD
DTSTART:20161117T000000
RDATE:20170326T020000
TZOFFSETFROM:+0100
TZOFFSETTO:+0000
TZNAME:Europe/Lisbon WET
END:STANDARD
BEGIN:STANDARD
DTSTART:20171029T010000
RDATE:20180325T020000
TZOFFSETFROM:+0100
TZOFFSETTO:+0000
TZNAME:Europe/Lisbon WET
END:STANDARD
BEGIN:STANDARD
DTSTART:20181028T010000
RDATE:20190331T020000
TZOFFSETFROM:+0100
TZOFFSETTO:+0000
TZNAME:Europe/Lisbon WET
END:STANDARD
BEGIN:STANDARD
DTSTART:20191027T010000
RDATE:20200329T020000
TZOFFSETFROM:+0100
TZOFFSETTO:+0000
TZNAME:Europe/Lisbon WET
END:STANDARD
BEGIN:STANDARD
DTSTART:20201025T010000
RDATE:20210328T020000
TZOFFSETFROM:+0100
TZOFFSETTO:+0000
TZNAME:Europe/Lisbon WET
END:STANDARD
BEGIN:DAYLIGHT
DTSTART:20170326T020000
RDATE:20171029T010000
TZOFFSETFROM:+0000
TZOFFSETTO:+0100
TZNAME:Europe/Lisbon WEST
END:DAYLIGHT
BEGIN:DAYLIGHT
DTSTART:20180325T020000
RDATE:20181028T010000
TZOFFSETFROM:+0000
TZOFFSETTO:+0100
TZNAME:Europe/Lisbon WEST
END:DAYLIGHT
BEGIN:DAYLIGHT
DTSTART:20190331T020000
RDATE:20191027T010000
TZOFFSETFROM:+0000
TZOFFSETTO:+0100
TZNAME:Europe/Lisbon WEST
END:DAYLIGHT
BEGIN:DAYLIGHT
DTSTART:20200329T020000
RDATE:20201025T010000
TZOFFSETFROM:+0000
TZOFFSETTO:+0100
TZNAME:Europe/Lisbon WEST
END:DAYLIGHT
END:VTIMEZONE
BEGIN:VEVENT
UID:ca52b00d3bcbc410dcbc9607db9c7df8
CATEGORIES:Santos
SUMMARY:Dedicação das Basílicas de São Pedro e São Paulo
DESCRIPTION;ENCODING=QUOTED-PRINTABLE:\n\n\nHoje a Igreja celebra a dedicação das Basílicas dos Apóstolos São Ped
 ro e São Paulo, templos em Roma que contêm os restos destes dois grandes ap
 óstolos do cristianismo e símbolos da fraternidade e da unidade da Igreja.\
 nA Basílica de São Pedro no Vaticano foi construída sobre o túmulo do Apóst
 olo, que morreu crucificado de cabeça para baixo. No ano 323 o imperador Co
 nstantino mandou construir aí a Basílica dedicada àquele que foi o primeiro
  Papa da Igreja.\nA atual Basílica de São Pedro demorou 170 anos para ser c
 onstruída. Começou com o Papa Nicolau V em 1454 e foi terminada pelo Papa U
 rbano VIII, que a consagrou no dia 18 de Novembro de 1626, data que coincid
 e com a consagração da antiga Basílica.\nFamosos artistas como Bramante, Ra
 fael, Michelângelo e Bernini, trabalharam na Basílica de S. Pedro, nela pla
 smando o melhor de sua arte.\nA Basílica de São Pedro mede 212 metros de co
 mprimento, 140 de largura e 133 metros de altura na sua cúpula. Não há nenh
 um templo no mundo que tenha tamanha extensão.\n \nA Basílica de São Paulo 
 Fora dos Muros é, depois de São Pedro, o maior templo de Roma. Surgiu també
 m por vontade de Constantino. Em 1823 foi destruída, quase completamente, p
 or um terrível incêndio. Leão XIII iniciou a sua reconstrução e foi consagr
 ada em 10 de Dezembro de 1854 pelo Papa Pio IX.\nUm dado interessante é que
  sob as janelas da nave central e das naves laterais, em mosaico, encontram
 -se os retratos de todos os Papas desde São Pedro até ao atual.\n
DTSTAMP:20260422T112804Z
DTSTART;TZID=Europe/Lisbon;VALUE=DATE:20171118
DTEND;TZID=Europe/Lisbon;VALUE=DATE:20171119
SEQUENCE:0
RRULE:FREQ=YEARLY;COUNT=100;INTERVAL=1;BYYEARDAY=-44
TRANSP:OPAQUE
END:VEVENT
END:VCALENDAR