BEGIN:VCALENDAR
VERSION:2.0
PRODID:-//jEvents 2.0 for Joomla//EN
CALSCALE:GREGORIAN
METHOD:PUBLISH
BEGIN:VTIMEZONE
TZID:Europe/Lisbon
BEGIN:STANDARD
DTSTART:20161111T000000
RDATE:20170326T020000
TZOFFSETFROM:+0100
TZOFFSETTO:+0000
TZNAME:Europe/Lisbon WET
END:STANDARD
BEGIN:STANDARD
DTSTART:20171029T010000
RDATE:20180325T020000
TZOFFSETFROM:+0100
TZOFFSETTO:+0000
TZNAME:Europe/Lisbon WET
END:STANDARD
BEGIN:STANDARD
DTSTART:20181028T010000
RDATE:20190331T020000
TZOFFSETFROM:+0100
TZOFFSETTO:+0000
TZNAME:Europe/Lisbon WET
END:STANDARD
BEGIN:STANDARD
DTSTART:20191027T010000
RDATE:20200329T020000
TZOFFSETFROM:+0100
TZOFFSETTO:+0000
TZNAME:Europe/Lisbon WET
END:STANDARD
BEGIN:STANDARD
DTSTART:20201025T010000
RDATE:20210328T020000
TZOFFSETFROM:+0100
TZOFFSETTO:+0000
TZNAME:Europe/Lisbon WET
END:STANDARD
BEGIN:DAYLIGHT
DTSTART:20170326T020000
RDATE:20171029T010000
TZOFFSETFROM:+0000
TZOFFSETTO:+0100
TZNAME:Europe/Lisbon WEST
END:DAYLIGHT
BEGIN:DAYLIGHT
DTSTART:20180325T020000
RDATE:20181028T010000
TZOFFSETFROM:+0000
TZOFFSETTO:+0100
TZNAME:Europe/Lisbon WEST
END:DAYLIGHT
BEGIN:DAYLIGHT
DTSTART:20190331T020000
RDATE:20191027T010000
TZOFFSETFROM:+0000
TZOFFSETTO:+0100
TZNAME:Europe/Lisbon WEST
END:DAYLIGHT
BEGIN:DAYLIGHT
DTSTART:20200329T020000
RDATE:20201025T010000
TZOFFSETFROM:+0000
TZOFFSETTO:+0100
TZNAME:Europe/Lisbon WEST
END:DAYLIGHT
END:VTIMEZONE
BEGIN:VEVENT
UID:4d8456bbfff8f3ace39f3c6fa453b281
CATEGORIES:Santos
SUMMARY:São Teodoro Studita
DESCRIPTION;ENCODING=QUOTED-PRINTABLE:\n\n\nSão Teodoro Studita, também chamado de Teodoro de Estúdio, foi um mon
 ge bizantino e abade do Mosteiro de Estúdio em Constantinopla.\nNasceu em 7
 59 na cidade de Constantinopla, filho de Fotino, um importante oficial de f
 inanças na burocracia financeira do palácio. Era sobrinho de Platão (padre 
 ordenado em 759, que vivia como um monge no Mosteiro de Símbola, na Bitínia
 , Turquia), também um oficial de alta patente na burocracia financeira do p
 alácio, o que fazia com que a família de Teodoro Studita controlasse uma pa
 rte significativa da administração financeira do império durante o reinado 
 do imperador Constantino V Coprônimo. Teodoro tinha um irmão e uma irmã.\nT
 eodoro, seu pai e seus irmãos viajaram para a Bitínia com Platão em 781, on
 de eles começaram a transformar a propriedade da família numa instituição r
 eligiosa, que se tornou conhecida como Mosteiro de Sacúdio. Platão tornou-s
 e o abade da nova instituição e Teodoro era o seu "braço direito". Os dois 
 modelaram as regras de acordo com a obra de Basílio de Cesareia.\nEm 794, T
 eodoro tornou-se o abade de Sacúdio, quando seu tio Platão se retirou da op
 eração diária do mosteiro e se dedicou ao silêncio.\nTeodoro teve um papel 
 preponderante no renascimento tanto do monasticismo bizantino\nquanto dos g
 êneros literários clássicos no Império. Além disso, ficou conhecido como um
  feroz adversário do Iconoclasma, um dos diversos conflitos que o colocaram
  contra o imperador e o patriarca de Constantinopla.\nS. Teodoro Studita fa
 leceu em 11 de novembro de 826, celebrando a missa, aparentemente no Mostei
 ro de São Trifão, no Cabo Ácritas, na Bitínia. Dezoito anos depois seus res
 tos mortais, juntamente com os de seu irmão José de Tessalônica, foram traz
 idos de volta para o Mosteiro de Estúdio e enterrados ao lado dos de seu ti
 o Platão.\n
DTSTAMP:20260423T191230Z
DTSTART;TZID=Europe/Lisbon;VALUE=DATE:20171112
DTEND;TZID=Europe/Lisbon;VALUE=DATE:20171113
SEQUENCE:0
RRULE:FREQ=YEARLY;COUNT=100;INTERVAL=1;BYYEARDAY=-50
TRANSP:OPAQUE
END:VEVENT
END:VCALENDAR