BEGIN:VCALENDAR
VERSION:2.0
PRODID:-//jEvents 2.0 for Joomla//EN
CALSCALE:GREGORIAN
METHOD:PUBLISH
BEGIN:VTIMEZONE
TZID:Europe/Lisbon
BEGIN:STANDARD
DTSTART:20161111T000000
RDATE:20170326T020000
TZOFFSETFROM:+0100
TZOFFSETTO:+0000
TZNAME:Europe/Lisbon WET
END:STANDARD
BEGIN:STANDARD
DTSTART:20171029T010000
RDATE:20180325T020000
TZOFFSETFROM:+0100
TZOFFSETTO:+0000
TZNAME:Europe/Lisbon WET
END:STANDARD
BEGIN:STANDARD
DTSTART:20181028T010000
RDATE:20190331T020000
TZOFFSETFROM:+0100
TZOFFSETTO:+0000
TZNAME:Europe/Lisbon WET
END:STANDARD
BEGIN:STANDARD
DTSTART:20191027T010000
RDATE:20200329T020000
TZOFFSETFROM:+0100
TZOFFSETTO:+0000
TZNAME:Europe/Lisbon WET
END:STANDARD
BEGIN:STANDARD
DTSTART:20201025T010000
RDATE:20210328T020000
TZOFFSETFROM:+0100
TZOFFSETTO:+0000
TZNAME:Europe/Lisbon WET
END:STANDARD
BEGIN:DAYLIGHT
DTSTART:20170326T020000
RDATE:20171029T010000
TZOFFSETFROM:+0000
TZOFFSETTO:+0100
TZNAME:Europe/Lisbon WEST
END:DAYLIGHT
BEGIN:DAYLIGHT
DTSTART:20180325T020000
RDATE:20181028T010000
TZOFFSETFROM:+0000
TZOFFSETTO:+0100
TZNAME:Europe/Lisbon WEST
END:DAYLIGHT
BEGIN:DAYLIGHT
DTSTART:20190331T020000
RDATE:20191027T010000
TZOFFSETFROM:+0000
TZOFFSETTO:+0100
TZNAME:Europe/Lisbon WEST
END:DAYLIGHT
BEGIN:DAYLIGHT
DTSTART:20200329T020000
RDATE:20201025T010000
TZOFFSETFROM:+0000
TZOFFSETTO:+0100
TZNAME:Europe/Lisbon WEST
END:DAYLIGHT
END:VTIMEZONE
BEGIN:VEVENT
UID:363b1c776171f0ccf539c81a52bb419d
CATEGORIES:Santos
SUMMARY:São Josafat
DESCRIPTION;ENCODING=QUOTED-PRINTABLE: O santo mártir Josafat Kuntzevitch, nasceu na Ucrânia no ano de 1580. Filh
 o de pais ortodoxos, Gabriel e Maria Kuntzevitch. Desde muito pequeno viveu
 , S. Josafat uma vida santa, através da Divina Liturgia e da Liturgia das H
 oras. Aos vinte anos, Josafat tornou-se monge na Ordem de São Basílio, rece
 bendo o nome de Josafat. Em pouco tempo, era nomeado superior do convento e
 , logo depois, arquimandrita (sacerdote celibatário ortodoxo digno de honra
  pelos seus serviços) de Polock. Com apenas trinta e sete anos, assumiu, em
 bora a contragosto, o arcebispado de Polock.\nEm busca da verdade, S. Josaf
 at voltou-se para a comunhão com a Igreja Católica. Josafat não foi o único
 . Como ele, em 1596, bispos ucranianos e bielorrussos da jurisdição do Metr
 opolita de Kiev decidiram confirmar sua união com a Sé Apostólica de Roma a
 través do &ldquo;Tratado de Brest&rdquo;. Estes povos viram a Igreja Romana
  como a única mãe de toda a comunidade cristã, prestando a ela a devida obe
 diência e veneração. Com frequência, a história de São Josafat confunde-se 
 com a história do Tratado de Brest.\n São Josafat mártir pela união das Igr
 ejas; reformador da Ordem de São Basílio Magno, é o ícone dos religiosos e 
 padroeiro do ecumenismo.\nDizem os escritos antigos que a brilhante carreir
 a era plenamente justificada pelos seus dotes intelectuais e, principalment
 e, pelo exemplo de suas virtudes, obediência total à disciplina monástica e
  à prática da caridade. Exemplo disso foi quando, certa vez, sem ter como a
 judar uma viúva que passava necessidades, penhorou o pálio de bispo para co
 nseguir dinheiro e socorrê-la.\nSão Josafat destaca-se como a estrela da sa
 ntidade, homem de oração e do silêncio. Nestes fundamentos ele reforma a Or
 dem de São Basílio Magno em companhia de João Velhamen Rutskyj (1607-1623).
  Oferece a sua vida em sacrifício pela unidade da Igreja de Cristo.\nO amor
  a Deus levou Josafat para uma profunda e viva oração, união com irmãos com
  Deus. Por esse motivo a Igreja lhe deu o título de: São Josafat, mártir pe
 la união das Igreja e o reformador da Ordem de São Basílio Magno.\nSingular
 mente uma figura perfeita de bispo e um exemplar promotor e legislador da v
 ida monástica Josafat tornou-se arcebispo de Polock e Vitebsk, foi afamado 
 pela santidade de sua vida e pelo seu zelo apostólico, sendo um intrépido d
 efensor da unidade. Por esta unidade, Josafat lutou toda a sua vida e també
 m por ela morreu como mártir.\nJosafat foi perseguido com ódio e com planos
  sanguinários pelos ortodoxos, que eram contra a reunificação da Igreja com
  a Sé Apostólica de Roma. Em 12 de novembro de 1623, foi ferido e cruelment
 e assassinado quando se dirigia para a celebração da liturgia das horas e d
 epois à Divina Liturgia.\nFoi o primeiro santo da igreja do oriente a ser c
 anonizado.\nO Papa Pio XI declarou São Josafat o padroeiro da união entre o
 rtodoxos e católicos em 12 de novembro de 1923, data do terceiro centenário
  de seu martírio.\n
DTSTAMP:20260423T064617Z
DTSTART;TZID=Europe/Lisbon;VALUE=DATE:20171112
DTEND;TZID=Europe/Lisbon;VALUE=DATE:20171113
SEQUENCE:0
RRULE:FREQ=YEARLY;COUNT=100;INTERVAL=1;BYYEARDAY=-50
TRANSP:OPAQUE
END:VEVENT
END:VCALENDAR