BEGIN:VCALENDAR
VERSION:2.0
PRODID:-//jEvents 2.0 for Joomla//EN
CALSCALE:GREGORIAN
METHOD:PUBLISH
BEGIN:VTIMEZONE
TZID:Europe/Lisbon
BEGIN:STANDARD
DTSTART:20151110T000000
RDATE:20160327T020000
TZOFFSETFROM:+0100
TZOFFSETTO:+0000
TZNAME:Europe/Lisbon WET
END:STANDARD
BEGIN:STANDARD
DTSTART:20161030T010000
RDATE:20170326T020000
TZOFFSETFROM:+0100
TZOFFSETTO:+0000
TZNAME:Europe/Lisbon WET
END:STANDARD
BEGIN:STANDARD
DTSTART:20171029T010000
RDATE:20180325T020000
TZOFFSETFROM:+0100
TZOFFSETTO:+0000
TZNAME:Europe/Lisbon WET
END:STANDARD
BEGIN:STANDARD
DTSTART:20181028T010000
RDATE:20190331T020000
TZOFFSETFROM:+0100
TZOFFSETTO:+0000
TZNAME:Europe/Lisbon WET
END:STANDARD
BEGIN:STANDARD
DTSTART:20191027T010000
RDATE:20200329T020000
TZOFFSETFROM:+0100
TZOFFSETTO:+0000
TZNAME:Europe/Lisbon WET
END:STANDARD
BEGIN:STANDARD
DTSTART:20201025T010000
RDATE:20210328T020000
TZOFFSETFROM:+0100
TZOFFSETTO:+0000
TZNAME:Europe/Lisbon WET
END:STANDARD
BEGIN:DAYLIGHT
DTSTART:20160327T020000
RDATE:20161030T010000
TZOFFSETFROM:+0000
TZOFFSETTO:+0100
TZNAME:Europe/Lisbon WEST
END:DAYLIGHT
BEGIN:DAYLIGHT
DTSTART:20170326T020000
RDATE:20171029T010000
TZOFFSETFROM:+0000
TZOFFSETTO:+0100
TZNAME:Europe/Lisbon WEST
END:DAYLIGHT
BEGIN:DAYLIGHT
DTSTART:20180325T020000
RDATE:20181028T010000
TZOFFSETFROM:+0000
TZOFFSETTO:+0100
TZNAME:Europe/Lisbon WEST
END:DAYLIGHT
BEGIN:DAYLIGHT
DTSTART:20190331T020000
RDATE:20191027T010000
TZOFFSETFROM:+0000
TZOFFSETTO:+0100
TZNAME:Europe/Lisbon WEST
END:DAYLIGHT
BEGIN:DAYLIGHT
DTSTART:20200329T020000
RDATE:20201025T010000
TZOFFSETFROM:+0000
TZOFFSETTO:+0100
TZNAME:Europe/Lisbon WEST
END:DAYLIGHT
END:VTIMEZONE
BEGIN:VEVENT
UID:1f51120f4ffb25f2f7079c2ee87b8318
CATEGORIES:Santos
SUMMARY:São Leão Magno
DESCRIPTION;ENCODING=QUOTED-PRINTABLE:São Leão Magno nasceu em Toscana (Itália) no fim do século IV, foi educado 
 em Roma, de onde era também sua ascendência.\nJovem ainda, S. Leão Magno ag
 regou-se ao clero, recebendo as ordens menores e o diaconato. Foi conselhei
 ro sucessivamente dos papas Celestino I (422-432) e Xisto III (432-440) e f
 oi muito respeitado como teólogo e diplomata. Participou de grandes problem
 as da Igreja do seu tempo e pode travar contacto pessoal e por cartas com g
 randes personagens como Santo Agostinho, São Cirilo de Alexandria e São Joã
 o Cassiano, que o descrevia como "ornamento da Igreja e do divino ministéri
 o".\nNo ano de 431, já como diácono, S. Leão Magno ocupou uma posição sufic
 ientemente importante na visão do patriarca Cirilo de Alexandria ao ponto d
 este lhe escrever para pedir a intervenção de Roma nas reivindicações do ta
 mbém patriarca Juvenal de Jerusalém sobre a Palestina romana. S. Leão Magno
  foi escolhido pelo imperador para mediar a disputa entre Aécio e o cônsul 
 Cecina Décio Aginácio Albino, as duas maiores autoridades romanas na Gália,
  na altura.\nNeste ínterim, o papa Sisto III morreu (11 de agosto de 440) e
  Leão foi unanimemente eleito pelo povo para sucedê-lo; tinha entre 40 e 50
  anos de idade. Recebeu a consagração episcopal no dia 29 de Setembro de 44
 0, quando fez uma alocução repleta de profunda humildade e confiança na gra
 ça de Deus. São Leão Magno tinha uma estima muito grande pela função do pap
 a. Em vários Sermões mostra claro que é Pedro quem continua no leme da Igre
 ja, na pessoa dos seus sucessores, aos quais compete um ministério sagrado 
 de vigilância universal para que a fé que o Senhor legou aos Apóstolos não 
 seja corrompida. Leão foi o primeiro Papa que recebeu o apelido de Magno (g
 rande), não só pelas qualidades literárias e pela firmeza com que sustentou
  o decadente império do Ocidente, mas pela estabilidade dogmática que trans
 parece nos seus escritos e nas orações litúrgicas por ele compostas. Em sua
  atuação no plano político, a História registou e imortalizou duas interven
 ções de São Leão Magno, respetivamente junto a Átila, rei dos Hunos, em 452
 , e junto a Genserico, em 455. Átila, cognominado "O flagelo de Deus", inve
 stia contra o Império, aproximando-se de Roma, sendo barrado pelo Papa. A o
 utra intervenção foi quando Genserico, líder dos Vândalos, provenientes do 
 Sul, ocupara Roma, ameaçando arrasá-la. Coube ao próprio São Leão Magno a i
 niciativa de negociar com Genserico, e dele obter que a cidade não fosse in
 cendiada nem seus habitantes torturados. São Leão Magno morreu a 10 de Nove
 mbro de 461, sendo sepultado no Átrio da Basílica de São Pedro. A sua festa
  litúrgica é celebrada pela igreja no dia 10 de Novembro. Foi um dos maiore
 s Pontífices que honraram a Sé Romana proclamado doutor da igreja em 1754, 
 por Bento XIV.\nLeão foi originalmente sepultado num monumento próprio. Por
 ém, alguns anos depois de sua morte, suas relíquias foram colocadas num túm
 ulo que continha também as relíquias dos quatro primeiros papas chamados "L
 eão". No século XVIII, as relíquias de Leão Magno foram separadas das dos d
 emais e ganharam uma capela separada.\n
DTSTAMP:20260419T233600Z
DTSTART;TZID=Europe/Lisbon;VALUE=DATE:20161110
DTEND;TZID=Europe/Lisbon;VALUE=DATE:20161111
SEQUENCE:0
RRULE:FREQ=YEARLY;COUNT=100;INTERVAL=1;BYYEARDAY=-52
TRANSP:OPAQUE
END:VEVENT
END:VCALENDAR