BEGIN:VCALENDAR
VERSION:2.0
PRODID:-//jEvents 2.0 for Joomla//EN
CALSCALE:GREGORIAN
METHOD:PUBLISH
BEGIN:VTIMEZONE
TZID:Europe/Lisbon
BEGIN:STANDARD
DTSTART:20151108T000000
RDATE:20160327T020000
TZOFFSETFROM:+0100
TZOFFSETTO:+0000
TZNAME:Europe/Lisbon WET
END:STANDARD
BEGIN:STANDARD
DTSTART:20161030T010000
RDATE:20170326T020000
TZOFFSETFROM:+0100
TZOFFSETTO:+0000
TZNAME:Europe/Lisbon WET
END:STANDARD
BEGIN:STANDARD
DTSTART:20171029T010000
RDATE:20180325T020000
TZOFFSETFROM:+0100
TZOFFSETTO:+0000
TZNAME:Europe/Lisbon WET
END:STANDARD
BEGIN:STANDARD
DTSTART:20181028T010000
RDATE:20190331T020000
TZOFFSETFROM:+0100
TZOFFSETTO:+0000
TZNAME:Europe/Lisbon WET
END:STANDARD
BEGIN:STANDARD
DTSTART:20191027T010000
RDATE:20200329T020000
TZOFFSETFROM:+0100
TZOFFSETTO:+0000
TZNAME:Europe/Lisbon WET
END:STANDARD
BEGIN:STANDARD
DTSTART:20201025T010000
RDATE:20210328T020000
TZOFFSETFROM:+0100
TZOFFSETTO:+0000
TZNAME:Europe/Lisbon WET
END:STANDARD
BEGIN:DAYLIGHT
DTSTART:20160327T020000
RDATE:20161030T010000
TZOFFSETFROM:+0000
TZOFFSETTO:+0100
TZNAME:Europe/Lisbon WEST
END:DAYLIGHT
BEGIN:DAYLIGHT
DTSTART:20170326T020000
RDATE:20171029T010000
TZOFFSETFROM:+0000
TZOFFSETTO:+0100
TZNAME:Europe/Lisbon WEST
END:DAYLIGHT
BEGIN:DAYLIGHT
DTSTART:20180325T020000
RDATE:20181028T010000
TZOFFSETFROM:+0000
TZOFFSETTO:+0100
TZNAME:Europe/Lisbon WEST
END:DAYLIGHT
BEGIN:DAYLIGHT
DTSTART:20190331T020000
RDATE:20191027T010000
TZOFFSETFROM:+0000
TZOFFSETTO:+0100
TZNAME:Europe/Lisbon WEST
END:DAYLIGHT
BEGIN:DAYLIGHT
DTSTART:20200329T020000
RDATE:20201025T010000
TZOFFSETFROM:+0000
TZOFFSETTO:+0100
TZNAME:Europe/Lisbon WEST
END:DAYLIGHT
END:VTIMEZONE
BEGIN:VEVENT
UID:a8b962d2acd12d54461584130e8ca902
CATEGORIES:Santos
SUMMARY:Santa Isabel de Trindade
DESCRIPTION;ENCODING=QUOTED-PRINTABLE:\n\nSanta Isabel da Trindade nasceu em 18 de Julho de 1880 na cidade france
 sa de Farges-en-Septaine e veio a falecer em Dijon a 9 de Novembro de 1906.
 \nIsabel da Trindade nasceu num acampamento militar em Avor (Farges-en-Sept
 aine), onde o seu pai, José Catez, era o capitão do oitavo esquadrão. A sua
  mãe esteve em trabalho de parto por mais de 36 horas e os médicos presente
 s haviam advertido o seu pai que seria necessário &ldquo;fazer o sacrifício
 &rdquo; da criança. Contudo, no final da missa que o Capelão Chaboisseau ce
 lebrou, Isabel da Trindade nasce de &ldquo;boa saúde&rdquo;. Quatro dias de
 pois, na festa de Santa Maria Madalena, a Santa Isabel da Trindade é baptiz
 ada. \nIsabel da Trindade fica órfã de pai aos sete anos de idade, no entan
 to, a sua mãe possuía meios para assegurar a sua formação, bem como a das s
 uas irmãs. Isabel tem aulas particulares de francês e frequenta aulas de pi
 ano no Conservatório de Dijon.\nA 19 de Abril de 1891, Isabel da Trindade f
 az a sua primeira comunhão. A partir desse dia, Isabel começa a entender a 
 grandeza da sua vocação. Aos 21 anos, a 2 de Agosto de 1901, Isabel da Trin
 dade entra para o Carmelo de Dijon. Treze meses depois, a 11 de Janeiro de 
 1903, Isabel da Trindade faz a sua profissão perpétua.\nEm Março de 1906, a
  Santa Isabel da Trindade dá entrada na enfermaria do Carmelo, supõe-se que
  com tuberculose. Depois disso, Isabel é acometida pela doença de Addison, 
 à data incurável. Comungou pela última vez, no dia de Todos os Santos e vei
 o a falecer no Carmelo a 9 de Novembro de 1906. \nFoi beatificada pelo Papa
  João Paulo II a 25 de Novembro de 1984.\nFoi canonizada pelo Papa Francisc
 o a 16 de Outubro de 2016.\n
DTSTAMP:20260421T233032Z
DTSTART;TZID=Europe/Lisbon;VALUE=DATE:20161108
DTEND;TZID=Europe/Lisbon;VALUE=DATE:20161109
SEQUENCE:0
RRULE:FREQ=YEARLY;COUNT=100;INTERVAL=1;BYYEARDAY=-54
TRANSP:OPAQUE
END:VEVENT
END:VCALENDAR