BEGIN:VCALENDAR
VERSION:2.0
PRODID:-//jEvents 2.0 for Joomla//EN
CALSCALE:GREGORIAN
METHOD:PUBLISH
BEGIN:VTIMEZONE
TZID:Europe/Lisbon
BEGIN:STANDARD
DTSTART:20151107T000000
RDATE:20160327T020000
TZOFFSETFROM:+0100
TZOFFSETTO:+0000
TZNAME:Europe/Lisbon WET
END:STANDARD
BEGIN:STANDARD
DTSTART:20161030T010000
RDATE:20170326T020000
TZOFFSETFROM:+0100
TZOFFSETTO:+0000
TZNAME:Europe/Lisbon WET
END:STANDARD
BEGIN:STANDARD
DTSTART:20171029T010000
RDATE:20180325T020000
TZOFFSETFROM:+0100
TZOFFSETTO:+0000
TZNAME:Europe/Lisbon WET
END:STANDARD
BEGIN:STANDARD
DTSTART:20181028T010000
RDATE:20190331T020000
TZOFFSETFROM:+0100
TZOFFSETTO:+0000
TZNAME:Europe/Lisbon WET
END:STANDARD
BEGIN:STANDARD
DTSTART:20191027T010000
RDATE:20200329T020000
TZOFFSETFROM:+0100
TZOFFSETTO:+0000
TZNAME:Europe/Lisbon WET
END:STANDARD
BEGIN:STANDARD
DTSTART:20201025T010000
RDATE:20210328T020000
TZOFFSETFROM:+0100
TZOFFSETTO:+0000
TZNAME:Europe/Lisbon WET
END:STANDARD
BEGIN:DAYLIGHT
DTSTART:20160327T020000
RDATE:20161030T010000
TZOFFSETFROM:+0000
TZOFFSETTO:+0100
TZNAME:Europe/Lisbon WEST
END:DAYLIGHT
BEGIN:DAYLIGHT
DTSTART:20170326T020000
RDATE:20171029T010000
TZOFFSETFROM:+0000
TZOFFSETTO:+0100
TZNAME:Europe/Lisbon WEST
END:DAYLIGHT
BEGIN:DAYLIGHT
DTSTART:20180325T020000
RDATE:20181028T010000
TZOFFSETFROM:+0000
TZOFFSETTO:+0100
TZNAME:Europe/Lisbon WEST
END:DAYLIGHT
BEGIN:DAYLIGHT
DTSTART:20190331T020000
RDATE:20191027T010000
TZOFFSETFROM:+0000
TZOFFSETTO:+0100
TZNAME:Europe/Lisbon WEST
END:DAYLIGHT
BEGIN:DAYLIGHT
DTSTART:20200329T020000
RDATE:20201025T010000
TZOFFSETFROM:+0000
TZOFFSETTO:+0100
TZNAME:Europe/Lisbon WEST
END:DAYLIGHT
END:VTIMEZONE
BEGIN:VEVENT
UID:d32fbe11e90af76b77328234886aef02
CATEGORIES:Santos
SUMMARY:Todos os Santos na Ordem dos Pregadores
DESCRIPTION;ENCODING=QUOTED-PRINTABLE:\n\nA Ordem dos Pregadores, ou Dominicanos, foi fundada no século XIII por 
 São Domingos de Gusmão.\nNa época, o santo, preocupado com a Igreja tão dev
 astada por heresias que punham em perigo a fé principalmente dos incautos e
  ignorantes, resolveu fundar uma Ordem religiosa que se dedicasse à pregaçã
 o da Palavra e da doutrina da Igreja com o ardor e fidelidade necessários.\
 nEsta Ordem concedeu à Igreja grandes santos e santas, verdadeiros luzeiros
  que a enriqueceram e a tornaram ainda mais brilhante em meio as trevas do 
 mundo.\nA Ordem Dominicana também foi uma grande divulgadora da devoção ao 
 Santíssimo Rosário de Maria, devoção mariana maravilhosa, santificante e sa
 ntificadora quando bem praticada e vivida.\nSão tantos os santos e santas q
 ue, se fossem citados todos, encheríamos páginas, principalmente se contáss
 emos com os beatos e beatas também.\nCitarei os mais "famosos", digamos ass
 im:\n- São Domingos de Gusmão (fundador)\n- São Luís Beltrán\n- São Pedro d
 e Verona (mártir)\n- São Vicente Férrer (grande pregador e taumaturgo)\n- S
 ão Jacinto Odrovaz (apóstolo da Polônia)\n- São Raimundo de Peñaforte\n- Sa
 nto Ambrósio de Siena\n- Beato Gonçalo do Amarante\n- Beato Alano de La Roc
 he\n- Beato Fra Angélico (grande pintor sacro do século XIII)\n- Santo Tomá
 s de Aquino (grande teólogo e Doutor da igreja)\n- Santo Alberto Magno (Bis
 po e Doutor da Igreja. Um auto didata em múltiplas ciências. Um dos homens 
 mais inteligentes que existiram na terra)\n- São Pio V (papa)\n- Santa Cata
 rina de Sena (mística e doutora da Igreja)\n- Santa Catarina Ricci\n- Santa
  Rosa de Lima (padroeira da América Latina)\n- Santa Inês de Montepulciano\
 n- São Martinho de Porres\n- São Bartolomeu dos Mártires (bispo)\n- São Fra
 ncisco Coll Guidart\n- São João Macías, etc.\n\n\nQue no Céu, esses santos 
 e santas da Ordem de São Domingos intercedam por toda a Igreja, principalme
 nte nestes tempos tão perigosos para a fé e os bons costumes de tantas e ta
 ntas almas.\n
DTSTAMP:20260422T233335Z
DTSTART;TZID=Europe/Lisbon;VALUE=DATE:20161107
DTEND;TZID=Europe/Lisbon;VALUE=DATE:20161108
SEQUENCE:0
RRULE:FREQ=YEARLY;COUNT=100;INTERVAL=1;BYYEARDAY=-55
TRANSP:OPAQUE
END:VEVENT
END:VCALENDAR