BEGIN:VCALENDAR
VERSION:2.0
PRODID:-//jEvents 2.0 for Joomla//EN
CALSCALE:GREGORIAN
METHOD:PUBLISH
BEGIN:VTIMEZONE
TZID:Europe/Lisbon
BEGIN:STANDARD
DTSTART:20151107T000000
RDATE:20160327T020000
TZOFFSETFROM:+0100
TZOFFSETTO:+0000
TZNAME:Europe/Lisbon WET
END:STANDARD
BEGIN:STANDARD
DTSTART:20161030T010000
RDATE:20170326T020000
TZOFFSETFROM:+0100
TZOFFSETTO:+0000
TZNAME:Europe/Lisbon WET
END:STANDARD
BEGIN:STANDARD
DTSTART:20171029T010000
RDATE:20180325T020000
TZOFFSETFROM:+0100
TZOFFSETTO:+0000
TZNAME:Europe/Lisbon WET
END:STANDARD
BEGIN:STANDARD
DTSTART:20181028T010000
RDATE:20190331T020000
TZOFFSETFROM:+0100
TZOFFSETTO:+0000
TZNAME:Europe/Lisbon WET
END:STANDARD
BEGIN:STANDARD
DTSTART:20191027T010000
RDATE:20200329T020000
TZOFFSETFROM:+0100
TZOFFSETTO:+0000
TZNAME:Europe/Lisbon WET
END:STANDARD
BEGIN:STANDARD
DTSTART:20201025T010000
RDATE:20210328T020000
TZOFFSETFROM:+0100
TZOFFSETTO:+0000
TZNAME:Europe/Lisbon WET
END:STANDARD
BEGIN:DAYLIGHT
DTSTART:20160327T020000
RDATE:20161030T010000
TZOFFSETFROM:+0000
TZOFFSETTO:+0100
TZNAME:Europe/Lisbon WEST
END:DAYLIGHT
BEGIN:DAYLIGHT
DTSTART:20170326T020000
RDATE:20171029T010000
TZOFFSETFROM:+0000
TZOFFSETTO:+0100
TZNAME:Europe/Lisbon WEST
END:DAYLIGHT
BEGIN:DAYLIGHT
DTSTART:20180325T020000
RDATE:20181028T010000
TZOFFSETFROM:+0000
TZOFFSETTO:+0100
TZNAME:Europe/Lisbon WEST
END:DAYLIGHT
BEGIN:DAYLIGHT
DTSTART:20190331T020000
RDATE:20191027T010000
TZOFFSETFROM:+0000
TZOFFSETTO:+0100
TZNAME:Europe/Lisbon WEST
END:DAYLIGHT
BEGIN:DAYLIGHT
DTSTART:20200329T020000
RDATE:20201025T010000
TZOFFSETFROM:+0000
TZOFFSETTO:+0100
TZNAME:Europe/Lisbon WEST
END:DAYLIGHT
END:VTIMEZONE
BEGIN:VEVENT
UID:3df83996c4f9317e7332e7a49ca5459b
CATEGORIES:Santos
SUMMARY:Beata Graça de Cattaro
DESCRIPTION;ENCODING=QUOTED-PRINTABLE:\n\nCatarina Kosic nasceu em 25 de novembro de 1493 em Relezi, aldeia nas m
 ontanhas que pode ser vista a partir de Kotor, hoje pertencente à província
  de Podgorica, na República do Montenegro.\nOs pais de Catarina de Cattaro 
 eram ortodoxos gregos, muito humildes, e foi nesta fé que Catarina foi bati
 zada.\nDurante a sua infância e adolescência Catarina foi pastora de ovelha
 s. Com sua inclinação contemplativa soube descobrir, nas magníficas paisage
 ns da República do Montenegro, a beleza do Criador. Se enamorou do Autor de
  tantas maravilhas. Na solidão do monte, Deus se lhe mostrava e imprimia em
  seu coração uma atração irresistível.\nJá adolescente, Catarina de Cattaro
  pensava que na cidade de Kotor, tendo ela tantas igrejas, poderia ter mais
  oportunidade de rezar, e convenceu a sua mãe para ir para Kotor. A mãe de 
 Catarina de Cattaro conseguiu trabalho em Kotor: como criada numa casa de f
 amília do senador Bucá, muito rico, ótimo católico.\nA família Bucá permiti
 a que a jovem Catarina frequentasse a igreja, onde passava horas, que eram 
 sua alegria. Em Kotor, Catarina se converteu ao Catolicismo romano, se conf
 essou e recebeu sua primeira Comunhão.\nCatarina de Cattaro aprendeu a ler 
 e a escrever durante o seu tempo livre. Era de uma inteligência privilegiad
 a. Leu livros religiosos em latim e italiano, e muito especialmente as Sagr
 adas Escrituras.\nAinda adolescente Catarina de Cattaro sentiu-se chamada a
  viver como anacoreta (monge ou eremita que vive em retiro). Embora a consi
 derassem muito jovem para tal vocação, o seu diretor espiritual aceitou a j
 ovem Catarina e a fez emparedar em uma cela construída próximo da igreja de
  São Bartolomeu, em Kotor. Assim, Catarina de Cattaro se retirou numa vida 
 de ascetismo e de reclusão.\nPor uma janela Catarina podia assistir a Santa
  Missa e por outra as pessoas podiam se aproximar dela para pedir-lhe oraçõ
 es ou dar-lhe algum alimento. Catarina de Cattaro fez as promessas de costu
 me de estabilidade e a porta foi selada.\nEntregue à contemplação dos misté
 rios divinos e a uma contínua oração, Beata Catarina de Cattaro não se preo
 cupou somente com sua salvação pessoal, mas colaborou eficazmente na dos de
 mais, sendo-lhe atribuídas numerosas graças para sua cidade.\nA jovem Catar
 ina desejava uma vida de total identificação com Cristo. Então, em 25 de ja
 neiro de 1515, ingressou na Ordem Secular de São Domingos, tomando o hábito
  e mudando seu nome para Hosana, em honra a outra ilustre terciária: a Beat
 a Hosana de Mântua, que havia falecido com fama de santidade em 1505. Seu c
 onfessor era o dominicano Frei Tomas Bosco.\nDepois de um terramoto que des
 truiu a sua primeira ermida, se transladou, em 1521, para uma cela junto à 
 igreja de São Paulo.\nViveria como dominicana os 52 anos seguintes de sua v
 ida, dedicada à contemplação da Paixão de Cristo, à penitência e às boas ob
 ras.\nUm grupo de irmãs dominicanas que surgiu em Kotor colocou sua residên
 cia próximo dela, a consultavam, e Catarina de Cattaro as dirigia pelos cam
 inhos da perfeição cristã. A consideravam sua fundadora, embora ela nunca t
 enha visto o local do convento.\nEm sua pequena cela, Catarina de Cattaro (
 Hosana) teve muitas visões. Via o Menino Jesus, a Virgem Maria e vários san
 tos. Viveu uma elevada união mística com Nosso Senhor Jesus Cristo.\nPor su
 a vida santa, em Kotor a chamavam &ldquo;a trombeta do Espírito Santo&rdquo
 ; e &ldquo;mestra mística&rdquo;. Pessoas de todas as partes vinham até ela
  em busca de conselho. Beata Catarina de Cattaro recebia as pessoas do povo
  que se aproximavam dela com grande alegria e levava todos a viver uma vida
  cristã autêntica.\nCatarina intercedeu particularmente pela paz na cidade 
 e entre as famílias e por isso também era chamada de &ldquo;virgem reconcil
 iadora&rdquo; e &ldquo;anjo da paz&rdquo;.\nA Beata Catarina de Cattaro (Ho
 sana) faleceu no dia 27 de abril de 1565, com setenta e dois anos. O seu co
 rpo incorrupto ficou enterrado na igreja de São Paulo até 1807, quando o ex
 ército francês invasor converteu a igreja em um armazém, então seu corpo fo
 i transladado para a igreja de Santa Maria, convento dos franciscanos.\nEm 
 1905 o processo para sua beatificação foi iniciado em Montenegro e terminou
  com êxito em Roma. Seu culto foi confirmado por Pio XI em 21 de dezembro d
 e 1927, que a invocou como intercessora para a unidade da Igreja; foi beati
 ficada em 1934.\n
DTSTAMP:20260421T123620Z
DTSTART;TZID=Europe/Lisbon;VALUE=DATE:20161107
DTEND;TZID=Europe/Lisbon;VALUE=DATE:20161108
SEQUENCE:0
RRULE:FREQ=YEARLY;COUNT=100;INTERVAL=1;BYYEARDAY=-55
TRANSP:OPAQUE
END:VEVENT
END:VCALENDAR