BEGIN:VCALENDAR
VERSION:2.0
PRODID:-//jEvents 2.0 for Joomla//EN
CALSCALE:GREGORIAN
METHOD:PUBLISH
BEGIN:VTIMEZONE
TZID:Europe/Lisbon
BEGIN:STANDARD
DTSTART:20151107T000000
RDATE:20160327T020000
TZOFFSETFROM:+0100
TZOFFSETTO:+0000
TZNAME:Europe/Lisbon WET
END:STANDARD
BEGIN:STANDARD
DTSTART:20161030T010000
RDATE:20170326T020000
TZOFFSETFROM:+0100
TZOFFSETTO:+0000
TZNAME:Europe/Lisbon WET
END:STANDARD
BEGIN:STANDARD
DTSTART:20171029T010000
RDATE:20180325T020000
TZOFFSETFROM:+0100
TZOFFSETTO:+0000
TZNAME:Europe/Lisbon WET
END:STANDARD
BEGIN:STANDARD
DTSTART:20181028T010000
RDATE:20190331T020000
TZOFFSETFROM:+0100
TZOFFSETTO:+0000
TZNAME:Europe/Lisbon WET
END:STANDARD
BEGIN:STANDARD
DTSTART:20191027T010000
RDATE:20200329T020000
TZOFFSETFROM:+0100
TZOFFSETTO:+0000
TZNAME:Europe/Lisbon WET
END:STANDARD
BEGIN:STANDARD
DTSTART:20201025T010000
RDATE:20210328T020000
TZOFFSETFROM:+0100
TZOFFSETTO:+0000
TZNAME:Europe/Lisbon WET
END:STANDARD
BEGIN:DAYLIGHT
DTSTART:20160327T020000
RDATE:20161030T010000
TZOFFSETFROM:+0000
TZOFFSETTO:+0100
TZNAME:Europe/Lisbon WEST
END:DAYLIGHT
BEGIN:DAYLIGHT
DTSTART:20170326T020000
RDATE:20171029T010000
TZOFFSETFROM:+0000
TZOFFSETTO:+0100
TZNAME:Europe/Lisbon WEST
END:DAYLIGHT
BEGIN:DAYLIGHT
DTSTART:20180325T020000
RDATE:20181028T010000
TZOFFSETFROM:+0000
TZOFFSETTO:+0100
TZNAME:Europe/Lisbon WEST
END:DAYLIGHT
BEGIN:DAYLIGHT
DTSTART:20190331T020000
RDATE:20191027T010000
TZOFFSETFROM:+0000
TZOFFSETTO:+0100
TZNAME:Europe/Lisbon WEST
END:DAYLIGHT
BEGIN:DAYLIGHT
DTSTART:20200329T020000
RDATE:20201025T010000
TZOFFSETFROM:+0000
TZOFFSETTO:+0100
TZNAME:Europe/Lisbon WEST
END:DAYLIGHT
END:VTIMEZONE
BEGIN:VEVENT
UID:2ab960e421fcb025a1d8471fa1104b59
CATEGORIES:Santos
SUMMARY:Beato Francisco Palau e Quer
DESCRIPTION;ENCODING=QUOTED-PRINTABLE:\n\n Francisco de Jesus Maria José Palau e Quer foi um sacerdote carmelita 
 espanhol, que nasceu em Aytona, Barcelona a 29 de Dezembro de 1811.\nO Beat
 o Francisco Palau e Quer estudou filosofia no seminário de Lérida e depois 
 entrou para a Ordem dos Carmelitas Descalços. Foi ordenado sacerdote em 183
 6, em Barbastro. \nTrabalhou em França entre 1840 e 1851. Ao voltar a Espan
 ha, Francisco Palau e Quer dedicou-se à pregação e às missões populares, es
 pecialmente em Barcelona e nas Ilhas Baleares. Entre os anos de 1860 e 1861
  organizou grupos femininos, que deram origem às congregações das Irmãs Car
 melitas Missionárias Teresianas e das Irmãs Carmelitas Missionárias. Fundou
  também uma família de Irmãos da Caridade, que acabou por desaparecer ao lo
 ngo do tempo.\nFrancisco Palau e Quer foi beatificado pelo Papa João Paulo 
 II em 24 de Abril de 1988.\n
DTSTAMP:20260422T111324Z
DTSTART;TZID=Europe/Lisbon;VALUE=DATE:20161107
DTEND;TZID=Europe/Lisbon;VALUE=DATE:20161108
SEQUENCE:0
RRULE:FREQ=YEARLY;COUNT=100;INTERVAL=1;BYYEARDAY=-55
TRANSP:OPAQUE
END:VEVENT
END:VCALENDAR