BEGIN:VCALENDAR
VERSION:2.0
PRODID:-//jEvents 2.0 for Joomla//EN
CALSCALE:GREGORIAN
METHOD:PUBLISH
BEGIN:VTIMEZONE
TZID:Europe/Lisbon
BEGIN:STANDARD
DTSTART:20151106T000000
RDATE:20160327T020000
TZOFFSETFROM:+0100
TZOFFSETTO:+0000
TZNAME:Europe/Lisbon WET
END:STANDARD
BEGIN:STANDARD
DTSTART:20161030T010000
RDATE:20170326T020000
TZOFFSETFROM:+0100
TZOFFSETTO:+0000
TZNAME:Europe/Lisbon WET
END:STANDARD
BEGIN:STANDARD
DTSTART:20171029T010000
RDATE:20180325T020000
TZOFFSETFROM:+0100
TZOFFSETTO:+0000
TZNAME:Europe/Lisbon WET
END:STANDARD
BEGIN:STANDARD
DTSTART:20181028T010000
RDATE:20190331T020000
TZOFFSETFROM:+0100
TZOFFSETTO:+0000
TZNAME:Europe/Lisbon WET
END:STANDARD
BEGIN:STANDARD
DTSTART:20191027T010000
RDATE:20200329T020000
TZOFFSETFROM:+0100
TZOFFSETTO:+0000
TZNAME:Europe/Lisbon WET
END:STANDARD
BEGIN:STANDARD
DTSTART:20201025T010000
RDATE:20210328T020000
TZOFFSETFROM:+0100
TZOFFSETTO:+0000
TZNAME:Europe/Lisbon WET
END:STANDARD
BEGIN:DAYLIGHT
DTSTART:20160327T020000
RDATE:20161030T010000
TZOFFSETFROM:+0000
TZOFFSETTO:+0100
TZNAME:Europe/Lisbon WEST
END:DAYLIGHT
BEGIN:DAYLIGHT
DTSTART:20170326T020000
RDATE:20171029T010000
TZOFFSETFROM:+0000
TZOFFSETTO:+0100
TZNAME:Europe/Lisbon WEST
END:DAYLIGHT
BEGIN:DAYLIGHT
DTSTART:20180325T020000
RDATE:20181028T010000
TZOFFSETFROM:+0000
TZOFFSETTO:+0100
TZNAME:Europe/Lisbon WEST
END:DAYLIGHT
BEGIN:DAYLIGHT
DTSTART:20190331T020000
RDATE:20191027T010000
TZOFFSETFROM:+0000
TZOFFSETTO:+0100
TZNAME:Europe/Lisbon WEST
END:DAYLIGHT
BEGIN:DAYLIGHT
DTSTART:20200329T020000
RDATE:20201025T010000
TZOFFSETFROM:+0000
TZOFFSETTO:+0100
TZNAME:Europe/Lisbon WEST
END:DAYLIGHT
END:VTIMEZONE
BEGIN:VEVENT
UID:e7f6db43c970b8fa9097a657c9501cfc
CATEGORIES:Santos
SUMMARY:Beatos José de Calasanz e Henrique Aparício Sáiz e Companheiros
DESCRIPTION;ENCODING=QUOTED-PRINTABLE:\n\nBeato José Calasanz nasceu em Azanuy, na província de Huesca (Espanha) 
 a 23 de Novembro de 1872, numa família de lavradores. Ficou órfão aos 11 an
 os. Foi morar com a tia em Barcelona, que servia na casa de uma família de 
 cooperadores salesianos e que pagaram os estudos do menino. Conheceu São Jo
 ão Bosco pessoalmente quando estudava no colégio de Sarria, no ano de 1886.
  O Beato José Calasanz foi encaminhando-se para a vida salesiana e sacerdot
 al, tornando-se salesiano em 1890 e cinco anos depois, sacerdote. José Cala
 sanz foi secretário do Pe. Felipe Rinaldi, que hoje também é beato, e foi m
 issionário das terras de Cuba, Peru e Bolívia.\nHomem trabalhador, educado,
  humilde, enérgico e de grande espírito de serviço, o beato voltou a Barcel
 ona em 1925, como superior provincial, e em julho de 1936 estava pregando e
 xercícios espirituais na casa salesiana de Valencia. Quando a guerra eclodi
 u, a casa foi invadida e eles foram levados para a prisão. Da prisão, o Bea
 to José Calasanz escreveu para o Reitor-Mor, na época, Pe. Pedro Ricaldone:
  &ldquo;Eu não sei o tempo que temos aqui: Deus sabe se vai se prolongar po
 r uns dias ou por semanas; e sei muito menos se a morte nos espera. Mas a n
 ossa confiança está posta em Deus e na proteção de Maria Auxiliadora e de n
 osso pai Dom Bosco. Tão pouco duvidamos de sua bênção e das orações do senh
 or e demais superiores e irmãos&rdquo;. \nAos irmãos que junto a ele viviam
  tais dificuldades, José Calasanz dizia: &ldquo;Há que ter confiança na Div
 ina Providência. E se nos matam, nos voltaremos a ver no Céu&rdquo;. \nPe. 
 Calasanz foi fuzilado enquanto estava em uma camionete, sendo levado junto 
 com outros salesianos, pelos milicianos.\n \nO Beato Henrique Aparício Saiz
  nasceu em Ubierna, na província de Burgos (Espanha) a 1 de dezembro de 188
 9. Professou como salesiano em 1909, e tornou-se sacerdote em 1918. \nDesde
  1934 estava em Carabanchel Alto, periferia de Madri, como diretor do aspir
 antado. Em 1936 o instituto também foi invadido pelos milicianos. Prontamen
 te o Pe. Henrique Aparício Saiz disse: &ldquo;Se vocês querem sangue, aqui 
 estou eu. Mas não façam mal aos meninos&rdquo;. Os jovens foram libertados,
  enquanto o Beato Henrique Saiz e oito salesianos foram presos e posteriorm
 ente, mortos. \nEnquanto estavam na prisão, ele procurou dirigir, aconselha
 r e acompanhar os irmãos que estavam com ele. Dizia, o beato: &ldquo;temos 
 que nos preparar, pois nosso martírio é certíssimo&rdquo;. E antes de morre
 r, confiou a um amigo: &ldquo;Que há de melhor do que morrer para a glória 
 de Deus?&rdquo;. Ofereceu a vida aos jovens que lhe haviam sido confiados p
 ela Divina Providência.\n
DTSTAMP:20260423T013037Z
DTSTART;TZID=Europe/Lisbon;VALUE=DATE:20161106
DTEND;TZID=Europe/Lisbon;VALUE=DATE:20161107
SEQUENCE:0
RRULE:FREQ=YEARLY;COUNT=100;INTERVAL=1;BYYEARDAY=-56
TRANSP:OPAQUE
END:VEVENT
END:VCALENDAR