BEGIN:VCALENDAR
VERSION:2.0
PRODID:-//jEvents 2.0 for Joomla//EN
CALSCALE:GREGORIAN
METHOD:PUBLISH
BEGIN:VTIMEZONE
TZID:Europe/Lisbon
BEGIN:STANDARD
DTSTART:20151105T000000
RDATE:20160327T020000
TZOFFSETFROM:+0100
TZOFFSETTO:+0000
TZNAME:Europe/Lisbon WET
END:STANDARD
BEGIN:STANDARD
DTSTART:20161030T010000
RDATE:20170326T020000
TZOFFSETFROM:+0100
TZOFFSETTO:+0000
TZNAME:Europe/Lisbon WET
END:STANDARD
BEGIN:STANDARD
DTSTART:20171029T010000
RDATE:20180325T020000
TZOFFSETFROM:+0100
TZOFFSETTO:+0000
TZNAME:Europe/Lisbon WET
END:STANDARD
BEGIN:STANDARD
DTSTART:20181028T010000
RDATE:20190331T020000
TZOFFSETFROM:+0100
TZOFFSETTO:+0000
TZNAME:Europe/Lisbon WET
END:STANDARD
BEGIN:STANDARD
DTSTART:20191027T010000
RDATE:20200329T020000
TZOFFSETFROM:+0100
TZOFFSETTO:+0000
TZNAME:Europe/Lisbon WET
END:STANDARD
BEGIN:STANDARD
DTSTART:20201025T010000
RDATE:20210328T020000
TZOFFSETFROM:+0100
TZOFFSETTO:+0000
TZNAME:Europe/Lisbon WET
END:STANDARD
BEGIN:DAYLIGHT
DTSTART:20160327T020000
RDATE:20161030T010000
TZOFFSETFROM:+0000
TZOFFSETTO:+0100
TZNAME:Europe/Lisbon WEST
END:DAYLIGHT
BEGIN:DAYLIGHT
DTSTART:20170326T020000
RDATE:20171029T010000
TZOFFSETFROM:+0000
TZOFFSETTO:+0100
TZNAME:Europe/Lisbon WEST
END:DAYLIGHT
BEGIN:DAYLIGHT
DTSTART:20180325T020000
RDATE:20181028T010000
TZOFFSETFROM:+0000
TZOFFSETTO:+0100
TZNAME:Europe/Lisbon WEST
END:DAYLIGHT
BEGIN:DAYLIGHT
DTSTART:20190331T020000
RDATE:20191027T010000
TZOFFSETFROM:+0000
TZOFFSETTO:+0100
TZNAME:Europe/Lisbon WEST
END:DAYLIGHT
BEGIN:DAYLIGHT
DTSTART:20200329T020000
RDATE:20201025T010000
TZOFFSETFROM:+0000
TZOFFSETTO:+0100
TZNAME:Europe/Lisbon WEST
END:DAYLIGHT
END:VTIMEZONE
BEGIN:VEVENT
UID:e255f826057612d2498c1e447c0aeec3
CATEGORIES:Santos
SUMMARY:Todos os Santos e Beatos da Companhia de Jesus
DESCRIPTION;ENCODING=QUOTED-PRINTABLE:<p style="margin-bottom: 0.0001pt; text-align: justify; line-height: normal
 ;"><span style="font-size: 12pt; font-family: 'Times New Roman', serif; bac
 kground: white; color: #000000;">Esta é uma festa própria da Companhia de J
 esus, na qual são lembrados de forma especial todos os nossos irmãos que vi
 veram a sua vida entregando-se aos outros de tal modo, que o seu coração es
 tava onde está a vontade de Deus.</span></p><p style="margin-bottom: 0.0001
 pt; text-align: justify; line-height: normal; background: white;"><span sty
 le="font-size: 12pt; font-family: 'Times New Roman', serif;"><span style="c
 olor: #000000;">Neste dia, tal como no dia de Todos os Santos não celebramo
 s apenas os Santos e Beatos da Companhia de Jesus reconhecidos pela Igreja,
  mas sim TODOS, querem sejam conhecidos ou desconhecidos, de hoje e de onte
 m, em África ou na América, na Ásia, Europa ou Oceânia. É um dia de alegria
 , pois sabemos, com testemunhos passados e actuais, que há jesuítas por ess
 e mundo fora que vivem a sua vida </span><em><span style="color: #000000;">
 trabalhando com Cristo pela salvação dos homens e que, tendo-O seguido nos 
 trabalhos, também O</span> seguiram na glória</em> (Cfr. EE 95).</span></p>
 <p style="margin-bottom: 0.0001pt; text-align: justify; line-height: normal
 ; background: white;"><span style="font-size: 12pt; font-family: 'Times New
  Roman', serif;">Infelizmente, muitas vezes as histórias que nos chegam dos
  chamados &ldquo;santos de altar&rdquo; são de tal modo fantasiadas que nos
  levam a construir ideais inalcançáveis de santidade, ou mesmo associando a
  santidade como algo de muito aborrecido. Mas se entendermos santidade como
  um desejo de alguém que, sabendo-se fraco, não desiste de querer ser mais 
 compassivo, misericordioso, bondoso para com o próximo, isto é, alguém que 
 não desiste de procurar em primeiro lugar o bem do outro, então passamos a 
 ter um entendimento de santidade diferente. Passa a ser visto como um dinam
 ismo presente até ao fim dos nossos dias, de abertura ao Amor de Deus em mi
 m, para O entregar aos outros.</span></p><p style="margin-bottom: 0.0001pt;
  text-align: justify; line-height: normal; background: white;"><span style=
 "font-size: 12pt; font-family: 'Times New Roman', serif;">A santidade é um 
 esvaziar-se da ilusão da auto-suficiência, é dar espaço a Deus para que Ele
  possa ser tudo em mim.</span></p><p style="margin-bottom: 0.0001pt; text-a
 lign: justify; line-height: normal; background: white;"><span style="font-s
 ize: 12pt; font-family: 'Times New Roman', serif;">Uma vez que esse amor de
  Deus não faz acessão de pessoas, a santidade de cada ser humano está ao al
 cance de todos. Se a santidade fosse perfeição, Jesus teria certamente esco
 lhido outros apóstolos para andar com Ele, pois Jesus era o primeiro a comp
 reender que santidade não é ser santinho nem significa que se faça tudo bem
 .</span></p><p style="margin-bottom: 0.0001pt; text-align: justify; line-he
 ight: normal; background: white;"><span style="font-size: 12pt; font-family
 : 'Times New Roman', serif;">Os santos e beatos da Companhia de Jesus são t
 odos aqueles que se aceitaram como eram e se entregaram inteiramente ao amo
 r de Deus&hellip;</span></p><p style="margin-bottom: 0.0001pt; text-align: 
 justify; line-height: normal; background: white;"><span style="font-size: 1
 2pt; font-family: 'Times New Roman', serif;">que as suas vidas sejam hoje c
 elebradas com infinita alegria!</span></p>
DTSTAMP:20260422T233958Z
DTSTART;TZID=Europe/Lisbon;VALUE=DATE:20161105
DTEND;TZID=Europe/Lisbon;VALUE=DATE:20161106
SEQUENCE:0
RRULE:FREQ=YEARLY;COUNT=100;INTERVAL=1;BYYEARDAY=-57
TRANSP:OPAQUE
END:VEVENT
END:VCALENDAR