BEGIN:VCALENDAR
VERSION:2.0
PRODID:-//jEvents 2.0 for Joomla//EN
CALSCALE:GREGORIAN
METHOD:PUBLISH
BEGIN:VTIMEZONE
TZID:Europe/Lisbon
BEGIN:STANDARD
DTSTART:20151105T000000
RDATE:20160327T020000
TZOFFSETFROM:+0100
TZOFFSETTO:+0000
TZNAME:Europe/Lisbon WET
END:STANDARD
BEGIN:STANDARD
DTSTART:20161030T010000
RDATE:20170326T020000
TZOFFSETFROM:+0100
TZOFFSETTO:+0000
TZNAME:Europe/Lisbon WET
END:STANDARD
BEGIN:STANDARD
DTSTART:20171029T010000
RDATE:20180325T020000
TZOFFSETFROM:+0100
TZOFFSETTO:+0000
TZNAME:Europe/Lisbon WET
END:STANDARD
BEGIN:STANDARD
DTSTART:20181028T010000
RDATE:20190331T020000
TZOFFSETFROM:+0100
TZOFFSETTO:+0000
TZNAME:Europe/Lisbon WET
END:STANDARD
BEGIN:STANDARD
DTSTART:20191027T010000
RDATE:20200329T020000
TZOFFSETFROM:+0100
TZOFFSETTO:+0000
TZNAME:Europe/Lisbon WET
END:STANDARD
BEGIN:STANDARD
DTSTART:20201025T010000
RDATE:20210328T020000
TZOFFSETFROM:+0100
TZOFFSETTO:+0000
TZNAME:Europe/Lisbon WET
END:STANDARD
BEGIN:DAYLIGHT
DTSTART:20160327T020000
RDATE:20161030T010000
TZOFFSETFROM:+0000
TZOFFSETTO:+0100
TZNAME:Europe/Lisbon WEST
END:DAYLIGHT
BEGIN:DAYLIGHT
DTSTART:20170326T020000
RDATE:20171029T010000
TZOFFSETFROM:+0000
TZOFFSETTO:+0100
TZNAME:Europe/Lisbon WEST
END:DAYLIGHT
BEGIN:DAYLIGHT
DTSTART:20180325T020000
RDATE:20181028T010000
TZOFFSETFROM:+0000
TZOFFSETTO:+0100
TZNAME:Europe/Lisbon WEST
END:DAYLIGHT
BEGIN:DAYLIGHT
DTSTART:20190331T020000
RDATE:20191027T010000
TZOFFSETFROM:+0000
TZOFFSETTO:+0100
TZNAME:Europe/Lisbon WEST
END:DAYLIGHT
BEGIN:DAYLIGHT
DTSTART:20200329T020000
RDATE:20201025T010000
TZOFFSETFROM:+0000
TZOFFSETTO:+0100
TZNAME:Europe/Lisbon WEST
END:DAYLIGHT
END:VTIMEZONE
BEGIN:VEVENT
UID:d4c3f6e09067284fa764a0d1fbc238ae
CATEGORIES:Santos
SUMMARY:São Zacarias e Santa Isabel
DESCRIPTION;ENCODING=QUOTED-PRINTABLE:\n\nSão Zacarias e Santa Isabel, pais de João Baptista. \n\n\nSabemos pelo 
 próprio relato bíblico que São Zacarias e Santa Isabel vivam na aldeia de E
 in-Karim e que tinham laços de parentesco com a Sagrada família de Nazaré. 
 Sabemos também que Zacarias, era sacerdote.\nVejamos a passagem do Evangelh
 o de São Lucas (Lc 1,6): &ldquo;Havia no tempo de Herodes, rei da Judéia, u
 m sacerdote chamado Zacarias, da classe de Ábias; a sua mulher pertencia à 
 descendência de Aarão e chamava-se Isabel&rdquo; (Lc 1, 6).Conta-nos o evan
 gelista São Lucas que Zacarias e Isabel eram anciãos e não tinham filhos, o
  que acabava sendo vergonhoso e quase como que um castigo divino para a soc
 iedade da época. Sendo assim, São Zacarias e Santa Isabel recorreram à forç
 a da oração e por isso conseguiram a graça que superou as expectativas.\nAn
 unciado pelo Anjo Gabriel e assistido por Nossa Senhora nasceu João Batista
 ; o precursor, um menino com papel singular na História da Salvação da huma
 nidade: &ldquo;pois ele será grande perante o Senhor&hellip;e será repleto 
 do Espírito Santo desde o seio de sua mãe (Santa Isabel)&rdquo; (Lc 1, 15).
 \nDepois do Salmo profético de São Zacarias, onde ele, repleto do Espírito 
 Santo, profetizou a missão do filho, perdemos o contato com a vida do casal
 , que sem dúvida permaneceram fiéis ao Senhor até o fim de suas vidas. Assi
 m, a Igreja, tanto do Oriente quanto do Ocidente, reconhecem o exemplo dest
 e casal para todos os casais, já que &ldquo;ambos eram justos diante de Deu
 s e cumpriram todos os mandamentos e observâncias do Senhor&rdquo; (Lc 1, 6
 ).\n
DTSTAMP:20260423T000924Z
DTSTART;TZID=Europe/Lisbon;VALUE=DATE:20161105
DTEND;TZID=Europe/Lisbon;VALUE=DATE:20161106
SEQUENCE:0
RRULE:FREQ=YEARLY;COUNT=100;INTERVAL=1;BYYEARDAY=-57
TRANSP:OPAQUE
END:VEVENT
END:VCALENDAR