BEGIN:VCALENDAR
VERSION:2.0
PRODID:-//jEvents 2.0 for Joomla//EN
CALSCALE:GREGORIAN
METHOD:PUBLISH
BEGIN:VTIMEZONE
TZID:Europe/Lisbon
BEGIN:STANDARD
DTSTART:20151104T000000
RDATE:20160327T020000
TZOFFSETFROM:+0100
TZOFFSETTO:+0000
TZNAME:Europe/Lisbon WET
END:STANDARD
BEGIN:STANDARD
DTSTART:20161030T010000
RDATE:20170326T020000
TZOFFSETFROM:+0100
TZOFFSETTO:+0000
TZNAME:Europe/Lisbon WET
END:STANDARD
BEGIN:STANDARD
DTSTART:20171029T010000
RDATE:20180325T020000
TZOFFSETFROM:+0100
TZOFFSETTO:+0000
TZNAME:Europe/Lisbon WET
END:STANDARD
BEGIN:STANDARD
DTSTART:20181028T010000
RDATE:20190331T020000
TZOFFSETFROM:+0100
TZOFFSETTO:+0000
TZNAME:Europe/Lisbon WET
END:STANDARD
BEGIN:STANDARD
DTSTART:20191027T010000
RDATE:20200329T020000
TZOFFSETFROM:+0100
TZOFFSETTO:+0000
TZNAME:Europe/Lisbon WET
END:STANDARD
BEGIN:STANDARD
DTSTART:20201025T010000
RDATE:20210328T020000
TZOFFSETFROM:+0100
TZOFFSETTO:+0000
TZNAME:Europe/Lisbon WET
END:STANDARD
BEGIN:DAYLIGHT
DTSTART:20160327T020000
RDATE:20161030T010000
TZOFFSETFROM:+0000
TZOFFSETTO:+0100
TZNAME:Europe/Lisbon WEST
END:DAYLIGHT
BEGIN:DAYLIGHT
DTSTART:20170326T020000
RDATE:20171029T010000
TZOFFSETFROM:+0000
TZOFFSETTO:+0100
TZNAME:Europe/Lisbon WEST
END:DAYLIGHT
BEGIN:DAYLIGHT
DTSTART:20180325T020000
RDATE:20181028T010000
TZOFFSETFROM:+0000
TZOFFSETTO:+0100
TZNAME:Europe/Lisbon WEST
END:DAYLIGHT
BEGIN:DAYLIGHT
DTSTART:20190331T020000
RDATE:20191027T010000
TZOFFSETFROM:+0000
TZOFFSETTO:+0100
TZNAME:Europe/Lisbon WEST
END:DAYLIGHT
BEGIN:DAYLIGHT
DTSTART:20200329T020000
RDATE:20201025T010000
TZOFFSETFROM:+0000
TZOFFSETTO:+0100
TZNAME:Europe/Lisbon WEST
END:DAYLIGHT
END:VTIMEZONE
BEGIN:VEVENT
UID:5c329150ba6739b336f9119d2a535f61
CATEGORIES:Santos
SUMMARY:São Carlos Borromeu
DESCRIPTION;ENCODING=QUOTED-PRINTABLE:\n\n\nSão Carlos Borromeu nasceu na cidade de Arona (Itália) em 2 de Outubr
 o de 1538 e faleceu em Milão a 3 de Novembro de 1584.\nEra filho do Conde G
 ilberto Borromeo e de Margherita de Medici, irmã do Papa Pio IV (1559-1565)
 , do qual era sobrinho.\nSão Carlos Borromeu recebeu ótima formação humana 
 e cristã, e estudou na Universidade de Pavia onde se destacou pela facilida
 de de administrar e tratar as pessoas. Chamado a Roma, pelo seu tio o Papa 
 Pio IV, São Carlos mesmo antes de receber os Sacramentos da Ordem, aceitou 
 a nomeação e responsabilidades de Cardeal e Arcebispo de Milão, num tempo e
 m que a Igreja se preparava para uma renovação interna.\nSão Carlos Borrome
 u tornou-se para a Igreja um modelo de pastor e de caridade, já que se cons
 umiu por inteiro pela guarda e salvação das almas. Logo após ter auxiliado 
 o Papa e tê-lo motivado para colocar em prática todo o inspirado conteúdo d
 o Concílio de Trento (1545-1563), assumiu com todo o ardor a missão de obed
 ecer as decisões que levaram à contra-reforma, o qual respondia as necessid
 ades da Igreja daquela época, e também levar a todos os fiéis da diocese de
  Milão para o Cristo.\nSão Carlos Borromeu foi o primeiro bispo a fundar se
 minários para a formação dos futuros padres; promoveu sínodos diocesanos; a
 bundou os escritos catequéticos e conhecimento da doutrina católica; e assi
 stiu com seu zelo e apostolado santo toda a sua região além de ajudar na Ev
 angelização de outras áreas da Europa, desta maneira deu sua vida a Deus ga
 stando-se totalmente pelo bem dos outros e da Igreja.\nSentindo-se atraído 
 pela vida contemplativa, São Carlos Borromeu pensou em renunciar à arquidio
 cese. Mas seu amigo, o Venerável Dom Frei Bartolomeu dos Mártires, arcebisp
 o de Braga, dissuadiu-o dessa ideia, convencendo-o de que, naquele século e
 m que o alto Clero tantas vezes dava mau exemplo, seria melhor que ele (S. 
 Carlos Borromeu), altamente colocado na escala social e ademais sobrinho de
  um Papa, desse o bom exemplo de vida santa como arcebispo. Foi o que fez S
 ão Carlos Borromeu, modelo perfeito de pastor-de-almas zeloso, que aplicou 
 em Milão as reformas ordenadas pelo Concílio de Trento.\n \nSão Carlos Borr
 omeu é o santo protetor dos catequistas.\n\n\n \n
DTSTAMP:20260423T134254Z
DTSTART;TZID=Europe/Lisbon;VALUE=DATE:20161104
DTEND;TZID=Europe/Lisbon;VALUE=DATE:20161105
SEQUENCE:0
RRULE:FREQ=YEARLY;COUNT=100;INTERVAL=1;BYYEARDAY=-58
TRANSP:OPAQUE
END:VEVENT
END:VCALENDAR