BEGIN:VCALENDAR
VERSION:2.0
PRODID:-//jEvents 2.0 for Joomla//EN
CALSCALE:GREGORIAN
METHOD:PUBLISH
BEGIN:VTIMEZONE
TZID:Europe/Lisbon
BEGIN:STANDARD
DTSTART:20161102T000000
RDATE:20170326T020000
TZOFFSETFROM:+0100
TZOFFSETTO:+0000
TZNAME:Europe/Lisbon WET
END:STANDARD
BEGIN:STANDARD
DTSTART:20171029T010000
RDATE:20180325T020000
TZOFFSETFROM:+0100
TZOFFSETTO:+0000
TZNAME:Europe/Lisbon WET
END:STANDARD
BEGIN:STANDARD
DTSTART:20181028T010000
RDATE:20190331T020000
TZOFFSETFROM:+0100
TZOFFSETTO:+0000
TZNAME:Europe/Lisbon WET
END:STANDARD
BEGIN:STANDARD
DTSTART:20191027T010000
RDATE:20200329T020000
TZOFFSETFROM:+0100
TZOFFSETTO:+0000
TZNAME:Europe/Lisbon WET
END:STANDARD
BEGIN:STANDARD
DTSTART:20201025T010000
RDATE:20210328T020000
TZOFFSETFROM:+0100
TZOFFSETTO:+0000
TZNAME:Europe/Lisbon WET
END:STANDARD
BEGIN:DAYLIGHT
DTSTART:20170326T020000
RDATE:20171029T010000
TZOFFSETFROM:+0000
TZOFFSETTO:+0100
TZNAME:Europe/Lisbon WEST
END:DAYLIGHT
BEGIN:DAYLIGHT
DTSTART:20180325T020000
RDATE:20181028T010000
TZOFFSETFROM:+0000
TZOFFSETTO:+0100
TZNAME:Europe/Lisbon WEST
END:DAYLIGHT
BEGIN:DAYLIGHT
DTSTART:20190331T020000
RDATE:20191027T010000
TZOFFSETFROM:+0000
TZOFFSETTO:+0100
TZNAME:Europe/Lisbon WEST
END:DAYLIGHT
BEGIN:DAYLIGHT
DTSTART:20200329T020000
RDATE:20201025T010000
TZOFFSETFROM:+0000
TZOFFSETTO:+0100
TZNAME:Europe/Lisbon WEST
END:DAYLIGHT
END:VTIMEZONE
BEGIN:VEVENT
UID:72263ede4db738f031cf7d49d4db01bb
CATEGORIES:Santos
SUMMARY:Beato Pio de Campidelli
DESCRIPTION;ENCODING=QUOTED-PRINTABLE:\n\nO Beato Pio de Campidelli, nasceu em 29 de Abril de 1868 em Trebbio di 
 Poggio Berni, filho de Giuseppe Campidelli e de Filomena Belpani. O seu nom
 e era Luigi (Luís) Nazareno Francesco Campidelli. Luís era o quarto de seis
  irmãos. Quando criança, o Beato Luís de Campidelli percebeu a atração pela
  oração, a liturgia, a educação religiosa e, apoiada pelo bom exemplo da fa
 mília, expressou com entusiasmo expressões de infância inocentes, como a de
 voção a Nossa Senhora do Santíssimo Sacramento, no Crucifixo. Luís de Campi
 delli, recebeu o sacramento da confissão em 9 de fevereiro de 1873, aos cin
 co anos, pelo bispo de Rimini. No ano de 1874, o pai morre com febre tifóid
 e.\nNo ano de 1877, com 9 anos, Luís de Campidelli faz a primeira comunhão.
  Em 1878, os Passionistas Chierici se envolveram no cuidado do santuário do
  século XVI da Madonna di Casale em San Vito, agora uma aldeia de Sant'Arca
 ngelo em Roma. No ano seguinte,  por ocasião da festa do santuário, o Beato
  admirou o entusiasmo na pregação de alguns frades e aproximou-se da Congre
 gação dos Bispos da Paixão fundada por São Paulo da Cruz. Então, Luís de Ca
 mpidelli pede para vestir o vestido da paixão, mas é convidado a esperar po
 r ser muito novo. \nO Beato Luís de Campidelli terminou os seus estudos, em
  14 de maio de 1882, aos 14 anos, e entrou para a Congregação dos Passionis
 tas. Aí Luís de Campidelli encontrou o clima favorável para desenvolver a a
 spiração dominante de viver em união com Deus no seu íntimo e preparou-se p
 ara envolver outros nesta experiência apaixonada no exercício do ministério
  sacerdotal.\nNo dia 27 de maio iniciou o ano do noviciado, e escolheu o no
 me de Pio e, aos 16 anos de idade, em 29 de abril de 1884, pronunciou os vo
 tos como Passionista Religioso. Pio de Campidelli manifesta exemplarmente o
  chamado, dando a todos um testemunho de fé e presente incondicional a Deus
 , o Pai e a Santíssima Virgem.\nNos anos 1888-1889, Pio começou a adoecer, 
 aceitou todas as suas dores sem nunca se queixar. O beato já não conseguia 
 ler, mas orou continuamente e cantarolando hinos para a Santíssima Virgem: 
 já muito debilitado e procurou consolar a sua mãe e a sua família que frequ
 entemente o visitavam. \nÀs 10h30 do dia 2 de novembro de 1889, Pio morreu 
 entre a consternação da comunidade de San Vito e seus parentes. Foi enterra
 do no acampamento de San Vito na presença de uma grande multidão. \nFoi pro
 clamado &ldquo;Venerável&rdquo; pelo Papa S. João Paulo II, em 21 de março 
 de 1983, que reconheceu na vida do Beato Pio de Campidelli os sinais inequí
 vocos de santidade. \n\n\n \n
DTSTAMP:20260422T111147Z
DTSTART;TZID=Europe/Lisbon;VALUE=DATE:20171103
DTEND;TZID=Europe/Lisbon;VALUE=DATE:20171104
SEQUENCE:0
RRULE:FREQ=YEARLY;COUNT=100;INTERVAL=1;BYYEARDAY=-58
TRANSP:OPAQUE
END:VEVENT
END:VCALENDAR