BEGIN:VCALENDAR
VERSION:2.0
PRODID:-//jEvents 2.0 for Joomla//EN
CALSCALE:GREGORIAN
METHOD:PUBLISH
BEGIN:VTIMEZONE
TZID:Europe/Lisbon
BEGIN:STANDARD
DTSTART:20151103T000000
RDATE:20160327T020000
TZOFFSETFROM:+0100
TZOFFSETTO:+0000
TZNAME:Europe/Lisbon WET
END:STANDARD
BEGIN:STANDARD
DTSTART:20161030T010000
RDATE:20170326T020000
TZOFFSETFROM:+0100
TZOFFSETTO:+0000
TZNAME:Europe/Lisbon WET
END:STANDARD
BEGIN:STANDARD
DTSTART:20171029T010000
RDATE:20180325T020000
TZOFFSETFROM:+0100
TZOFFSETTO:+0000
TZNAME:Europe/Lisbon WET
END:STANDARD
BEGIN:STANDARD
DTSTART:20181028T010000
RDATE:20190331T020000
TZOFFSETFROM:+0100
TZOFFSETTO:+0000
TZNAME:Europe/Lisbon WET
END:STANDARD
BEGIN:STANDARD
DTSTART:20191027T010000
RDATE:20200329T020000
TZOFFSETFROM:+0100
TZOFFSETTO:+0000
TZNAME:Europe/Lisbon WET
END:STANDARD
BEGIN:STANDARD
DTSTART:20201025T010000
RDATE:20210328T020000
TZOFFSETFROM:+0100
TZOFFSETTO:+0000
TZNAME:Europe/Lisbon WET
END:STANDARD
BEGIN:DAYLIGHT
DTSTART:20160327T020000
RDATE:20161030T010000
TZOFFSETFROM:+0000
TZOFFSETTO:+0100
TZNAME:Europe/Lisbon WEST
END:DAYLIGHT
BEGIN:DAYLIGHT
DTSTART:20170326T020000
RDATE:20171029T010000
TZOFFSETFROM:+0000
TZOFFSETTO:+0100
TZNAME:Europe/Lisbon WEST
END:DAYLIGHT
BEGIN:DAYLIGHT
DTSTART:20180325T020000
RDATE:20181028T010000
TZOFFSETFROM:+0000
TZOFFSETTO:+0100
TZNAME:Europe/Lisbon WEST
END:DAYLIGHT
BEGIN:DAYLIGHT
DTSTART:20190331T020000
RDATE:20191027T010000
TZOFFSETFROM:+0000
TZOFFSETTO:+0100
TZNAME:Europe/Lisbon WEST
END:DAYLIGHT
BEGIN:DAYLIGHT
DTSTART:20200329T020000
RDATE:20201025T010000
TZOFFSETFROM:+0000
TZOFFSETTO:+0100
TZNAME:Europe/Lisbon WEST
END:DAYLIGHT
END:VTIMEZONE
BEGIN:VEVENT
UID:bfa251debc0bfc2e32c8a9b36f306944
CATEGORIES:Santos
SUMMARY:Beato Roberto Mayer
DESCRIPTION;ENCODING=QUOTED-PRINTABLE:Roberto Mayer nasceu em Estugarda, Alemanha a 23 de Janeiro de 1876. Foi or
 denado sacerdote em 1899 e entrou na Companhia de Jesus  no ano seguinte em
  1900. Depois de ter completado a sua formação, Roberto Mayer trabalhou dur
 ante alguns anos como missionário popular, até que, no ano de 1912, foi nom
 eado capelão dos imigrantes em Munique.\nO beato Roberto Mayer foi um dos p
 rimeiros a dar-se conta da verdadeira índole do movimento hitleriano nascen
 te e, já em 1923, declarou publicamente que um católico não podia ser nunca
  nacional-socialista.\nO Beato Roberto Mayer sentia uma paixão ardente no s
 eu espírito de seguir a Deus, que o conduzia ou, mais ainda, o impelia ineq
 uivocamente numa só direção.\nProfundamente impregnado de um irresistível a
 mor de Deus, Roberto Mayer repetia constantemente na sua oração: &ldquo;Sen
 hor, como quereis, quanto quereis, o que quereis, porque o quereis!&rdquo;.
  O Senhor e a sua vontade eram o íman da vida do beato.\nEm 1939, Roberto M
 ayer foi enviado para o campo de concentração de Sachsenhausen. Aí as suas 
 forças físicas caíram de modo tão preocupante que os nazistas, receando que
  o Beato Roberto Mayer morresse como mártir, o encerraram, a 5 de Agosto de
  1940, na Abadia de Ettal, onde permaneceu completamente isolado até ao fim
  da Segunda Guerra Mundial. Roberto Mayer retomou então as suas atividades 
 sacerdotais na capital bávara, mas, no dia 1 de Novembro de 1945, veio a mo
 rrer. \nRoberto Mayer foi beatificado em Munique por João Paulo II em 1987.
 \n
DTSTAMP:20260422T233504Z
DTSTART;TZID=Europe/Lisbon;VALUE=DATE:20161103
DTEND;TZID=Europe/Lisbon;VALUE=DATE:20161104
SEQUENCE:0
RRULE:FREQ=YEARLY;COUNT=100;INTERVAL=1;BYYEARDAY=-59
TRANSP:OPAQUE
END:VEVENT
END:VCALENDAR