BEGIN:VCALENDAR
VERSION:2.0
PRODID:-//jEvents 2.0 for Joomla//EN
CALSCALE:GREGORIAN
METHOD:PUBLISH
BEGIN:VTIMEZONE
TZID:Europe/Lisbon
BEGIN:STANDARD
DTSTART:20130111T000000
RDATE:20130331T020000
TZOFFSETFROM:+0100
TZOFFSETTO:+0000
TZNAME:Europe/Lisbon WET
END:STANDARD
BEGIN:STANDARD
DTSTART:20131027T010000
RDATE:20140330T020000
TZOFFSETFROM:+0100
TZOFFSETTO:+0000
TZNAME:Europe/Lisbon WET
END:STANDARD
BEGIN:STANDARD
DTSTART:20141026T010000
RDATE:20150329T020000
TZOFFSETFROM:+0100
TZOFFSETTO:+0000
TZNAME:Europe/Lisbon WET
END:STANDARD
BEGIN:STANDARD
DTSTART:20151025T010000
RDATE:20160327T020000
TZOFFSETFROM:+0100
TZOFFSETTO:+0000
TZNAME:Europe/Lisbon WET
END:STANDARD
BEGIN:STANDARD
DTSTART:20161030T010000
RDATE:20170326T020000
TZOFFSETFROM:+0100
TZOFFSETTO:+0000
TZNAME:Europe/Lisbon WET
END:STANDARD
BEGIN:STANDARD
DTSTART:20171029T010000
RDATE:20180325T020000
TZOFFSETFROM:+0100
TZOFFSETTO:+0000
TZNAME:Europe/Lisbon WET
END:STANDARD
BEGIN:STANDARD
DTSTART:20181028T010000
RDATE:20190331T020000
TZOFFSETFROM:+0100
TZOFFSETTO:+0000
TZNAME:Europe/Lisbon WET
END:STANDARD
BEGIN:STANDARD
DTSTART:20191027T010000
RDATE:20200329T020000
TZOFFSETFROM:+0100
TZOFFSETTO:+0000
TZNAME:Europe/Lisbon WET
END:STANDARD
BEGIN:STANDARD
DTSTART:20201025T010000
RDATE:20210328T020000
TZOFFSETFROM:+0100
TZOFFSETTO:+0000
TZNAME:Europe/Lisbon WET
END:STANDARD
BEGIN:DAYLIGHT
DTSTART:20130331T020000
RDATE:20131027T010000
TZOFFSETFROM:+0000
TZOFFSETTO:+0100
TZNAME:Europe/Lisbon WEST
END:DAYLIGHT
BEGIN:DAYLIGHT
DTSTART:20140330T020000
RDATE:20141026T010000
TZOFFSETFROM:+0000
TZOFFSETTO:+0100
TZNAME:Europe/Lisbon WEST
END:DAYLIGHT
BEGIN:DAYLIGHT
DTSTART:20150329T020000
RDATE:20151025T010000
TZOFFSETFROM:+0000
TZOFFSETTO:+0100
TZNAME:Europe/Lisbon WEST
END:DAYLIGHT
BEGIN:DAYLIGHT
DTSTART:20160327T020000
RDATE:20161030T010000
TZOFFSETFROM:+0000
TZOFFSETTO:+0100
TZNAME:Europe/Lisbon WEST
END:DAYLIGHT
BEGIN:DAYLIGHT
DTSTART:20170326T020000
RDATE:20171029T010000
TZOFFSETFROM:+0000
TZOFFSETTO:+0100
TZNAME:Europe/Lisbon WEST
END:DAYLIGHT
BEGIN:DAYLIGHT
DTSTART:20180325T020000
RDATE:20181028T010000
TZOFFSETFROM:+0000
TZOFFSETTO:+0100
TZNAME:Europe/Lisbon WEST
END:DAYLIGHT
BEGIN:DAYLIGHT
DTSTART:20190331T020000
RDATE:20191027T010000
TZOFFSETFROM:+0000
TZOFFSETTO:+0100
TZNAME:Europe/Lisbon WEST
END:DAYLIGHT
BEGIN:DAYLIGHT
DTSTART:20200329T020000
RDATE:20201025T010000
TZOFFSETFROM:+0000
TZOFFSETTO:+0100
TZNAME:Europe/Lisbon WEST
END:DAYLIGHT
END:VTIMEZONE
BEGIN:VEVENT
UID:4cbcac63ad273047af21b44f61f80b46
CATEGORIES:Santos
SUMMARY:Santo António Maria Pucci
DESCRIPTION;ENCODING=QUOTED-PRINTABLE:Santo António Maria Pucci, nasceu em 1819, em Pogiolo de Vernio, em Itália.
  Foi batizado como Eustáquio Pucci. Existem documentos que o referem como t
 endo seis irmãos, outros como sendo o segundo de nove filhos. A sua família
  era católica, no entanto Santo António Maria Pucci, enfrentou a resistênci
 a dos irmãos quando tentou seguir a vida de religioso.\nAos dezoito anos, S
 anto António Maria Pucci, ingressou no convento dos Servos de Maria da Sant
 íssima Anunciação de Florença, onde mudou o nome para António Maria. No ano
  de 1843, fez a profissão religiosa e depois de alguns meses Santo António 
 Maria Pucci foi ordenado sacerdote. Quatro anos depois Santo António Maria 
 Pucci foi enviado, como vice pároco para a nova paróquia de Santo André, em
  Viarégio, confiada aos servitas. Ao fim de três anos, Santo António Maria 
 Pucci, tornou-se pároco, função que exerceu durante quarenta e oito anos.\n
 Durante a sua vida, Santo António Maria Pucci dedicou-se à cura espiritual 
 e material dos seus fiéis. Santo António Maria Pucci enfrentou duas epidemi
 as na cidade, tratando pessoalmente dos mais doentes, pois tinha o dom da c
 ura e do conselho. Os paroquianos respondiam com afeto a esta completa doaç
 ão.\nAo mesmo tempo, durante vinte e quantro anos, Santo António Maria Pucc
 i, foi o superior do seu convento em Viarégio, e por sete anos superior da 
 Província Toscana dos Servos de Maria.\nNo ano de 1853, Santo António Maria
  Pucci fundou a congregação das Irmãs Auxiliares Servas de Maria direcciona
 das para a educação de adolescentes, e criou o primeiro orfanato mariano pa
 ra as crianças doentes e pobres. \nDepois de socorrer um doente, numa noite
  fria e de tempestade, Santo António Maria Pucci, contraiu uma pneumonia fl
 uminante, que o levou à morte em 12 de janeiro de 1892. Santo António Maria
  Pucci foi sepultado no cemitério da congregação onde permaneceu até 1920, 
 intercedendo e alcançando graças para seus devotos. \n\nNascimento: 16 de a
 bril de 1819 d.C., em Pogiolo de Vernio, Florença, Itália.\n\nCuriosidade: 
 As relíquias de Santo António Maria Pucci foram transladadas, em 1920, para
  a Igreja de Santo André, onde havia desenvolvido todo o seu ministério sac
 erdotal.\nO Papa João XXIII celebrou a sua canonização no ano de 1962, e el
 evou a igreja, que guarda a sua memória, a condição de basílica. Na cerimón
 ia solene ele declarou Santo António Maria Pucci "um exemplo fúlgido de vid
 a religiosa e aplicada à pastoral das almas".\n\n\n \n
DTSTAMP:20260420T134409Z
DTSTART;TZID=Europe/Lisbon;VALUE=DATE:20140112
DTEND;TZID=Europe/Lisbon;VALUE=DATE:20140113
SEQUENCE:0
RRULE:FREQ=YEARLY;COUNT=100;INTERVAL=1;BYYEARDAY=+12
TRANSP:OPAQUE
END:VEVENT
END:VCALENDAR