BEGIN:VCALENDAR
VERSION:2.0
PRODID:-//jEvents 2.0 for Joomla//EN
CALSCALE:GREGORIAN
METHOD:PUBLISH
BEGIN:VTIMEZONE
TZID:Europe/Lisbon
BEGIN:STANDARD
DTSTART:20151101T000000
RDATE:20160327T020000
TZOFFSETFROM:+0100
TZOFFSETTO:+0000
TZNAME:Europe/Lisbon WET
END:STANDARD
BEGIN:STANDARD
DTSTART:20161030T010000
RDATE:20170326T020000
TZOFFSETFROM:+0100
TZOFFSETTO:+0000
TZNAME:Europe/Lisbon WET
END:STANDARD
BEGIN:STANDARD
DTSTART:20171029T010000
RDATE:20180325T020000
TZOFFSETFROM:+0100
TZOFFSETTO:+0000
TZNAME:Europe/Lisbon WET
END:STANDARD
BEGIN:STANDARD
DTSTART:20181028T010000
RDATE:20190331T020000
TZOFFSETFROM:+0100
TZOFFSETTO:+0000
TZNAME:Europe/Lisbon WET
END:STANDARD
BEGIN:STANDARD
DTSTART:20191027T010000
RDATE:20200329T020000
TZOFFSETFROM:+0100
TZOFFSETTO:+0000
TZNAME:Europe/Lisbon WET
END:STANDARD
BEGIN:STANDARD
DTSTART:20201025T010000
RDATE:20210328T020000
TZOFFSETFROM:+0100
TZOFFSETTO:+0000
TZNAME:Europe/Lisbon WET
END:STANDARD
BEGIN:DAYLIGHT
DTSTART:20160327T020000
RDATE:20161030T010000
TZOFFSETFROM:+0000
TZOFFSETTO:+0100
TZNAME:Europe/Lisbon WEST
END:DAYLIGHT
BEGIN:DAYLIGHT
DTSTART:20170326T020000
RDATE:20171029T010000
TZOFFSETFROM:+0000
TZOFFSETTO:+0100
TZNAME:Europe/Lisbon WEST
END:DAYLIGHT
BEGIN:DAYLIGHT
DTSTART:20180325T020000
RDATE:20181028T010000
TZOFFSETFROM:+0000
TZOFFSETTO:+0100
TZNAME:Europe/Lisbon WEST
END:DAYLIGHT
BEGIN:DAYLIGHT
DTSTART:20190331T020000
RDATE:20191027T010000
TZOFFSETFROM:+0000
TZOFFSETTO:+0100
TZNAME:Europe/Lisbon WEST
END:DAYLIGHT
BEGIN:DAYLIGHT
DTSTART:20200329T020000
RDATE:20201025T010000
TZOFFSETFROM:+0000
TZOFFSETTO:+0100
TZNAME:Europe/Lisbon WEST
END:DAYLIGHT
END:VTIMEZONE
BEGIN:VEVENT
UID:55d8cefbe2ca10aaec4b2e0dd14e0cca
CATEGORIES:Santos
SUMMARY:Todos os Santos
DESCRIPTION;ENCODING=QUOTED-PRINTABLE:\n\nNo dia 1 de Novembro, a Igreja celebra a solenidade de Todos os Santos.
  No século IV, as Igrejas do Oriente foram as primeiras a promover uma cele
 bração conjunta de todos os santos. No Ocidente, corria o ano de 610, quand
 o o Papa Bonifácio IV introduziu a 13 de Maio, uma celebração dedicada à Sa
 ntíssima Virgem e a todos os mártires, que passou a ser celebrada anualment
 e nessa data (13 de Maio). No ano de 835 o Papa Gregório IV transferiu esta
  celebração para o dia 1 de Novembro. Assim desde o ano de 835 que celebram
 os a Solenidade de Todos os Santos.\n\n\nMas quem são afinal todos os santo
 s? Conhecemos os nomes de todos eles?\n\n\n\n \nNo Livro do Apocalipse,  no
  capítulo 5, versículo 11, São João afirma que há uma multidão incontável d
 e santos: &ldquo;Então reparei e também ouvi a voz de grande multidão de an
 jos ao redor do trono e dos seres viventes e dos anciãos, cujo número era d
 e milhares de milhares e de milhões e milhões&rdquo;. Porém, nem todos este
 s santos chegarão a ser canonizados pela Igreja; então, esta solenidade (To
 dos os Santos) existe para recordar todos os fiéis que estão no céu, sejam 
 ou não canonizados pela Igreja.\nSão esses nossos irmãos e irmãs, de difere
 ntes estados de vida, diferentes idades e raças, que nós acreditamos que já
  contemplam a face do Senhor e já estão nesta dimensão triunfante da Igreja
 . Assim esses são os que celebramos na Solenidade de Todos os Santos. \nMas
  essa festa existe também, para recordarmos que todos nós somos chamados ao
  Reino Celestial, cada um de nós deve procurar viver a vida em santidade.\n
 Assim como muitos fiéis costumam celebrar o seu santo de devoção e pedir a 
 sua intercessão, especialmente no dia dedicado a eles, no primeiro dia de n
 ovembro, é possível pedir a intercessão de todos os santos.\nSantos canoniz
 ados ao longo da história da Igreja, e também no século XXI, como João Paul
 o II, são prova de que a vocação à santidade é possível. Não é algo estranh
 o, impossível a realizar, com a graça e a ajuda de Deus conseguimos alcança
 r essa meta. Por isso não devemos desistir de percorrer esse caminho que no
 s leva à santidade e a Deus.\n Na sua oração peça a todos os santos a sua a
 juda e intercessão e siga o exemplo daqueles que conhece.\n
DTSTAMP:20260423T134118Z
DTSTART;TZID=Europe/Lisbon;VALUE=DATE:20161101
DTEND;TZID=Europe/Lisbon;VALUE=DATE:20161102
SEQUENCE:0
RRULE:FREQ=YEARLY;COUNT=100;INTERVAL=1;BYYEARDAY=-61
TRANSP:OPAQUE
END:VEVENT
END:VCALENDAR