BEGIN:VCALENDAR
VERSION:2.0
PRODID:-//jEvents 2.0 for Joomla//EN
CALSCALE:GREGORIAN
METHOD:PUBLISH
BEGIN:VTIMEZONE
TZID:Europe/Lisbon
BEGIN:STANDARD
DTSTART:20161116T000000
RDATE:20170326T020000
TZOFFSETFROM:+0100
TZOFFSETTO:+0000
TZNAME:Europe/Lisbon WET
END:STANDARD
BEGIN:STANDARD
DTSTART:20171029T010000
RDATE:20180325T020000
TZOFFSETFROM:+0100
TZOFFSETTO:+0000
TZNAME:Europe/Lisbon WET
END:STANDARD
BEGIN:STANDARD
DTSTART:20181028T010000
RDATE:20190331T020000
TZOFFSETFROM:+0100
TZOFFSETTO:+0000
TZNAME:Europe/Lisbon WET
END:STANDARD
BEGIN:STANDARD
DTSTART:20191027T010000
RDATE:20200329T020000
TZOFFSETFROM:+0100
TZOFFSETTO:+0000
TZNAME:Europe/Lisbon WET
END:STANDARD
BEGIN:STANDARD
DTSTART:20201025T010000
RDATE:20210328T020000
TZOFFSETFROM:+0100
TZOFFSETTO:+0000
TZNAME:Europe/Lisbon WET
END:STANDARD
BEGIN:DAYLIGHT
DTSTART:20170326T020000
RDATE:20171029T010000
TZOFFSETFROM:+0000
TZOFFSETTO:+0100
TZNAME:Europe/Lisbon WEST
END:DAYLIGHT
BEGIN:DAYLIGHT
DTSTART:20180325T020000
RDATE:20181028T010000
TZOFFSETFROM:+0000
TZOFFSETTO:+0100
TZNAME:Europe/Lisbon WEST
END:DAYLIGHT
BEGIN:DAYLIGHT
DTSTART:20190331T020000
RDATE:20191027T010000
TZOFFSETFROM:+0000
TZOFFSETTO:+0100
TZNAME:Europe/Lisbon WEST
END:DAYLIGHT
BEGIN:DAYLIGHT
DTSTART:20200329T020000
RDATE:20201025T010000
TZOFFSETFROM:+0000
TZOFFSETTO:+0100
TZNAME:Europe/Lisbon WEST
END:DAYLIGHT
END:VTIMEZONE
BEGIN:VEVENT
UID:d933a1adcf5b622fd5a17d0d57a87928
CATEGORIES:Santos
SUMMARY:Santa Margarida da Escócia
DESCRIPTION;ENCODING=QUOTED-PRINTABLE:\n\n\nMargarida da Escócia ou Margarida de Wessex nasceu por volta do ano 1
 045 na Hungria e faleceu a 16 de Novembro de 1093 no Castelo de Edimburgo, 
 na Escócia.\nEra filha de Eduardo, o Exilado, herdeiro da Inglaterra e de Á
 gata. A sua ascendência era nobre e Santa Margarida da Escócia era neta do 
 Rei Edmundo da Escócia. Do lado materno, Santa Margarida era parente de Gis
 ela, mulher de Santo Estêvão da Hungria ou do Imperador Henrique II.\nA tra
 dição diz que seu pai e seu tio Edmundo foram para a Hungria por segurança,
  durante o reinado de Canuto II da Dinamarca, mas não se encontram registro
 s na Hungria. Margarida voltou por volta de 1057 à corte de Eduardo o Confe
 ssor. Dez anos depois, após a batalha de Hastings, fugiu com o irmão.\nCom 
 a morte do pai, com a conquista da Inglaterra pelos normandos, sua mãe Ágat
 a resolveu voltar ao continente mas uma tempestade jogou o seu navio na Esc
 ócia, onde foram acolhidos por Malcolm III que decidiu casar com Margarida.
  Santa Margarida desejava ser freira, mas o casamento deve ter acontecido e
 ntre 1067 e 1070.\nFoi rainha devota e muito amada pelo povo pois mudou os 
 modos da corte e seus padrões de comportamento. Os magnatas foram proibidos
  de embebedar-se e ela usou o dinheiro do reino para ajudar os pobres, alim
 entá-los, dar-lhes abrigo. Encorajou o comércio exterior e fundou mosteiros
  e igrejas, incluindo-se a abadia de Dunfermline, construída para abrigar o
  seu maior tesouro, uma relíquia da verdadeira Cruz. Santa Margarida restau
 rou a Abadia de Iona, na ilha de Iona (Escócia).\nO seu Evangelho ou livro 
 de horas, ricamente adornado com joias, caiu um dia num rio e foi miraculos
 amente recuperado, estando hoje na Biblioteca Bodleian em Oxford.\nCom seu 
 casamento aproximou as igrejas romana e céltica. Reuniu um sínodo que produ
 ziu novos regulamentos para o jejum da Páscoa, a comunhão e alguns abusos q
 uanto aos casamentos em graus proibidos.\nAnglicizou e refinou a corte e o 
 marido com suas virtudes, modéstia e beleza rara. Paciência e doçura suaviz
 aram os modos do marido - e converter o Rei é converter o Reino. O marido q
 ue era analfabeto e bruto foi-se tornando cristão e gracioso e os seus três
  filhos reinaram a seguir, e neles a mãe inspirara amor a Deus, desprezo da
 s vaidades terrestres e horror do pecado.\nFoi canonizada em 1250 ou 1251 p
 elo Papa Inocêncio IV. \nSanta Margarida da Escócia rogai por nós!\n
DTSTAMP:20260423T053427Z
DTSTART;TZID=Europe/Lisbon;VALUE=DATE:20171117
DTEND;TZID=Europe/Lisbon;VALUE=DATE:20171118
SEQUENCE:0
RRULE:FREQ=YEARLY;COUNT=100;INTERVAL=1;BYYEARDAY=-45
TRANSP:OPAQUE
END:VEVENT
END:VCALENDAR