BEGIN:VCALENDAR
VERSION:2.0
PRODID:-//jEvents 2.0 for Joomla//EN
CALSCALE:GREGORIAN
METHOD:PUBLISH
BEGIN:VTIMEZONE
TZID:Europe/Lisbon
BEGIN:STANDARD
DTSTART:20130111T000000
RDATE:20130331T020000
TZOFFSETFROM:+0100
TZOFFSETTO:+0000
TZNAME:Europe/Lisbon WET
END:STANDARD
BEGIN:STANDARD
DTSTART:20131027T010000
RDATE:20140330T020000
TZOFFSETFROM:+0100
TZOFFSETTO:+0000
TZNAME:Europe/Lisbon WET
END:STANDARD
BEGIN:STANDARD
DTSTART:20141026T010000
RDATE:20150329T020000
TZOFFSETFROM:+0100
TZOFFSETTO:+0000
TZNAME:Europe/Lisbon WET
END:STANDARD
BEGIN:STANDARD
DTSTART:20151025T010000
RDATE:20160327T020000
TZOFFSETFROM:+0100
TZOFFSETTO:+0000
TZNAME:Europe/Lisbon WET
END:STANDARD
BEGIN:STANDARD
DTSTART:20161030T010000
RDATE:20170326T020000
TZOFFSETFROM:+0100
TZOFFSETTO:+0000
TZNAME:Europe/Lisbon WET
END:STANDARD
BEGIN:STANDARD
DTSTART:20171029T010000
RDATE:20180325T020000
TZOFFSETFROM:+0100
TZOFFSETTO:+0000
TZNAME:Europe/Lisbon WET
END:STANDARD
BEGIN:STANDARD
DTSTART:20181028T010000
RDATE:20190331T020000
TZOFFSETFROM:+0100
TZOFFSETTO:+0000
TZNAME:Europe/Lisbon WET
END:STANDARD
BEGIN:STANDARD
DTSTART:20191027T010000
RDATE:20200329T020000
TZOFFSETFROM:+0100
TZOFFSETTO:+0000
TZNAME:Europe/Lisbon WET
END:STANDARD
BEGIN:STANDARD
DTSTART:20201025T010000
RDATE:20210328T020000
TZOFFSETFROM:+0100
TZOFFSETTO:+0000
TZNAME:Europe/Lisbon WET
END:STANDARD
BEGIN:DAYLIGHT
DTSTART:20130331T020000
RDATE:20131027T010000
TZOFFSETFROM:+0000
TZOFFSETTO:+0100
TZNAME:Europe/Lisbon WEST
END:DAYLIGHT
BEGIN:DAYLIGHT
DTSTART:20140330T020000
RDATE:20141026T010000
TZOFFSETFROM:+0000
TZOFFSETTO:+0100
TZNAME:Europe/Lisbon WEST
END:DAYLIGHT
BEGIN:DAYLIGHT
DTSTART:20150329T020000
RDATE:20151025T010000
TZOFFSETFROM:+0000
TZOFFSETTO:+0100
TZNAME:Europe/Lisbon WEST
END:DAYLIGHT
BEGIN:DAYLIGHT
DTSTART:20160327T020000
RDATE:20161030T010000
TZOFFSETFROM:+0000
TZOFFSETTO:+0100
TZNAME:Europe/Lisbon WEST
END:DAYLIGHT
BEGIN:DAYLIGHT
DTSTART:20170326T020000
RDATE:20171029T010000
TZOFFSETFROM:+0000
TZOFFSETTO:+0100
TZNAME:Europe/Lisbon WEST
END:DAYLIGHT
BEGIN:DAYLIGHT
DTSTART:20180325T020000
RDATE:20181028T010000
TZOFFSETFROM:+0000
TZOFFSETTO:+0100
TZNAME:Europe/Lisbon WEST
END:DAYLIGHT
BEGIN:DAYLIGHT
DTSTART:20190331T020000
RDATE:20191027T010000
TZOFFSETFROM:+0000
TZOFFSETTO:+0100
TZNAME:Europe/Lisbon WEST
END:DAYLIGHT
BEGIN:DAYLIGHT
DTSTART:20200329T020000
RDATE:20201025T010000
TZOFFSETFROM:+0000
TZOFFSETTO:+0100
TZNAME:Europe/Lisbon WEST
END:DAYLIGHT
END:VTIMEZONE
BEGIN:VEVENT
UID:bac72bb09db47eaae404aea3f3e2fd84
CATEGORIES:Santos
SUMMARY:São Arcádio
DESCRIPTION;ENCODING=QUOTED-PRINTABLE:\nNão se sabe ao certo a data do martírio de Santo Arcádio, mas o mesmo par
 ece ter ocorrido numa cidade da Mauritânia, muito provavelmente em Cesareia
 , terra natal de Santo Arcádio. Por volta do ano 260 d.C., Santo Arcádio re
 tirou-se e dedicou-se à solidão, pois os cristãos eram perseguidos e tortur
 ados pelos soldados romanos quando não abdicavam da sua religião.\nO govern
 ador da cidade ao saber que Santo Arcárdio não tinha apresentado sacrifícos
  públicos, mandou procurá-lo. Os soldados foram então até à casa de Santo A
 rcádio e lá encontraram um parente seu. Este parente tentou justificar a au
 sência de Santo Arcádio, mas os soldados romanos não o quiseram ouvir e fiz
 eram-no prisioneiro.\nAo saber disso, Santo Arcádio apresentou-se diante do
  governador e disse-lhe que libertasse o inocente e ficasse com ele. O gove
 rnador aceitou libertando assim o parente de Santo Arcádio. De seguida, pro
 pôs a Santo Arcádio que oferecesse sacríficios aos deuses. Perante a negaçã
 o de Santo Arcádio, o juíz o condenou à morte, mandando cortar lentamente c
 ada um dos seus membros.\nEstando já totalmente mutilado, Santo Arcádio arr
 anjou forças e dirigindo-se à comunidade pagã, exortou-os a abandonar os se
 us falsos deuses e adorar o Único Deus verdadeiro, o Senhor.\nTal atitude m
 aravilhou de tal forma os presentes que começaram a honrá-lo como um grande
  santo.\n\n
DTSTAMP:20260419T211520Z
DTSTART;TZID=Europe/Lisbon;VALUE=DATE:20140112
DTEND;TZID=Europe/Lisbon;VALUE=DATE:20140113
SEQUENCE:0
RRULE:FREQ=YEARLY;COUNT=100;INTERVAL=1;BYYEARDAY=+12
TRANSP:OPAQUE
END:VEVENT
END:VCALENDAR