BEGIN:VCALENDAR
VERSION:2.0
PRODID:-//jEvents 2.0 for Joomla//EN
CALSCALE:GREGORIAN
METHOD:PUBLISH
BEGIN:VTIMEZONE
TZID:Europe/Lisbon
BEGIN:STANDARD
DTSTART:20130102T000000
RDATE:20130331T020000
TZOFFSETFROM:+0100
TZOFFSETTO:+0000
TZNAME:Europe/Lisbon WET
END:STANDARD
BEGIN:STANDARD
DTSTART:20131027T010000
RDATE:20140330T020000
TZOFFSETFROM:+0100
TZOFFSETTO:+0000
TZNAME:Europe/Lisbon WET
END:STANDARD
BEGIN:STANDARD
DTSTART:20141026T010000
RDATE:20150329T020000
TZOFFSETFROM:+0100
TZOFFSETTO:+0000
TZNAME:Europe/Lisbon WET
END:STANDARD
BEGIN:STANDARD
DTSTART:20151025T010000
RDATE:20160327T020000
TZOFFSETFROM:+0100
TZOFFSETTO:+0000
TZNAME:Europe/Lisbon WET
END:STANDARD
BEGIN:STANDARD
DTSTART:20161030T010000
RDATE:20170326T020000
TZOFFSETFROM:+0100
TZOFFSETTO:+0000
TZNAME:Europe/Lisbon WET
END:STANDARD
BEGIN:STANDARD
DTSTART:20171029T010000
RDATE:20180325T020000
TZOFFSETFROM:+0100
TZOFFSETTO:+0000
TZNAME:Europe/Lisbon WET
END:STANDARD
BEGIN:STANDARD
DTSTART:20181028T010000
RDATE:20190331T020000
TZOFFSETFROM:+0100
TZOFFSETTO:+0000
TZNAME:Europe/Lisbon WET
END:STANDARD
BEGIN:STANDARD
DTSTART:20191027T010000
RDATE:20200329T020000
TZOFFSETFROM:+0100
TZOFFSETTO:+0000
TZNAME:Europe/Lisbon WET
END:STANDARD
BEGIN:STANDARD
DTSTART:20201025T010000
RDATE:20210328T020000
TZOFFSETFROM:+0100
TZOFFSETTO:+0000
TZNAME:Europe/Lisbon WET
END:STANDARD
BEGIN:DAYLIGHT
DTSTART:20130331T020000
RDATE:20131027T010000
TZOFFSETFROM:+0000
TZOFFSETTO:+0100
TZNAME:Europe/Lisbon WEST
END:DAYLIGHT
BEGIN:DAYLIGHT
DTSTART:20140330T020000
RDATE:20141026T010000
TZOFFSETFROM:+0000
TZOFFSETTO:+0100
TZNAME:Europe/Lisbon WEST
END:DAYLIGHT
BEGIN:DAYLIGHT
DTSTART:20150329T020000
RDATE:20151025T010000
TZOFFSETFROM:+0000
TZOFFSETTO:+0100
TZNAME:Europe/Lisbon WEST
END:DAYLIGHT
BEGIN:DAYLIGHT
DTSTART:20160327T020000
RDATE:20161030T010000
TZOFFSETFROM:+0000
TZOFFSETTO:+0100
TZNAME:Europe/Lisbon WEST
END:DAYLIGHT
BEGIN:DAYLIGHT
DTSTART:20170326T020000
RDATE:20171029T010000
TZOFFSETFROM:+0000
TZOFFSETTO:+0100
TZNAME:Europe/Lisbon WEST
END:DAYLIGHT
BEGIN:DAYLIGHT
DTSTART:20180325T020000
RDATE:20181028T010000
TZOFFSETFROM:+0000
TZOFFSETTO:+0100
TZNAME:Europe/Lisbon WEST
END:DAYLIGHT
BEGIN:DAYLIGHT
DTSTART:20190331T020000
RDATE:20191027T010000
TZOFFSETFROM:+0000
TZOFFSETTO:+0100
TZNAME:Europe/Lisbon WEST
END:DAYLIGHT
BEGIN:DAYLIGHT
DTSTART:20200329T020000
RDATE:20201025T010000
TZOFFSETFROM:+0000
TZOFFSETTO:+0100
TZNAME:Europe/Lisbon WEST
END:DAYLIGHT
END:VTIMEZONE
BEGIN:VEVENT
UID:330089093cf9d43263378dc237b86386
CATEGORIES:Santos
SUMMARY:Santa Genoveva de Paris
DESCRIPTION;ENCODING=QUOTED-PRINTABLE:\n\n\n\n\nGenoveva nasceu numa família de pastores em Nanterre, França, e m
 udou-se para Paris após a morte dos seus pais. Aí entrou para um convento, 
 aparentemente inspirada por S. Germano de Auxerre (31 de Julho). Quando no 
 ano de 464, a cidade foi sitiada pelos francos de Childerico, Genoveva lide
 rou um grupo que saiu da cidade em busa de alimentos, tendo a sua dedicação
  conquistado o respeito do soberano franco e salvado muitas vidas.\n\n\nDiz
 -se que posteriormente, em 496, ela terá convertido o filho do rei, Clóvis,
  que em memória de Genoveva construiu a Igreja dos Apóstolos em Paris. Ante
 s, no ano de 451, diz-se que a defesa por parte dela da paz e do poder da o
 ração terá salvado Paris da destruição às mãos do exército huno de Átila.\n
 \n\nA influência de Genoveva viria a perdurar, e no ano de 1129, um surto d
 e envenenamento por morrão em Paris chegou ao fim quando as suas relíquias 
 foram levadas em procissão até à Catedral de Notre-Dame, um acontecimento q
 ue ainda hoje é celebrado. \n\n\nDurante a Revolução Francesa as suas relíq
 uias foram destruídas.\n\n\n\n\n\nNascimento: ano 422 d.C., em Nanterre - F
 rança\n         Morte: ano 500 d.C., em Paris - França\n\n                 
                Curiosidade: Muitas vezes é representada a pastorear ovelhas
 \n
DTSTAMP:20260421T115340Z
DTSTART;TZID=Europe/Lisbon;VALUE=DATE:20140103
DTEND;TZID=Europe/Lisbon;VALUE=DATE:20140104
SEQUENCE:0
RRULE:FREQ=YEARLY;COUNT=100;INTERVAL=1;BYYEARDAY=+3
TRANSP:OPAQUE
END:VEVENT
END:VCALENDAR