BEGIN:VCALENDAR
VERSION:2.0
PRODID:-//jEvents 2.0 for Joomla//EN
CALSCALE:GREGORIAN
METHOD:PUBLISH
BEGIN:VTIMEZONE
TZID:Europe/Lisbon
BEGIN:STANDARD
DTSTART:20161112T000000
RDATE:20170326T020000
TZOFFSETFROM:+0100
TZOFFSETTO:+0000
TZNAME:Europe/Lisbon WET
END:STANDARD
BEGIN:STANDARD
DTSTART:20171029T010000
RDATE:20180325T020000
TZOFFSETFROM:+0100
TZOFFSETTO:+0000
TZNAME:Europe/Lisbon WET
END:STANDARD
BEGIN:STANDARD
DTSTART:20181028T010000
RDATE:20190331T020000
TZOFFSETFROM:+0100
TZOFFSETTO:+0000
TZNAME:Europe/Lisbon WET
END:STANDARD
BEGIN:STANDARD
DTSTART:20191027T010000
RDATE:20200329T020000
TZOFFSETFROM:+0100
TZOFFSETTO:+0000
TZNAME:Europe/Lisbon WET
END:STANDARD
BEGIN:STANDARD
DTSTART:20201025T010000
RDATE:20210328T020000
TZOFFSETFROM:+0100
TZOFFSETTO:+0000
TZNAME:Europe/Lisbon WET
END:STANDARD
BEGIN:DAYLIGHT
DTSTART:20170326T020000
RDATE:20171029T010000
TZOFFSETFROM:+0000
TZOFFSETTO:+0100
TZNAME:Europe/Lisbon WEST
END:DAYLIGHT
BEGIN:DAYLIGHT
DTSTART:20180325T020000
RDATE:20181028T010000
TZOFFSETFROM:+0000
TZOFFSETTO:+0100
TZNAME:Europe/Lisbon WEST
END:DAYLIGHT
BEGIN:DAYLIGHT
DTSTART:20190331T020000
RDATE:20191027T010000
TZOFFSETFROM:+0000
TZOFFSETTO:+0100
TZNAME:Europe/Lisbon WEST
END:DAYLIGHT
BEGIN:DAYLIGHT
DTSTART:20200329T020000
RDATE:20201025T010000
TZOFFSETFROM:+0000
TZOFFSETTO:+0100
TZNAME:Europe/Lisbon WEST
END:DAYLIGHT
END:VTIMEZONE
BEGIN:VEVENT
UID:0b2c29a4cd86ec2dd5bdb697fbc4d374
CATEGORIES:Santos
SUMMARY:Francisca Xavier Cabrini
DESCRIPTION;ENCODING=QUOTED-PRINTABLE:\n\n Francisca Xavier Cabrini nasceu a 15 de Julho de 1850 em Sant&rsquo;An
 gelo Lodigiano (Itália) e faleceu a 22 de Dezembro de 1917 em Chicago (Esta
 dos Unidos da América). Era filha de Agostino Cabrini e Stella Oldini. Tinh
 a doze irmãos.\nFrancisca Xavier Cabrini nasceu prematura e a sua saúde sem
 pre foi delicada. Fez os votos religiosos em 1877 e foi Madre Superiora no 
 orfanato Casa da Providência em Codogno, onde também era professora.\nNo an
 o de 1880, o orfanato foi fechado e conjuntamente com outros seis fundadore
 s Francisca Xavier Cabrini fundou o Instituto das Irmãs Missionárias do Sag
 rado Coração de Jesus. \nFoi enviada, pelo Papa Leão XIII, a 31 de Março de
  1889 para trabalhar em Nova Iorque. Ali teve a permissão do arcebispo Mich
 ael Corrigan para fundar um orfanato, a primeira das 67 instituições que fu
 ndou em Nova Iorque, Chicago, Seattle, Nova Orleans, Denver, Los Angels e o
 utros países da América do Sul e da Europa.\nNaturalizou-se cidadã norte-am
 ericana em 1909.\nFaleceu de disenteria no Hospital Columbus de Chicago.\nF
 oi beatificado pelo Papa Pio XI a 13 de Novembro de 1938 e canonizada a 7 d
 e Julho de 1946 pelo Papa Pio XII.\nÉ a padroeira dos imigrantes.\n
DTSTAMP:20260422T111113Z
DTSTART;TZID=Europe/Lisbon;VALUE=DATE:20171113
DTEND;TZID=Europe/Lisbon;VALUE=DATE:20171114
SEQUENCE:0
RRULE:FREQ=YEARLY;COUNT=100;INTERVAL=1;BYYEARDAY=-49
TRANSP:OPAQUE
END:VEVENT
END:VCALENDAR