BEGIN:VCALENDAR
VERSION:2.0
PRODID:-//jEvents 2.0 for Joomla//EN
CALSCALE:GREGORIAN
METHOD:PUBLISH
BEGIN:VTIMEZONE
TZID:Europe/Lisbon
BEGIN:STANDARD
DTSTART:20161116T000000
RDATE:20170326T020000
TZOFFSETFROM:+0100
TZOFFSETTO:+0000
TZNAME:Europe/Lisbon WET
END:STANDARD
BEGIN:STANDARD
DTSTART:20171029T010000
RDATE:20180325T020000
TZOFFSETFROM:+0100
TZOFFSETTO:+0000
TZNAME:Europe/Lisbon WET
END:STANDARD
BEGIN:STANDARD
DTSTART:20181028T010000
RDATE:20190331T020000
TZOFFSETFROM:+0100
TZOFFSETTO:+0000
TZNAME:Europe/Lisbon WET
END:STANDARD
BEGIN:STANDARD
DTSTART:20191027T010000
RDATE:20200329T020000
TZOFFSETFROM:+0100
TZOFFSETTO:+0000
TZNAME:Europe/Lisbon WET
END:STANDARD
BEGIN:STANDARD
DTSTART:20201025T010000
RDATE:20210328T020000
TZOFFSETFROM:+0100
TZOFFSETTO:+0000
TZNAME:Europe/Lisbon WET
END:STANDARD
BEGIN:DAYLIGHT
DTSTART:20170326T020000
RDATE:20171029T010000
TZOFFSETFROM:+0000
TZOFFSETTO:+0100
TZNAME:Europe/Lisbon WEST
END:DAYLIGHT
BEGIN:DAYLIGHT
DTSTART:20180325T020000
RDATE:20181028T010000
TZOFFSETFROM:+0000
TZOFFSETTO:+0100
TZNAME:Europe/Lisbon WEST
END:DAYLIGHT
BEGIN:DAYLIGHT
DTSTART:20190331T020000
RDATE:20191027T010000
TZOFFSETFROM:+0000
TZOFFSETTO:+0100
TZNAME:Europe/Lisbon WEST
END:DAYLIGHT
BEGIN:DAYLIGHT
DTSTART:20200329T020000
RDATE:20201025T010000
TZOFFSETFROM:+0000
TZOFFSETTO:+0100
TZNAME:Europe/Lisbon WEST
END:DAYLIGHT
END:VTIMEZONE
BEGIN:VEVENT
UID:4e8fee955237bf92819a1c792f6314d3
CATEGORIES:Santos
SUMMARY:Sãp Hugo de Lincólnia
DESCRIPTION;ENCODING=QUOTED-PRINTABLE:<p style="margin-bottom: 0.0001pt; text-align: justify; line-height: normal
 ; background: white;"><strong><span style="font-size: 12pt; font-family: 'T
 imes New Roman', serif;">São Hugo de Lincólnia </span></strong><span style=
 "font-size: 12pt; font-family: 'Times New Roman', serif;">é também conhecid
 o por <strong>Hugo de Avalon </strong></span><span style="font-size: 12pt; 
 font-family: 'Times New Roman', serif;">ou <strong>Hugo da Borgonha</strong
 >. Nasceu entre 1135 e 1140 em Avalon (França) e faleceu a 16 de Novembro d
 e 1200 em Londres (Reino Unido).</span></p><p style="margin-bottom: 0.0001p
 t; text-align: justify; line-height: normal; background: white;"><span styl
 e="font-size: 12pt; font-family: 'Times New Roman', serif;">São Hugo era fi
 lho de Guilherme, senhor de Avalon e de Ana. Ficou órfão de mãe aos oito an
 os e tornou-se diácono aos 19 anos. No ano de </span><span style="font-size
 : 12pt; font-family: 'Times New Roman', serif;">1159 foi mandado para o Mos
 teiro de Saint-Maxim e depois ingressou na Grande Cartuxa, tornando-se proc
 urador, e em 1179 foi transferido para Witham, como prior do mosteiro local
 , a pedido de Henrique II, onde supervisionou a construção de um edifício m
 aior, a Cartuxa de Witham. Em 1186 foi consagrado bispo de Lincoln na Abadi
 a de Westminster, mas logo depois de sua consagração entrou em conflito com
  o rei, mas conseguiu mais tarde a reconciliação. Tornou-se conhecido por s
 ua piedade e diligência no auxílio dos pobres, e também como educador. </sp
 an></p><p style="margin-bottom: 0.0001pt; text-align: justify; line-height:
  normal; background: white;"><span style="font-size: 12pt; font-family: 'Ti
 mes New Roman', serif;">Protegeu os judeus e pacificou revoltas populares. 
 Reergueu a Catedral de Lincoln depois de ser danificada por um terremoto. F
 ez várias embaixadas para o rei junto à corte da França.</span></p><p style
 ="margin-bottom: 0.0001pt; text-align: justify; line-height: normal; backgr
 ound: white;"><span style="font-size: 12pt; font-family: 'Times New Roman',
  serif;">Foi canonizado pelo Papa Honório III a 17 de Fevereiro de 1220.</s
 pan></p><p style="margin-bottom: 0.0001pt; text-align: justify; line-height
 : normal; background: white;"><span style="font-size: 12pt; font-family: 'T
 imes New Roman', serif;">É patrono dos doentes e protetor dos <a href="http
 s://pt.wikipedia.org/wiki/Cisne" title="Cisne"><span style="color: windowte
 xt;">cisnes</span></a>, que se tornaram seu símbolo, já que em vida um cisn
 e esteve sempre a segui-lo enquanto permaneceu em Lincoln.</span></p>
DTSTAMP:20260423T125321Z
DTSTART;TZID=Europe/Lisbon;VALUE=DATE:20171117
DTEND;TZID=Europe/Lisbon;VALUE=DATE:20171118
SEQUENCE:0
RRULE:FREQ=YEARLY;COUNT=100;INTERVAL=1;BYYEARDAY=-45
TRANSP:OPAQUE
END:VEVENT
END:VCALENDAR