BEGIN:VCALENDAR
VERSION:2.0
PRODID:-//jEvents 2.0 for Joomla//EN
CALSCALE:GREGORIAN
METHOD:PUBLISH
BEGIN:VTIMEZONE
TZID:Europe/Lisbon
BEGIN:STANDARD
DTSTART:20161115T000000
RDATE:20170326T020000
TZOFFSETFROM:+0100
TZOFFSETTO:+0000
TZNAME:Europe/Lisbon WET
END:STANDARD
BEGIN:STANDARD
DTSTART:20171029T010000
RDATE:20180325T020000
TZOFFSETFROM:+0100
TZOFFSETTO:+0000
TZNAME:Europe/Lisbon WET
END:STANDARD
BEGIN:STANDARD
DTSTART:20181028T010000
RDATE:20190331T020000
TZOFFSETFROM:+0100
TZOFFSETTO:+0000
TZNAME:Europe/Lisbon WET
END:STANDARD
BEGIN:STANDARD
DTSTART:20191027T010000
RDATE:20200329T020000
TZOFFSETFROM:+0100
TZOFFSETTO:+0000
TZNAME:Europe/Lisbon WET
END:STANDARD
BEGIN:STANDARD
DTSTART:20201025T010000
RDATE:20210328T020000
TZOFFSETFROM:+0100
TZOFFSETTO:+0000
TZNAME:Europe/Lisbon WET
END:STANDARD
BEGIN:DAYLIGHT
DTSTART:20170326T020000
RDATE:20171029T010000
TZOFFSETFROM:+0000
TZOFFSETTO:+0100
TZNAME:Europe/Lisbon WEST
END:DAYLIGHT
BEGIN:DAYLIGHT
DTSTART:20180325T020000
RDATE:20181028T010000
TZOFFSETFROM:+0000
TZOFFSETTO:+0100
TZNAME:Europe/Lisbon WEST
END:DAYLIGHT
BEGIN:DAYLIGHT
DTSTART:20190331T020000
RDATE:20191027T010000
TZOFFSETFROM:+0000
TZOFFSETTO:+0100
TZNAME:Europe/Lisbon WEST
END:DAYLIGHT
BEGIN:DAYLIGHT
DTSTART:20200329T020000
RDATE:20201025T010000
TZOFFSETFROM:+0000
TZOFFSETTO:+0100
TZNAME:Europe/Lisbon WEST
END:DAYLIGHT
END:VTIMEZONE
BEGIN:VEVENT
UID:12b3c22a15fb376bf867920be8fa11cc
CATEGORIES:Santos
SUMMARY:Santa Mectildes
DESCRIPTION;ENCODING=QUOTED-PRINTABLE:Santa Mectildes também conhecida com Caterina de Bar nasceu em 31 de Dezemb
 ro de 1614 na cidade francesa de Saint-Diè (Lorraine) e muito jovem, apesar
  do desacordo de seus pais, entrou na Ordem do "Anunciado" por Bruyères, fu
 ndada pela Beata Giovanna di Valois. O noviciado não foi fácil. Era impulsi
 vo e às vezes dominado pela tristeza e pelo tédio, mas Santa Mectildes conf
 iava em Nossa Senhora e graças a uma forte miséria eucarística, superava as
  dificuldades e professava o nome de Irmã Catarina de São João Evangelista.
  \nA vida no mosteiro era difícil. Em 2 de Julho de 1639 Santa Mectildes co
 meçou o noviciado e em 11 de Julho de 1640 professou sob o nome de Catherin
 e de St. Matilda; Matilda significa &ldquo;forte na luta&rdquo;. Passaram-s
 e apenas dois meses e a comunidade de Rambervillers, reduzida ao extremo da
  pobreza, foi dispersa. Santa Mectildes encontrou abrigo em Saint-Mihiel, u
 ma cidade que também estava meio deformada pela guerra, e num pequeno quart
 o consagrou-se a Jesus Eucarístico. Essa situação insustentável, paradoxalm
 ente, foi o ponto de partida do seu futuro instituto religioso.\nEm 1641, c
 om o envolvimento de São Vicente de Paulo, Madre Mectildes foi recebida em 
 Paris pela grande reformadora Marie de Beauvilliers. Teve também contatos c
 om Laurence de Budos. Ambos queriam sua colaboração, mas o desejo de Santa 
 Mectildes era reunir as freiras de Rambervillers. Em Agosto de 1643, mudou-
 se para perto de Paris, e abriu um centro para meninas. \nEm 1650, os horro
 res da guerra começaram de novo. Mectildes, com cinco companheiras, foi a P
 aris, a vários mosteiros, com a intenção de se reunir para acabar com a gue
 rra. Em Agosto, ficou gravemente doente e durante a longa doença sentiu o q
 ue era sua missão: criar uma ordem de adoradores da Eucaristia. O ponto de 
 viragem provisório foi graças à Rainha Anne da Áustria, Regente, que, apesa
 r de vetar qualquer nova fundação, por causa da guerra aceitou, a fundação 
 duma ordem onde o Santíssimo Sacramento fosse adorado noite e dia, apesar d
 as hesitações de alguns expoentes de cúria.\nEm 25 de Março de 1653, houve 
 a primeira exposição do Santíssimo na Rue du Bac, o lugar modesto da nova o
 rdem. Então Mectildes encontrou uma casa mais adequada e, em 12 de Março de
  1654, ocorreu uma solene cerimónia com a colocação da cruz na porta de ent
 rada. A Missa foi celebrada e o Santíssimo Sacramento exposto. \nEm Abril d
 e 1698, Santa Mectildes sentiu que o encontro com o Senhor estava próximo, 
 vindo a falecer no dia 6 de Abril.\n
DTSTAMP:20260422T111249Z
DTSTART;TZID=Europe/Lisbon;VALUE=DATE:20171116
DTEND;TZID=Europe/Lisbon;VALUE=DATE:20171117
SEQUENCE:0
RRULE:FREQ=YEARLY;COUNT=100;INTERVAL=1;BYYEARDAY=-46
TRANSP:OPAQUE
END:VEVENT
END:VCALENDAR