BEGIN:VCALENDAR
VERSION:2.0
PRODID:-//jEvents 2.0 for Joomla//EN
CALSCALE:GREGORIAN
METHOD:PUBLISH
BEGIN:VTIMEZONE
TZID:Europe/Lisbon
BEGIN:STANDARD
DTSTART:20161113T000000
RDATE:20170326T020000
TZOFFSETFROM:+0100
TZOFFSETTO:+0000
TZNAME:Europe/Lisbon WET
END:STANDARD
BEGIN:STANDARD
DTSTART:20171029T010000
RDATE:20180325T020000
TZOFFSETFROM:+0100
TZOFFSETTO:+0000
TZNAME:Europe/Lisbon WET
END:STANDARD
BEGIN:STANDARD
DTSTART:20181028T010000
RDATE:20190331T020000
TZOFFSETFROM:+0100
TZOFFSETTO:+0000
TZNAME:Europe/Lisbon WET
END:STANDARD
BEGIN:STANDARD
DTSTART:20191027T010000
RDATE:20200329T020000
TZOFFSETFROM:+0100
TZOFFSETTO:+0000
TZNAME:Europe/Lisbon WET
END:STANDARD
BEGIN:STANDARD
DTSTART:20201025T010000
RDATE:20210328T020000
TZOFFSETFROM:+0100
TZOFFSETTO:+0000
TZNAME:Europe/Lisbon WET
END:STANDARD
BEGIN:DAYLIGHT
DTSTART:20170326T020000
RDATE:20171029T010000
TZOFFSETFROM:+0000
TZOFFSETTO:+0100
TZNAME:Europe/Lisbon WEST
END:DAYLIGHT
BEGIN:DAYLIGHT
DTSTART:20180325T020000
RDATE:20181028T010000
TZOFFSETFROM:+0000
TZOFFSETTO:+0100
TZNAME:Europe/Lisbon WEST
END:DAYLIGHT
BEGIN:DAYLIGHT
DTSTART:20190331T020000
RDATE:20191027T010000
TZOFFSETFROM:+0000
TZOFFSETTO:+0100
TZNAME:Europe/Lisbon WEST
END:DAYLIGHT
BEGIN:DAYLIGHT
DTSTART:20200329T020000
RDATE:20201025T010000
TZOFFSETFROM:+0000
TZOFFSETTO:+0100
TZNAME:Europe/Lisbon WEST
END:DAYLIGHT
END:VTIMEZONE
BEGIN:VEVENT
UID:4fcefd4238e3a0e3c87071378c61ed07
CATEGORIES:Santos
SUMMARY:São José Pignatelli
DESCRIPTION;ENCODING=QUOTED-PRINTABLE:\n\n\n\n\nJosé Pignatelli ou Giuseppe Pignatelli nasceu em 27 de Dezembro d
 e 1737 em Saragoça e faleceu em 15 de Novembro de 1811 em Roma. Era filho d
 e Antonio Pignatelli de Aragón e de Francisca Fernández de Heredia. José Pi
 gnatelli ficou órfão aos 4 anos e passou a morar com a sua irmã a Condessa 
 de Acerra.\nEm 1753, com 16 anos de idade, decidiu entrar na Companhia de J
 esus espanhola, em Tarragona, depois aplicou-se aos estudos, primeiro em Ma
 nresa e a seguir nos colégios de Bilbau e de Saragoça. Ordenado sacerdote, 
 dedicou-se ao ensino das letras e, com grande fruto, aos ministérios apostó
 licos.\nEntretanto fruto de perseguição internacional estruturada pela infl
 uência da maçonaria que foi sujeita a mesma, por ordem do rei Carlos III da
  Espanha foi preso e expulso para a Córsega juntamente com outros jesuítas.
 \nVendo essa ilha invadida pelos franceses, em 1767, José Pignatelli refugi
 ou-se em Ferrara, nos Estados Pontifícios, até que o próprio Clemente XIV, 
 em 1773, suprimiu a ordem jesuíta em todo o mundo.\nPorém como essa supress
 ão da ordem não foi aceite na Rússia, após um longo período de reflexão e e
 studo, S. José Pignatelli deslocou-se para lá.\nEm 1803, José Pignatelli fo
 i nomeado provincial dos jesuítas na Itália, com o objectivo principal de r
 eabilitar a sua ordem. Começando por estabelecer uma casa para noviços no d
 ucado de Parma, onde foi reitor, com licença do Papa Pio VI. Em 1806, São J
 osé Pignatelli transfere-se para Roma onde é muito bem recebido pelo Sumo P
 ontífice. Mais tarde, em Nápoles, viu esse ideal e esforço acontecer em 180
 8, mas morreu antes da restauração definitiva da Companhia de Jesus, realiz
 ada pelo Papa Pio VII, em 1814.\nFoi canonizado em 1954 pelo Papa Pio XII.\
 n\n\n \n
DTSTAMP:20260422T112722Z
DTSTART;TZID=Europe/Lisbon;VALUE=DATE:20171114
DTEND;TZID=Europe/Lisbon;VALUE=DATE:20171115
SEQUENCE:0
RRULE:FREQ=YEARLY;COUNT=100;INTERVAL=1;BYYEARDAY=-48
TRANSP:OPAQUE
END:VEVENT
END:VCALENDAR