BEGIN:VCALENDAR
VERSION:2.0
PRODID:-//jEvents 2.0 for Joomla//EN
CALSCALE:GREGORIAN
METHOD:PUBLISH
BEGIN:VTIMEZONE
TZID:Europe/Lisbon
BEGIN:STANDARD
DTSTART:20161113T000000
RDATE:20170326T020000
TZOFFSETFROM:+0100
TZOFFSETTO:+0000
TZNAME:Europe/Lisbon WET
END:STANDARD
BEGIN:STANDARD
DTSTART:20171029T010000
RDATE:20180325T020000
TZOFFSETFROM:+0100
TZOFFSETTO:+0000
TZNAME:Europe/Lisbon WET
END:STANDARD
BEGIN:STANDARD
DTSTART:20181028T010000
RDATE:20190331T020000
TZOFFSETFROM:+0100
TZOFFSETTO:+0000
TZNAME:Europe/Lisbon WET
END:STANDARD
BEGIN:STANDARD
DTSTART:20191027T010000
RDATE:20200329T020000
TZOFFSETFROM:+0100
TZOFFSETTO:+0000
TZNAME:Europe/Lisbon WET
END:STANDARD
BEGIN:STANDARD
DTSTART:20201025T010000
RDATE:20210328T020000
TZOFFSETFROM:+0100
TZOFFSETTO:+0000
TZNAME:Europe/Lisbon WET
END:STANDARD
BEGIN:DAYLIGHT
DTSTART:20170326T020000
RDATE:20171029T010000
TZOFFSETFROM:+0000
TZOFFSETTO:+0100
TZNAME:Europe/Lisbon WEST
END:DAYLIGHT
BEGIN:DAYLIGHT
DTSTART:20180325T020000
RDATE:20181028T010000
TZOFFSETFROM:+0000
TZOFFSETTO:+0100
TZNAME:Europe/Lisbon WEST
END:DAYLIGHT
BEGIN:DAYLIGHT
DTSTART:20190331T020000
RDATE:20191027T010000
TZOFFSETFROM:+0000
TZOFFSETTO:+0100
TZNAME:Europe/Lisbon WEST
END:DAYLIGHT
BEGIN:DAYLIGHT
DTSTART:20200329T020000
RDATE:20201025T010000
TZOFFSETFROM:+0000
TZOFFSETTO:+0100
TZNAME:Europe/Lisbon WEST
END:DAYLIGHT
END:VTIMEZONE
BEGIN:VEVENT
UID:2861c441391605ce679ffabb9e1b0255
CATEGORIES:Santos
SUMMARY:Ss, Nicolau Tavelic e Companheiros
DESCRIPTION;ENCODING=QUOTED-PRINTABLE:\n\nS. Nicolau Tavelic nasceu em Sebenic, na Dalmácia (Croácia) por volta d
 o ano 1340.\nQuando ainda era adolescente ingressou na ordem dos frades men
 ores (franciscano).\nDepois de ordenado sacerdote, S. Nicolau Tavelic foi e
 nviado como missionário para a Bósnia, onde durante 12 anos se dedicou tota
 lmente à conversão dos bogomilos, hereges de tendência maniqueísta, juntame
 nte com Deodato de Rodez.\nEm 1384 dirigiram-se ambos à Palestina (S. Nicol
 au e S. Deodato), onde se associaram a outros dois confrades, Pedro de Narb
 ona e Estevão de Cúneo, todos eles futuros mártires de Cristo.\nEntretanto 
 fixaram-se em Jerusalém, no convento de São Salvador, em oração e estudo. D
 epois de muito meditar sobre o assunto, S. Nicolau Tavelic projetou uma mis
 são muito ousada, movido pelo Espírito Santo, pelo zelo da fé e pelo desejo
  de martírio. Tratava-se de anunciar publicamente em Jerusalém, aos chefes 
 dos mulçumanos, a pessoa e a doutrina de Cristo.\nFoi o primeiro croata a s
 er canonizado.\n
DTSTAMP:20260422T233504Z
DTSTART;TZID=Europe/Lisbon;VALUE=DATE:20171114
DTEND;TZID=Europe/Lisbon;VALUE=DATE:20171115
SEQUENCE:0
RRULE:FREQ=YEARLY;COUNT=100;INTERVAL=1;BYYEARDAY=-48
TRANSP:OPAQUE
END:VEVENT
END:VCALENDAR