BEGIN:VCALENDAR
VERSION:2.0
PRODID:-//jEvents 2.0 for Joomla//EN
CALSCALE:GREGORIAN
METHOD:PUBLISH
BEGIN:VTIMEZONE
TZID:Europe/Lisbon
BEGIN:STANDARD
DTSTART:20161112T000000
RDATE:20170326T020000
TZOFFSETFROM:+0100
TZOFFSETTO:+0000
TZNAME:Europe/Lisbon WET
END:STANDARD
BEGIN:STANDARD
DTSTART:20171029T010000
RDATE:20180325T020000
TZOFFSETFROM:+0100
TZOFFSETTO:+0000
TZNAME:Europe/Lisbon WET
END:STANDARD
BEGIN:STANDARD
DTSTART:20181028T010000
RDATE:20190331T020000
TZOFFSETFROM:+0100
TZOFFSETTO:+0000
TZNAME:Europe/Lisbon WET
END:STANDARD
BEGIN:STANDARD
DTSTART:20191027T010000
RDATE:20200329T020000
TZOFFSETFROM:+0100
TZOFFSETTO:+0000
TZNAME:Europe/Lisbon WET
END:STANDARD
BEGIN:STANDARD
DTSTART:20201025T010000
RDATE:20210328T020000
TZOFFSETFROM:+0100
TZOFFSETTO:+0000
TZNAME:Europe/Lisbon WET
END:STANDARD
BEGIN:DAYLIGHT
DTSTART:20170326T020000
RDATE:20171029T010000
TZOFFSETFROM:+0000
TZOFFSETTO:+0100
TZNAME:Europe/Lisbon WEST
END:DAYLIGHT
BEGIN:DAYLIGHT
DTSTART:20180325T020000
RDATE:20181028T010000
TZOFFSETFROM:+0000
TZOFFSETTO:+0100
TZNAME:Europe/Lisbon WEST
END:DAYLIGHT
BEGIN:DAYLIGHT
DTSTART:20190331T020000
RDATE:20191027T010000
TZOFFSETFROM:+0000
TZOFFSETTO:+0100
TZNAME:Europe/Lisbon WEST
END:DAYLIGHT
BEGIN:DAYLIGHT
DTSTART:20200329T020000
RDATE:20201025T010000
TZOFFSETFROM:+0000
TZOFFSETTO:+0100
TZNAME:Europe/Lisbon WEST
END:DAYLIGHT
END:VTIMEZONE
BEGIN:VEVENT
UID:92b7b072809753dd7865f09aa48060d0
CATEGORIES:Santos
SUMMARY:Beato Artémides Zatti
DESCRIPTION;ENCODING=QUOTED-PRINTABLE:\n\n Artémides Joaquín Desiderio María Zatti nasceu em 12 de Outubro de 188
 0 em Borreto, Reggio Emilia (Itália) e faleceu a 15 de Março de 1951 em Vie
 dma, Rio Negro (Argentina). Era filho de Luís Zatti e de Albina Vecchi e ti
 nha 7 irmãos. Os seus pais eram camponeses pobres que fugiram para a Argent
 ina para escapar ao drama da fome e da desocupação da Europa. A família de 
 Artémides Zatti chegou ao porto de Buenos Aires a 9 de Fevereiro de 1897 e 
 estabeleceram-se na cidade de Bahía Blanca, a 650 quilómetros da capital Bu
 enos Aires.\nArtémides Zatti trabalhou numa fábrica de azulejos e frequenta
 va a Paróquia de Nossa Senhora da Misericórdia em Bahía Blanca, que estava 
 a cargo dos salesianos. O contacto com os salesianos fez despertarno jovem 
 Artémides a vocação religiosa e o desejo de ser padre. Foi aí que conheceu 
 o Padre Carlos Cavalli e este o desafiou a ingressar na Obra Salesiana do B
 ernal, para formar-se salesiano. Ingressou na Obra a 19 de Abril de 1900.\n
 Um ano mais tarde contraiu tuberculose e viajou até Viedma para se curar. E
 m Viedma, B. Artémides Zatti conheceu o Padre Evasio Garrone e por interméd
 io deste prometeu à Virgem Maria que se se curasse, ficaria a cuidar dos do
 entes do Hospital de São José de Viedma. Curado da sua doença, B. Artémides
  Zatti começou a trabalhar como enfermeiros dos pobres. À medida que o temp
 o passava, a sua fama de santidade crescia e com ela o seu trabalho. \nA 18
  de Fevereiro de 1911, B. Artémides Zatti professou como salesiano coadjuto
 r do Hospital e em 1913 como director, administrados e enfermeiro do mesmo.
  Apesar desses cargos, B. Artémides nunca deixou de se deslocar de biciclet
 a, visitando os doentes sem se importar do horário, das distâncias ou do te
 mpo (vento e frio) que fazia. Em 1914 recebeu a nacionalidade argentina.\nB
 . Artémides Zatti trabalhou durante 48 anos, sem nunca se queixar ou descan
 sar, até que no dia 19 de Julho de 1950, com 70 anos, caiu de umas escadas.
  Ficou conhecido como o &ldquo;Parente dos Pobres&rdquo;. \nFoi declarado v
 enerável a 17 de Julho de 1997 e beatificado pelo Papa João Paulo II a 14 d
 e Abril de 2002. \n\n
DTSTAMP:20260423T235115Z
DTSTART;TZID=Europe/Lisbon;VALUE=DATE:20171113
DTEND;TZID=Europe/Lisbon;VALUE=DATE:20171114
SEQUENCE:0
RRULE:FREQ=YEARLY;COUNT=100;INTERVAL=1;BYYEARDAY=-49
TRANSP:OPAQUE
END:VEVENT
END:VCALENDAR