BEGIN:VCALENDAR
VERSION:2.0
PRODID:-//jEvents 2.0 for Joomla//EN
CALSCALE:GREGORIAN
METHOD:PUBLISH
BEGIN:VTIMEZONE
TZID:Europe/Lisbon
BEGIN:STANDARD
DTSTART:20161112T000000
RDATE:20170326T020000
TZOFFSETFROM:+0100
TZOFFSETTO:+0000
TZNAME:Europe/Lisbon WET
END:STANDARD
BEGIN:STANDARD
DTSTART:20171029T010000
RDATE:20180325T020000
TZOFFSETFROM:+0100
TZOFFSETTO:+0000
TZNAME:Europe/Lisbon WET
END:STANDARD
BEGIN:STANDARD
DTSTART:20181028T010000
RDATE:20190331T020000
TZOFFSETFROM:+0100
TZOFFSETTO:+0000
TZNAME:Europe/Lisbon WET
END:STANDARD
BEGIN:STANDARD
DTSTART:20191027T010000
RDATE:20200329T020000
TZOFFSETFROM:+0100
TZOFFSETTO:+0000
TZNAME:Europe/Lisbon WET
END:STANDARD
BEGIN:STANDARD
DTSTART:20201025T010000
RDATE:20210328T020000
TZOFFSETFROM:+0100
TZOFFSETTO:+0000
TZNAME:Europe/Lisbon WET
END:STANDARD
BEGIN:DAYLIGHT
DTSTART:20170326T020000
RDATE:20171029T010000
TZOFFSETFROM:+0000
TZOFFSETTO:+0100
TZNAME:Europe/Lisbon WEST
END:DAYLIGHT
BEGIN:DAYLIGHT
DTSTART:20180325T020000
RDATE:20181028T010000
TZOFFSETFROM:+0000
TZOFFSETTO:+0100
TZNAME:Europe/Lisbon WEST
END:DAYLIGHT
BEGIN:DAYLIGHT
DTSTART:20190331T020000
RDATE:20191027T010000
TZOFFSETFROM:+0000
TZOFFSETTO:+0100
TZNAME:Europe/Lisbon WEST
END:DAYLIGHT
BEGIN:DAYLIGHT
DTSTART:20200329T020000
RDATE:20201025T010000
TZOFFSETFROM:+0000
TZOFFSETTO:+0100
TZNAME:Europe/Lisbon WEST
END:DAYLIGHT
END:VTIMEZONE
BEGIN:VEVENT
UID:47a882b10dbf0ba1285581af6f632f5f
CATEGORIES:Santos
SUMMARY:Santo Estanislau Kostka
DESCRIPTION;ENCODING=QUOTED-PRINTABLE:\n\n Estanislau Kostka nasceu a 28 de Outubro de 1550 no Castelo de Rostków
 , na vila de Prasnitz, na Polónia, no seio de uma importante família nobre 
 e faleceu a 15 de Agosto de 1568 em Roma (Itália).\nCom 13/14 anos foi estu
 dar no colégio dos jesuítas em Viena, com o seu irmão mais velho, Paulo. Aí
  demonstrou vocação para a vida religiosa desde cedo ao pedir pouco depois 
 ingresso na Companhia de Jesus, onde tinha estava a ser educado. Como era m
 enor de idade, a Companhia solicitou a autorização do pai, que se opôs ferr
 enhamente.\nMas decidido a tornar-se jesuíta, aconselhado pelo Padre Franci
 sco António, (jesuíta português confessor da imperatriz), o jovem fugiu sec
 retamente disfarçado de mendigo para a casa dos jesuítas em Dillingen an de
 r Donau, na Alemanha. Lá foi acolhido pelo superior, São Pedro Canísio. Ao 
 saber do ocorrido, o pai ameaçou até expulsar os jesuítas da Polônia, mas s
 eu filho Estanislau manteve-se resoluto até ao fim.\nAos 17 anos foi para R
 oma, a fim de estudar filosofia no Colégio Romano (atual Universidade Grego
 riana) e concluir o noviciado. Só que após sua chegada, ficou gravemente do
 ente com uma misteriosa febre.  Antes de morrer os sacerdotes ouviram dos s
 eus lábios sorridentes a frase: &ldquo;Maria veio buscar-me, acompanhada de
  virgens para me levar consigo&rdquo;. Faleceu no dia da Assunção de Nossa 
 Senhora, no ano de 1568.\nÉ padroeiro dos noviços jesuítas e dos jovens.\nS
 anto Estanislau Kostka , rogai por nós!\n\n\n\n
DTSTAMP:20260419T212204Z
DTSTART;TZID=Europe/Lisbon;VALUE=DATE:20171113
DTEND;TZID=Europe/Lisbon;VALUE=DATE:20171114
SEQUENCE:0
RRULE:FREQ=YEARLY;COUNT=100;INTERVAL=1;BYYEARDAY=-49
TRANSP:OPAQUE
END:VEVENT
END:VCALENDAR