BEGIN:VCALENDAR
VERSION:2.0
PRODID:-//jEvents 2.0 for Joomla//EN
CALSCALE:GREGORIAN
METHOD:PUBLISH
BEGIN:VTIMEZONE
TZID:Europe/Lisbon
BEGIN:STANDARD
DTSTART:20161112T000000
RDATE:20170326T020000
TZOFFSETFROM:+0100
TZOFFSETTO:+0000
TZNAME:Europe/Lisbon WET
END:STANDARD
BEGIN:STANDARD
DTSTART:20171029T010000
RDATE:20180325T020000
TZOFFSETFROM:+0100
TZOFFSETTO:+0000
TZNAME:Europe/Lisbon WET
END:STANDARD
BEGIN:STANDARD
DTSTART:20181028T010000
RDATE:20190331T020000
TZOFFSETFROM:+0100
TZOFFSETTO:+0000
TZNAME:Europe/Lisbon WET
END:STANDARD
BEGIN:STANDARD
DTSTART:20191027T010000
RDATE:20200329T020000
TZOFFSETFROM:+0100
TZOFFSETTO:+0000
TZNAME:Europe/Lisbon WET
END:STANDARD
BEGIN:STANDARD
DTSTART:20201025T010000
RDATE:20210328T020000
TZOFFSETFROM:+0100
TZOFFSETTO:+0000
TZNAME:Europe/Lisbon WET
END:STANDARD
BEGIN:DAYLIGHT
DTSTART:20170326T020000
RDATE:20171029T010000
TZOFFSETFROM:+0000
TZOFFSETTO:+0100
TZNAME:Europe/Lisbon WEST
END:DAYLIGHT
BEGIN:DAYLIGHT
DTSTART:20180325T020000
RDATE:20181028T010000
TZOFFSETFROM:+0000
TZOFFSETTO:+0100
TZNAME:Europe/Lisbon WEST
END:DAYLIGHT
BEGIN:DAYLIGHT
DTSTART:20190331T020000
RDATE:20191027T010000
TZOFFSETFROM:+0000
TZOFFSETTO:+0100
TZNAME:Europe/Lisbon WEST
END:DAYLIGHT
BEGIN:DAYLIGHT
DTSTART:20200329T020000
RDATE:20201025T010000
TZOFFSETFROM:+0000
TZOFFSETTO:+0100
TZNAME:Europe/Lisbon WEST
END:DAYLIGHT
END:VTIMEZONE
BEGIN:VEVENT
UID:9d6d38e42908b36af3a88e1fbde18084
CATEGORIES:Santos
SUMMARY:Todos os Santos da Família Agostiniana
DESCRIPTION;ENCODING=QUOTED-PRINTABLE:A Ordem de Santo Agostinho é uma ordem religiosa católica que segue a linha
  de pensamento de Santo Agostinho. Os seus membros são denominados agostini
 anos ou agostinhos.\nO lema da ordem é: &ldquo;Uma só alma e um só coração 
 para Deus&rdquo;.\nNo dia 13 de Novembro, dia do nascimento de Santo Agosti
 nho, a ordem celebra num só dia e numa só celebração Todos os Santos da Fam
 ília Agostiniana.\nNeste dia a Ordem celebra em ação de graças a Deus o dom
  santidade na história das três Ordens (Ordem de Santo Agostinho; Ordem dos
  Agostinianos Recoletos e Ordem dos Agostinianos Descalços), além de ser um
  convite a que sigamos os passos de tantos irmãos e irmãs que seguiram com 
 entusiasmo o Evangelho de Cristo, vivendo assim sua consagração ao Senhor.\
 nDeus é Santo e é aquele que faz santos. A lista dos santos e beatos conhec
 idos que pertencem à família agostiniana é longa. Além de Santo Agostinho e
  Santa Mônica, Santa Rita de Cássia, Santa Clara de Montefalco, Santa Magda
 lena de Nagasaki, São Nicolás de Tolentino, Santo Tomás de Vilanova, Santo 
 Alonso de Orozco, São Juan de Sahagún, São Juan Stone, Santo Ezequiel Moren
 o&hellip;. Depois, devemos adicionar uma multidão sem nome de irmãos e irmã
 s que nos esperam na pátria celeste, que ainda formam a Igreja peregrina.\n
 Estes santos, dos quais não sabemos o nome foram homens e mulheres, que lut
 aram contra o egoísmo diariamente para manter o coração limpo, confiaram em
  Deus incondicionalmente.\n
DTSTAMP:20260423T073543Z
DTSTART;TZID=Europe/Lisbon;VALUE=DATE:20171113
DTEND;TZID=Europe/Lisbon;VALUE=DATE:20171114
SEQUENCE:0
RRULE:FREQ=YEARLY;COUNT=99;INTERVAL=1;BYYEARDAY=-49
TRANSP:OPAQUE
END:VEVENT
END:VCALENDAR