BEGIN:VCALENDAR
VERSION:2.0
PRODID:-//jEvents 2.0 for Joomla//EN
CALSCALE:GREGORIAN
METHOD:PUBLISH
BEGIN:VTIMEZONE
TZID:Europe/Lisbon
BEGIN:STANDARD
DTSTART:20151109T000000
RDATE:20160327T020000
TZOFFSETFROM:+0100
TZOFFSETTO:+0000
TZNAME:Europe/Lisbon WET
END:STANDARD
BEGIN:STANDARD
DTSTART:20161030T010000
RDATE:20170326T020000
TZOFFSETFROM:+0100
TZOFFSETTO:+0000
TZNAME:Europe/Lisbon WET
END:STANDARD
BEGIN:STANDARD
DTSTART:20171029T010000
RDATE:20180325T020000
TZOFFSETFROM:+0100
TZOFFSETTO:+0000
TZNAME:Europe/Lisbon WET
END:STANDARD
BEGIN:STANDARD
DTSTART:20181028T010000
RDATE:20190331T020000
TZOFFSETFROM:+0100
TZOFFSETTO:+0000
TZNAME:Europe/Lisbon WET
END:STANDARD
BEGIN:STANDARD
DTSTART:20191027T010000
RDATE:20200329T020000
TZOFFSETFROM:+0100
TZOFFSETTO:+0000
TZNAME:Europe/Lisbon WET
END:STANDARD
BEGIN:STANDARD
DTSTART:20201025T010000
RDATE:20210328T020000
TZOFFSETFROM:+0100
TZOFFSETTO:+0000
TZNAME:Europe/Lisbon WET
END:STANDARD
BEGIN:DAYLIGHT
DTSTART:20160327T020000
RDATE:20161030T010000
TZOFFSETFROM:+0000
TZOFFSETTO:+0100
TZNAME:Europe/Lisbon WEST
END:DAYLIGHT
BEGIN:DAYLIGHT
DTSTART:20170326T020000
RDATE:20171029T010000
TZOFFSETFROM:+0000
TZOFFSETTO:+0100
TZNAME:Europe/Lisbon WEST
END:DAYLIGHT
BEGIN:DAYLIGHT
DTSTART:20180325T020000
RDATE:20181028T010000
TZOFFSETFROM:+0000
TZOFFSETTO:+0100
TZNAME:Europe/Lisbon WEST
END:DAYLIGHT
BEGIN:DAYLIGHT
DTSTART:20190331T020000
RDATE:20191027T010000
TZOFFSETFROM:+0000
TZOFFSETTO:+0100
TZNAME:Europe/Lisbon WEST
END:DAYLIGHT
BEGIN:DAYLIGHT
DTSTART:20200329T020000
RDATE:20201025T010000
TZOFFSETFROM:+0000
TZOFFSETTO:+0100
TZNAME:Europe/Lisbon WEST
END:DAYLIGHT
END:VTIMEZONE
BEGIN:VEVENT
UID:2ad17d912d2163e77327007fbf6580f2
CATEGORIES:Santos
SUMMARY:Dedicação da Basília de Latrão
DESCRIPTION;ENCODING=QUOTED-PRINTABLE:\n\nA Basílica do SS. Salvador ou Basílica de São João de Latrão foi constr
 uída por volta de 314 pelo Papa Melquíades, e foi definida Mãe de todas as 
 igrejas da Cidade e do Mundo (Urbe et Orbe).\nÉ na Basílica de São João de 
 Latrão que se encontra a cátedra do Papa, pois sendo o Papa o Bispo de Roma
 , e a Basílica de São João de Latrão a sua Igreja Catedral, é nesta igreja 
 que se encontra a sua cadeira de pastor e de mestre.\nInicialmente os crist
 ãos não possuíam lugares fixos para a celebração da Eucaristia, realizando-
 a em suas casas. Com o passar de algum tempo, mesmo na era dos Apóstolos, s
 e tornou imperioso o encontro de algum local comum para as celebrações litú
 rgicas.\nÉ o símbolo da fé dos cristãos nos primeiros séculos, onde se reun
 iam para celebrar a Palavra de Deus e os Sagrados Mistérios.\nLiturgicament
 e, que significado pode ter para nós esta celebração?\nCelebrar a festa da 
 dedicação da Basílica de São João de Latão também nos possibilita refletir 
 sobre o sentido do templo como organismo vivo do qual os cristãos são pedra
 s vivas.\nQuando alguém é batizado, ele é convocado a compor o corpo místic
 o de Cristo e a ser membro de Sua Igreja, cuja cabeça é o próprio Senhor.\n
 Todos nós somos o corpo vivo, o templo vivo e é o Espírito Santo quem nos d
 á a vida, quem nos une. A Igreja, templo e corpo, formada por todos os bati
 zados é a manifestação visível da presença do Senhor Ressuscitado. Por isso
  ela celebra os sacramentos, todos decorrentes da Eucaristia, com a qual so
 mos alimentados e nutridos.\nPortanto, celebrar a dedicação de um templo é 
 celebrar aquilo que, na verdade ele representa, o Corpo Místico de Cristo.\
 nSe respeitamos o Templo construído de pedras, de tijolos, deveremos respei
 tar mais ainda o Templo Vivo, representado por cada ser humano que foi bati
 zado. Nele, criado à imagem de Deus, redimido pelo sangue de Jesus, habita 
 o Espírito Santo.\n
DTSTAMP:20260423T125008Z
DTSTART;TZID=Europe/Lisbon;VALUE=DATE:20161109
DTEND;TZID=Europe/Lisbon;VALUE=DATE:20161110
SEQUENCE:0
RRULE:FREQ=YEARLY;COUNT=100;INTERVAL=1;BYYEARDAY=-53
TRANSP:OPAQUE
END:VEVENT
END:VCALENDAR