BEGIN:VCALENDAR
VERSION:2.0
PRODID:-//jEvents 2.0 for Joomla//EN
CALSCALE:GREGORIAN
METHOD:PUBLISH
BEGIN:VTIMEZONE
TZID:Europe/Lisbon
BEGIN:STANDARD
DTSTART:20130109T000000
RDATE:20130331T020000
TZOFFSETFROM:+0100
TZOFFSETTO:+0000
TZNAME:Europe/Lisbon WET
END:STANDARD
BEGIN:STANDARD
DTSTART:20131027T010000
RDATE:20140330T020000
TZOFFSETFROM:+0100
TZOFFSETTO:+0000
TZNAME:Europe/Lisbon WET
END:STANDARD
BEGIN:STANDARD
DTSTART:20141026T010000
RDATE:20150329T020000
TZOFFSETFROM:+0100
TZOFFSETTO:+0000
TZNAME:Europe/Lisbon WET
END:STANDARD
BEGIN:STANDARD
DTSTART:20151025T010000
RDATE:20160327T020000
TZOFFSETFROM:+0100
TZOFFSETTO:+0000
TZNAME:Europe/Lisbon WET
END:STANDARD
BEGIN:STANDARD
DTSTART:20161030T010000
RDATE:20170326T020000
TZOFFSETFROM:+0100
TZOFFSETTO:+0000
TZNAME:Europe/Lisbon WET
END:STANDARD
BEGIN:STANDARD
DTSTART:20171029T010000
RDATE:20180325T020000
TZOFFSETFROM:+0100
TZOFFSETTO:+0000
TZNAME:Europe/Lisbon WET
END:STANDARD
BEGIN:STANDARD
DTSTART:20181028T010000
RDATE:20190331T020000
TZOFFSETFROM:+0100
TZOFFSETTO:+0000
TZNAME:Europe/Lisbon WET
END:STANDARD
BEGIN:STANDARD
DTSTART:20191027T010000
RDATE:20200329T020000
TZOFFSETFROM:+0100
TZOFFSETTO:+0000
TZNAME:Europe/Lisbon WET
END:STANDARD
BEGIN:STANDARD
DTSTART:20201025T010000
RDATE:20210328T020000
TZOFFSETFROM:+0100
TZOFFSETTO:+0000
TZNAME:Europe/Lisbon WET
END:STANDARD
BEGIN:DAYLIGHT
DTSTART:20130331T020000
RDATE:20131027T010000
TZOFFSETFROM:+0000
TZOFFSETTO:+0100
TZNAME:Europe/Lisbon WEST
END:DAYLIGHT
BEGIN:DAYLIGHT
DTSTART:20140330T020000
RDATE:20141026T010000
TZOFFSETFROM:+0000
TZOFFSETTO:+0100
TZNAME:Europe/Lisbon WEST
END:DAYLIGHT
BEGIN:DAYLIGHT
DTSTART:20150329T020000
RDATE:20151025T010000
TZOFFSETFROM:+0000
TZOFFSETTO:+0100
TZNAME:Europe/Lisbon WEST
END:DAYLIGHT
BEGIN:DAYLIGHT
DTSTART:20160327T020000
RDATE:20161030T010000
TZOFFSETFROM:+0000
TZOFFSETTO:+0100
TZNAME:Europe/Lisbon WEST
END:DAYLIGHT
BEGIN:DAYLIGHT
DTSTART:20170326T020000
RDATE:20171029T010000
TZOFFSETFROM:+0000
TZOFFSETTO:+0100
TZNAME:Europe/Lisbon WEST
END:DAYLIGHT
BEGIN:DAYLIGHT
DTSTART:20180325T020000
RDATE:20181028T010000
TZOFFSETFROM:+0000
TZOFFSETTO:+0100
TZNAME:Europe/Lisbon WEST
END:DAYLIGHT
BEGIN:DAYLIGHT
DTSTART:20190331T020000
RDATE:20191027T010000
TZOFFSETFROM:+0000
TZOFFSETTO:+0100
TZNAME:Europe/Lisbon WEST
END:DAYLIGHT
BEGIN:DAYLIGHT
DTSTART:20200329T020000
RDATE:20201025T010000
TZOFFSETFROM:+0000
TZOFFSETTO:+0100
TZNAME:Europe/Lisbon WEST
END:DAYLIGHT
END:VTIMEZONE
BEGIN:VEVENT
UID:ad091bce9bcf674fa72b4c093478d7d3
CATEGORIES:Santos
SUMMARY:Beato Gonçalo de Amarante
DESCRIPTION;ENCODING=QUOTED-PRINTABLE:Beato Gonçalo de Amarante, nasceu no lugar de Arriconha, freguesia de Tagil
 de, próximo de Vizela, concelho de Vizela. Os pais do Beato Gonçalo de Amar
 ante eram pessoas de nobre linhagem e deram ao seu filho uma esmerada educa
 ção cristã.\nBeato Gonçalo de Amarante foi ordenado sacerdote e nomeado pár
 oco da freguesia de São Paio de Riba - Vizela. No desempenho do seu múnus p
 astoral, Beato Gonçalo de Amarante, sobressaía no zelo apostólico, na casti
 dade e na prática de obras de misericórdia para com os pobres. Desejava ard
 entemente visitar os túmulos dos apóstolos São Pedro e São Paulo e os lugar
 es santos da Palestina. Depois de obter autorização do seu bispo, o Beato G
 onçalo de Amarante peregrinou a Roma e depois à Palestina.\nAo regressar a 
 Portugal, o Beato Gonçalo de Amarante, foi escorraçado pelo seu sobrinho (a
  quem tinha deixado a paróquia a cargo) e rumou à cidade de Amarante. Lá co
 nstruiu uma pequena ermida, que dedicou a Nossa Senhora da Assunção.\nEntro
 u para a Ordem dos Pregadores e depois dedicou o resto da sua vida à pregaç
 ão e à oração.\n\nNascimento: ano 1187 d.C.\nMorte: 10 de janeiro do ano 12
 62 d. C.\n\nCuriosidade: É conhecido como São Gonçalinho em algumas cidades
  do norte de Portugal. \n
DTSTAMP:20260421T055704Z
DTSTART;TZID=Europe/Lisbon;VALUE=DATE:20140110
DTEND;TZID=Europe/Lisbon;VALUE=DATE:20140111
SEQUENCE:0
RRULE:FREQ=YEARLY;COUNT=100;INTERVAL=1;BYYEARDAY=+10
TRANSP:OPAQUE
END:VEVENT
END:VCALENDAR