BEGIN:VCALENDAR
VERSION:2.0
PRODID:-//jEvents 2.0 for Joomla//EN
CALSCALE:GREGORIAN
METHOD:PUBLISH
BEGIN:VTIMEZONE
TZID:Europe/Lisbon
BEGIN:STANDARD
DTSTART:20130105T000000
RDATE:20130331T020000
TZOFFSETFROM:+0100
TZOFFSETTO:+0000
TZNAME:Europe/Lisbon WET
END:STANDARD
BEGIN:STANDARD
DTSTART:20131027T010000
RDATE:20140330T020000
TZOFFSETFROM:+0100
TZOFFSETTO:+0000
TZNAME:Europe/Lisbon WET
END:STANDARD
BEGIN:STANDARD
DTSTART:20141026T010000
RDATE:20150329T020000
TZOFFSETFROM:+0100
TZOFFSETTO:+0000
TZNAME:Europe/Lisbon WET
END:STANDARD
BEGIN:STANDARD
DTSTART:20151025T010000
RDATE:20160327T020000
TZOFFSETFROM:+0100
TZOFFSETTO:+0000
TZNAME:Europe/Lisbon WET
END:STANDARD
BEGIN:STANDARD
DTSTART:20161030T010000
RDATE:20170326T020000
TZOFFSETFROM:+0100
TZOFFSETTO:+0000
TZNAME:Europe/Lisbon WET
END:STANDARD
BEGIN:STANDARD
DTSTART:20171029T010000
RDATE:20180325T020000
TZOFFSETFROM:+0100
TZOFFSETTO:+0000
TZNAME:Europe/Lisbon WET
END:STANDARD
BEGIN:STANDARD
DTSTART:20181028T010000
RDATE:20190331T020000
TZOFFSETFROM:+0100
TZOFFSETTO:+0000
TZNAME:Europe/Lisbon WET
END:STANDARD
BEGIN:STANDARD
DTSTART:20191027T010000
RDATE:20200329T020000
TZOFFSETFROM:+0100
TZOFFSETTO:+0000
TZNAME:Europe/Lisbon WET
END:STANDARD
BEGIN:STANDARD
DTSTART:20201025T010000
RDATE:20210328T020000
TZOFFSETFROM:+0100
TZOFFSETTO:+0000
TZNAME:Europe/Lisbon WET
END:STANDARD
BEGIN:DAYLIGHT
DTSTART:20130331T020000
RDATE:20131027T010000
TZOFFSETFROM:+0000
TZOFFSETTO:+0100
TZNAME:Europe/Lisbon WEST
END:DAYLIGHT
BEGIN:DAYLIGHT
DTSTART:20140330T020000
RDATE:20141026T010000
TZOFFSETFROM:+0000
TZOFFSETTO:+0100
TZNAME:Europe/Lisbon WEST
END:DAYLIGHT
BEGIN:DAYLIGHT
DTSTART:20150329T020000
RDATE:20151025T010000
TZOFFSETFROM:+0000
TZOFFSETTO:+0100
TZNAME:Europe/Lisbon WEST
END:DAYLIGHT
BEGIN:DAYLIGHT
DTSTART:20160327T020000
RDATE:20161030T010000
TZOFFSETFROM:+0000
TZOFFSETTO:+0100
TZNAME:Europe/Lisbon WEST
END:DAYLIGHT
BEGIN:DAYLIGHT
DTSTART:20170326T020000
RDATE:20171029T010000
TZOFFSETFROM:+0000
TZOFFSETTO:+0100
TZNAME:Europe/Lisbon WEST
END:DAYLIGHT
BEGIN:DAYLIGHT
DTSTART:20180325T020000
RDATE:20181028T010000
TZOFFSETFROM:+0000
TZOFFSETTO:+0100
TZNAME:Europe/Lisbon WEST
END:DAYLIGHT
BEGIN:DAYLIGHT
DTSTART:20190331T020000
RDATE:20191027T010000
TZOFFSETFROM:+0000
TZOFFSETTO:+0100
TZNAME:Europe/Lisbon WEST
END:DAYLIGHT
BEGIN:DAYLIGHT
DTSTART:20200329T020000
RDATE:20201025T010000
TZOFFSETFROM:+0000
TZOFFSETTO:+0100
TZNAME:Europe/Lisbon WEST
END:DAYLIGHT
END:VTIMEZONE
BEGIN:VEVENT
UID:8a6ba19d491c3dcdff91756795f85a68
CATEGORIES:Santos
SUMMARY:Santa Estefânia
DESCRIPTION;ENCODING=QUOTED-PRINTABLE:Santa Estefânia, de seu nome completo Estefânia Clotilde Luísa Hermina Mari
 a Carlota da Bélgica, era filha do rei Leopoldo II da Bélgica e da sua espo
 sa, Maria Henriqueta da Áustria. Santa Estefânia nasceu no Castelo Real em 
 Laeken. O seu avô paterno Leopoldo I, foi o primeiro dos belgas. \nNo dia 1
 0 de maio de 1881, casou com o príncipe herdeiro Rudolfo, na Igreja de Sant
 a Agustina em Viena. O início do casamento foi feliz, mas depressa surgiram
  confusões no casamento, pois enquanto Rudolfo era informal, liberal e impu
 lsivo, Santa Estefânia era formal e reacionária.\nA única filha do casal na
 sceu em Laxenburg em 1883. Por ter sido infetada com uma doença sexualmente
  transmissível pelo seu marido, Santa Estefânia ficou impedida de ter mais 
 filhos.\nNo ano de 1887, durante uma visita à Galícia, hoje uma região divi
 dida entre a Polónia e a Ucrânia, Santa Estefânia apaixonou-se por um conde
  polonês, Santa Estefânia, não ocultou os seus sentimentos da corte austría
 ca nem do seu marido, que continuou a ter amantes.\nEm 1889, Rudolfo foi en
 contrado morto ao lado de uma amante, o que destruiu as esperanças de Santa
  Estefânia em ter um futuro mais feliz, e o escândalo da morte do seu marid
 o, isolou-a da corte em Viena. \nNo dia 22 de março de 1990, no Castelo de 
 Miramare, Santa Estefânia casou com o conde húngaro Elemér Lónyai, que foi 
 elevado a príncipe em 1917, pelo imperador da Áustria.\nSanta Estefânia fix
 ou residência no castelo do seu novo marido, na atual Eslováquia. Porém, fo
 ram obrigados a deixar a propriedade, devido ao avanço do Exército Vermelho
 . Após deixarem a propriedade encontratam abrigo numa abadia beneditina em 
 Pannonhalma, a oeste da Hungria.\nNo ano de 1935, Santa Estefânia, publicou
  as suas memórias sob o título "Eu deveria ser imperatriz".\nNascimento: 21
  de maio de 1864 d.C.\nMorte: 23 de agosto de 1945 d.C\n
DTSTAMP:20260420T203009Z
DTSTART;TZID=Europe/Lisbon;VALUE=DATE:20140106
DTEND;TZID=Europe/Lisbon;VALUE=DATE:20140107
SEQUENCE:0
RRULE:FREQ=YEARLY;COUNT=100;INTERVAL=1;BYYEARDAY=+6
TRANSP:OPAQUE
END:VEVENT
END:VCALENDAR