BEGIN:VCALENDAR
VERSION:2.0
PRODID:-//jEvents 2.0 for Joomla//EN
CALSCALE:GREGORIAN
METHOD:PUBLISH
BEGIN:VTIMEZONE
TZID:Europe/Lisbon
BEGIN:STANDARD
DTSTART:20130104T000000
RDATE:20130331T020000
TZOFFSETFROM:+0100
TZOFFSETTO:+0000
TZNAME:Europe/Lisbon WET
END:STANDARD
BEGIN:STANDARD
DTSTART:20131027T010000
RDATE:20140330T020000
TZOFFSETFROM:+0100
TZOFFSETTO:+0000
TZNAME:Europe/Lisbon WET
END:STANDARD
BEGIN:STANDARD
DTSTART:20141026T010000
RDATE:20150329T020000
TZOFFSETFROM:+0100
TZOFFSETTO:+0000
TZNAME:Europe/Lisbon WET
END:STANDARD
BEGIN:STANDARD
DTSTART:20151025T010000
RDATE:20160327T020000
TZOFFSETFROM:+0100
TZOFFSETTO:+0000
TZNAME:Europe/Lisbon WET
END:STANDARD
BEGIN:STANDARD
DTSTART:20161030T010000
RDATE:20170326T020000
TZOFFSETFROM:+0100
TZOFFSETTO:+0000
TZNAME:Europe/Lisbon WET
END:STANDARD
BEGIN:STANDARD
DTSTART:20171029T010000
RDATE:20180325T020000
TZOFFSETFROM:+0100
TZOFFSETTO:+0000
TZNAME:Europe/Lisbon WET
END:STANDARD
BEGIN:STANDARD
DTSTART:20181028T010000
RDATE:20190331T020000
TZOFFSETFROM:+0100
TZOFFSETTO:+0000
TZNAME:Europe/Lisbon WET
END:STANDARD
BEGIN:STANDARD
DTSTART:20191027T010000
RDATE:20200329T020000
TZOFFSETFROM:+0100
TZOFFSETTO:+0000
TZNAME:Europe/Lisbon WET
END:STANDARD
BEGIN:STANDARD
DTSTART:20201025T010000
RDATE:20210328T020000
TZOFFSETFROM:+0100
TZOFFSETTO:+0000
TZNAME:Europe/Lisbon WET
END:STANDARD
BEGIN:DAYLIGHT
DTSTART:20130331T020000
RDATE:20131027T010000
TZOFFSETFROM:+0000
TZOFFSETTO:+0100
TZNAME:Europe/Lisbon WEST
END:DAYLIGHT
BEGIN:DAYLIGHT
DTSTART:20140330T020000
RDATE:20141026T010000
TZOFFSETFROM:+0000
TZOFFSETTO:+0100
TZNAME:Europe/Lisbon WEST
END:DAYLIGHT
BEGIN:DAYLIGHT
DTSTART:20150329T020000
RDATE:20151025T010000
TZOFFSETFROM:+0000
TZOFFSETTO:+0100
TZNAME:Europe/Lisbon WEST
END:DAYLIGHT
BEGIN:DAYLIGHT
DTSTART:20160327T020000
RDATE:20161030T010000
TZOFFSETFROM:+0000
TZOFFSETTO:+0100
TZNAME:Europe/Lisbon WEST
END:DAYLIGHT
BEGIN:DAYLIGHT
DTSTART:20170326T020000
RDATE:20171029T010000
TZOFFSETFROM:+0000
TZOFFSETTO:+0100
TZNAME:Europe/Lisbon WEST
END:DAYLIGHT
BEGIN:DAYLIGHT
DTSTART:20180325T020000
RDATE:20181028T010000
TZOFFSETFROM:+0000
TZOFFSETTO:+0100
TZNAME:Europe/Lisbon WEST
END:DAYLIGHT
BEGIN:DAYLIGHT
DTSTART:20190331T020000
RDATE:20191027T010000
TZOFFSETFROM:+0000
TZOFFSETTO:+0100
TZNAME:Europe/Lisbon WEST
END:DAYLIGHT
BEGIN:DAYLIGHT
DTSTART:20200329T020000
RDATE:20201025T010000
TZOFFSETFROM:+0000
TZOFFSETTO:+0100
TZNAME:Europe/Lisbon WEST
END:DAYLIGHT
END:VTIMEZONE
BEGIN:VEVENT
UID:7db7051c14aad1f3ca7a46fcbf0a71be
CATEGORIES:Santos
SUMMARY:Beato Diogo José de Cádiz
DESCRIPTION;ENCODING=QUOTED-PRINTABLE:\n\nO Beato Diogo José Cádiz, foi um religioso Capuchinho que andou sempre 
 a pé e as suas viagens estendem-se da Extremadura a Roma. As pregações do B
 eato Diogo José Cádiz dirigiam-se muitas vezes a multidões de 40 a 60 mil p
 essoas, desde a nobreza aos mais pobres, dos intelectuais aos mais simples.
  Alimentava a alma com várias horas por dia de oração mental.\n\n\nA missão
  concreta da vida do Beato Diogo José de Cádiz e o porquê da sua existência
 , poderiam resumir-se numa única afirmação:\n\n\n"foi o enviado de Deus à E
 spanha no fim do Século XVIII e o autêntico missionário do povo espanhol qu
 e se desfazia do Império".\n\n\nO Beato Diogo José de Cádiz descrevia a sua
  vocação religiosa da seguinte maneira: "Todo o meu afã era ser capuchinho,
  para ser missionário e santo". \n\n\nFaleceu no ano de 1801.\n\n\n\n\n\nNa
 scimento: 30 de Março de 1758 d.C.\n\n\nMorte: 24 de Março de 1801 d.C.\n\n
 \n\n\n\nOração ao Beato Diogo José Cádiz\n\n\n\n\n\nSenhor, que concedestes
  ao Beato Diogo José de Cádiz a sabedoria dos santos, e fizestes dele guia 
 e modelo para o seu povo, concedei-nos, por sua intercessão, a graça de sab
 ermos discernir o que é bom e justo, a fim de anunciarmos a todos os homens
  a riqueza insondável da verdade que é Cristo. Por nosso Senhor Jesus Crist
 o, vosso Filho, na unidade do Espírito Santo.\n
DTSTAMP:20260421T205658Z
DTSTART;TZID=Europe/Lisbon;VALUE=DATE:20140105
DTEND;TZID=Europe/Lisbon;VALUE=DATE:20140106
SEQUENCE:0
RRULE:FREQ=YEARLY;COUNT=100;INTERVAL=1;BYYEARDAY=+5
TRANSP:OPAQUE
END:VEVENT
END:VCALENDAR