BEGIN:VCALENDAR
VERSION:2.0
PRODID:-//jEvents 2.0 for Joomla//EN
CALSCALE:GREGORIAN
METHOD:PUBLISH
BEGIN:VTIMEZONE
TZID:Europe/Lisbon
BEGIN:STANDARD
DTSTART:20151025T010000
RDATE:20160327T020000
TZOFFSETFROM:+0100
TZOFFSETTO:+0000
TZNAME:Europe/Lisbon WET
END:STANDARD
BEGIN:STANDARD
DTSTART:20161030T010000
RDATE:20170326T020000
TZOFFSETFROM:+0100
TZOFFSETTO:+0000
TZNAME:Europe/Lisbon WET
END:STANDARD
BEGIN:STANDARD
DTSTART:20171029T010000
RDATE:20180325T020000
TZOFFSETFROM:+0100
TZOFFSETTO:+0000
TZNAME:Europe/Lisbon WET
END:STANDARD
BEGIN:STANDARD
DTSTART:20181028T010000
RDATE:20190331T020000
TZOFFSETFROM:+0100
TZOFFSETTO:+0000
TZNAME:Europe/Lisbon WET
END:STANDARD
BEGIN:STANDARD
DTSTART:20191027T010000
RDATE:20200329T020000
TZOFFSETFROM:+0100
TZOFFSETTO:+0000
TZNAME:Europe/Lisbon WET
END:STANDARD
BEGIN:STANDARD
DTSTART:20201025T010000
RDATE:20210328T020000
TZOFFSETFROM:+0100
TZOFFSETTO:+0000
TZNAME:Europe/Lisbon WET
END:STANDARD
BEGIN:DAYLIGHT
DTSTART:20150430T000000
RDATE:20151025T010000
TZOFFSETFROM:+0000
TZOFFSETTO:+0100
TZNAME:Europe/Lisbon WEST
END:DAYLIGHT
BEGIN:DAYLIGHT
DTSTART:20160327T020000
RDATE:20161030T010000
TZOFFSETFROM:+0000
TZOFFSETTO:+0100
TZNAME:Europe/Lisbon WEST
END:DAYLIGHT
BEGIN:DAYLIGHT
DTSTART:20170326T020000
RDATE:20171029T010000
TZOFFSETFROM:+0000
TZOFFSETTO:+0100
TZNAME:Europe/Lisbon WEST
END:DAYLIGHT
BEGIN:DAYLIGHT
DTSTART:20180325T020000
RDATE:20181028T010000
TZOFFSETFROM:+0000
TZOFFSETTO:+0100
TZNAME:Europe/Lisbon WEST
END:DAYLIGHT
BEGIN:DAYLIGHT
DTSTART:20190331T020000
RDATE:20191027T010000
TZOFFSETFROM:+0000
TZOFFSETTO:+0100
TZNAME:Europe/Lisbon WEST
END:DAYLIGHT
BEGIN:DAYLIGHT
DTSTART:20200329T020000
RDATE:20201025T010000
TZOFFSETFROM:+0000
TZOFFSETTO:+0100
TZNAME:Europe/Lisbon WEST
END:DAYLIGHT
END:VTIMEZONE
BEGIN:VEVENT
UID:a91e4f1a019ef35f15cd5770bb1a81a7
CATEGORIES:Santos
SUMMARY:Beato Bento de Urbino
DESCRIPTION;ENCODING=QUOTED-PRINTABLE:Beato Bento de Urbino nasceu a 23 de setembro de 1560 em Urbino (Itália) e 
 faleceu a 30 de abril de 1625 em Fossombrone (Itália). Beato Bento de Urbin
 o nasceu no seio de uma família nobre e foi batizado com o nome de Marcos. 
 Ficou órfão aos 10 anos de idade. Profundamente inteligente e com gosto pel
 o estudo, Beato Bento de Urbino foi enviado, primeiro para Perusa, e depois
  para Pádua onde se doutorou em Direito aos 22 anos.\nBeato Bento de Urbino
  passou a viver em Roma na corte do Cardeal João Jerónimo Albani, porém dev
 ido a questões familiares teve de se afastar.\nAos 23 anos Beato Bento de U
 rbino pediu para entrar para a Ordem dos Capuchinhos. A sua constituição fr
 ágil e delicada criou-lhe grandes obstáculos, que conseguiu vencer graças à
  sua insistência e devido às suas qualidades morais. Dois anos depois em 15
 85, foi admitido à profissão na Ordem dos Capuchinhos adotando o nome de Fr
 ei Bento de Urbino. Completados os estudos sacerdotais, foi ordenado presbí
 tero (sacerdote). Frei Bento de Urbino dedicou-se com grande fervor de espí
 rito e simplicidade de palavra à pregação, e a todos atraía pela sua modést
 ia, por uma grande alegria de espírito unida à oração constante, à pobreza 
 e austeridade.\nEm 1599 Beato Bento de Urbino foi escolhido para integrar o
  grupo de capuchinhos enviados à Boémia, situada na Europa Central, sob a d
 ireção de São Lourenço de Brindes (http://www.paroquia-almancil.pt/utilidad
 es/vida-dos-santos/icalrepeat.detail/2018/07/21/78070/-/s%C3%A3o-louren%C3%
 A7o-de-brindes.html) para aí defender e difundir a fé católica no meio dos 
 Ussitas e Luteranos. Beato Bento de Urbino exerceu, ali, uma qualificada e 
 prodigiosa atividade que teve de interromper por motivos de saúde e pela di
 ficuldade em falar a língua local.\nBeato Bento de Urbino regressou então a
  Itália onde retomou o apostolado, tendo como preferidos os lugares e as pe
 ssoas mais humildes e mais pobres. Dedicou-se também à educação da juventud
 e e viveu uma vida de ascese (prática que visa o desenvolvimento espiritual
 ). Beato Bento de Urbino foi depois escolhido Guardião e posteriormente Def
 inidor da sua Província.\nExtremamente humilde, Beato Bento de Urbino fugia
  de tudo aquilo que pudesse trazer-lhe motivo de honra ou de glória. A sua 
 meditação preferida era a Paixão de Jesus. Amava a Virgem Maria com ternura
  filial, preparando-se sempre para as suas festas com uma novena de orações
  e de jejum. A sua oração era contínua. Sendo Guardião, jamais dispensou os
  seus irmãos das duas horas de meditação.\nCom paciência e resignação, Beat
 o Bento de Urbino suportou as doenças que martirizavam o seu frágil corpo, 
 ao ponto de ficar reduzido a pele e ossos. Flagelava-se com disciplinas de 
 ferro e levava apertado à cintura o cilício. Era extremamente frugal na sua
  alimentação, viajava a pé e descalço. Beato Bento de Urbino dormia muito p
 ouco e consagrava horas sem conta à oração, à pregação e ao confessionário.
  \nBeato Bento de Urbino faleceu na tarde do dia 30 de abril de 1625 no Con
 vento de Montesacro em Fossombrone.\nFoi beatificado a 15 de janeiro de 186
 7 pelo Papa Pio IX.\n\n \n \n
DTSTAMP:20260420T031239Z
DTSTART;TZID=Europe/Lisbon;VALUE=DATE:20160430
DTEND;TZID=Europe/Lisbon;VALUE=DATE:20160501
SEQUENCE:0
RRULE:FREQ=YEARLY;COUNT=100;INTERVAL=1;BYYEARDAY=-246
TRANSP:OPAQUE
END:VEVENT
END:VCALENDAR