BEGIN:VCALENDAR
VERSION:2.0
PRODID:-//jEvents 2.0 for Joomla//EN
CALSCALE:GREGORIAN
METHOD:PUBLISH
BEGIN:VTIMEZONE
TZID:Europe/Lisbon
BEGIN:STANDARD
DTSTART:20151025T010000
RDATE:20160327T020000
TZOFFSETFROM:+0100
TZOFFSETTO:+0000
TZNAME:Europe/Lisbon WET
END:STANDARD
BEGIN:STANDARD
DTSTART:20161030T010000
RDATE:20170326T020000
TZOFFSETFROM:+0100
TZOFFSETTO:+0000
TZNAME:Europe/Lisbon WET
END:STANDARD
BEGIN:STANDARD
DTSTART:20171029T010000
RDATE:20180325T020000
TZOFFSETFROM:+0100
TZOFFSETTO:+0000
TZNAME:Europe/Lisbon WET
END:STANDARD
BEGIN:STANDARD
DTSTART:20181028T010000
RDATE:20190331T020000
TZOFFSETFROM:+0100
TZOFFSETTO:+0000
TZNAME:Europe/Lisbon WET
END:STANDARD
BEGIN:STANDARD
DTSTART:20191027T010000
RDATE:20200329T020000
TZOFFSETFROM:+0100
TZOFFSETTO:+0000
TZNAME:Europe/Lisbon WET
END:STANDARD
BEGIN:STANDARD
DTSTART:20201025T010000
RDATE:20210328T020000
TZOFFSETFROM:+0100
TZOFFSETTO:+0000
TZNAME:Europe/Lisbon WET
END:STANDARD
BEGIN:DAYLIGHT
DTSTART:20150430T000000
RDATE:20151025T010000
TZOFFSETFROM:+0000
TZOFFSETTO:+0100
TZNAME:Europe/Lisbon WEST
END:DAYLIGHT
BEGIN:DAYLIGHT
DTSTART:20160327T020000
RDATE:20161030T010000
TZOFFSETFROM:+0000
TZOFFSETTO:+0100
TZNAME:Europe/Lisbon WEST
END:DAYLIGHT
BEGIN:DAYLIGHT
DTSTART:20170326T020000
RDATE:20171029T010000
TZOFFSETFROM:+0000
TZOFFSETTO:+0100
TZNAME:Europe/Lisbon WEST
END:DAYLIGHT
BEGIN:DAYLIGHT
DTSTART:20180325T020000
RDATE:20181028T010000
TZOFFSETFROM:+0000
TZOFFSETTO:+0100
TZNAME:Europe/Lisbon WEST
END:DAYLIGHT
BEGIN:DAYLIGHT
DTSTART:20190331T020000
RDATE:20191027T010000
TZOFFSETFROM:+0000
TZOFFSETTO:+0100
TZNAME:Europe/Lisbon WEST
END:DAYLIGHT
BEGIN:DAYLIGHT
DTSTART:20200329T020000
RDATE:20201025T010000
TZOFFSETFROM:+0000
TZOFFSETTO:+0100
TZNAME:Europe/Lisbon WEST
END:DAYLIGHT
END:VTIMEZONE
BEGIN:VEVENT
UID:87f375e671a7653bf7e8a25ce8cea3db
CATEGORIES:Santos
SUMMARY:São Pio V
DESCRIPTION;ENCODING=QUOTED-PRINTABLE:São Pio V, nasceu a 17 de janeiro de 1504 em Bosco Marengo (Itália) e falec
 eu a 1 de maio de 1572 em Roma. Era filho de Paolo Ghislieri e de Domnina A
 uger, pertencentes à nobreza do Ducado de Milão. Foi batizado com o nome An
 tonio Ghislieri.\nNa infância São Pio V foi pastor de ovelhas e, aos 14 ano
 s, entrou para a Ordem dos Pregadores de São Domingos (dominicanos) em Vogh
 era onde adotou o nome de Michele (Miguel). De Voghera passou a Vigevano e 
 depois para Bolonha. Em 1528 foi São Pio V ordenado presbítero por Dom Inno
 cenzo Cardeal Cybo, em Génova e, de lá, foi mandado para Pavia onde ficaria
  por dezasseis anos. São Pio V foi professor de Teologia e exerceu vários c
 argos em sua Ordem. De Pavia São Pio V foi para Parma onde escreveu trinta 
 teses em defesa da Cátedra de Pedro e contra as heresias de seu tempo. Ente
 ndido como enérgico instrutor doutrinário, São Pio V foi nomeado inquisidor
  em Como.\nNo ano de 1550 São Pio V foi elevado ao Comissariado da Santa Sé
  em Roma. Depois foi ordenado bispo e nomeado para a Diocese de Sutri e Nep
 i (entretanto unida à Dioecesis Civitatis Castellanaeem 1986 pelo Papa João
  Paulo II) -, e mais tarde nomeado cardeal com o título de Santa Maria Sopr
 a Minerva e feito Inquisidor-mor sob Paulo IV. Ainda no pontificado de Pio 
 IV, tornou-se Bispo de Mondovì no Piemonte (Itália).\nQuando o Papa Paulo I
 V morreu, foi eleito Papa a 7 de janeiro de 1566 e coroado dez dias depois 
 no dia do 62º aniversário, adotando o nome de Pio V. Assim que assumiu o pa
 pado São Pio V foi procurado em Roma por dezenas de parentes. A nenhum dos 
 que o procuraram São Pio V deu "emprego", afirmando que um parente do papa,
  se não estiver na miséria, "já está bastante rico".\nSão Pio V aplicou ene
 rgicamente as decisões do Concílio de Trento, restabelecendo a moral e a as
 cese espiritual e combateu fortemente a Reforma Protestante.\nCom sua bula 
 pontifícia In c&oelig;na Domini, São Pio V reafirmou a legitimidade e supre
 macia da Igreja Católica e da Cabeça Visível do Corpo Místico. São Pio V re
 duziu substancialmente os gastos da Sé de Roma, foi responsável pela public
 ação do Catecismo Romano e ordenou o ensino da Teologia tomista nas univers
 idades. Ordenou a residência compulsória para os clérigos, uma vez que acon
 tecia com frequência os bispos estarem nomeados para um local e residirem n
 outro, regulou os hospícios (instituição católica) e pôs em prática as deci
 sões do Concílio.\nCom a bula Quo Primum Tempore, São Pio V instituiu a Mis
 sa tridentina, através do estabelecimento do texto oficial da Missa e do Of
 ício Divino que constituíram a prática litúrgica ordinária do Rito Romano a
 té ao Concílio Vaticano II, terminado em 1965. A bula teve por finalidade u
 nificar a Reapresentação do Sacrifício da Cruz e impedir abusos e deturpaçõ
 es no culto sagrado.\nEm Roma mandou que Daniele da Volterra, discípulo de 
 Michelangelo, recobrisse com roupas a nudez pintada no teto da Capela Sisti
 na.  Com a sua autoridade e com o seu prestígio pessoal São Pio V conseguiu
  impor tréguas nas rixas caseiras dos Estados europeus e levá-los a formar 
 a &ldquo;santa aliança&rdquo; para enfrentar o ameaçador avanço dos turcos.
  A sete de outubro de 1571, a frota cristã impôs nas águas de Lepanto uma d
 errota definitiva à esquadra turca. Naquele mesmo dia Pio V, que não dispun
 ha dos meios de comunicações atuais, ordenou que se tocassem os sinos de Ro
 ma convidando todos os fiéis a agradecer a Deus a vitória obtida. A importâ
 ncia desta vitória, para a defesa de uma Europa cristã, e obtida em circuns
 tâncias militares muito difíceis, levaram o papa Pio V a instituir naquela 
 data o dia de Nossa Senhora da Vitória, bem como a divulgar, em toda a cris
 tandade a prática da oração do Rosário.\nDepois de conseguir a união dos pa
 íses católicos e sabendo das consequências que sofreria a Igreja, São Pio V
  não pensou duas vezes ao excomungar a rainha Elizabete I\nSão Pio V morreu
  a 1 de maio de 1572.\nFoi canonizado a 22 de maio de 1712, pelo Papa Cleme
 nte XI.\n \nSão Pio V rogai por nós!\n
DTSTAMP:20260421T191940Z
DTSTART;TZID=Europe/Lisbon;VALUE=DATE:20160430
DTEND;TZID=Europe/Lisbon;VALUE=DATE:20160501
SEQUENCE:0
RRULE:FREQ=YEARLY;COUNT=100;INTERVAL=1;BYYEARDAY=-246
TRANSP:OPAQUE
END:VEVENT
END:VCALENDAR