BEGIN:VCALENDAR
VERSION:2.0
PRODID:-//jEvents 2.0 for Joomla//EN
CALSCALE:GREGORIAN
METHOD:PUBLISH
BEGIN:VTIMEZONE
TZID:Europe/Lisbon
BEGIN:STANDARD
DTSTART:20130104T000000
RDATE:20130331T020000
TZOFFSETFROM:+0100
TZOFFSETTO:+0000
TZNAME:Europe/Lisbon WET
END:STANDARD
BEGIN:STANDARD
DTSTART:20131027T010000
RDATE:20140330T020000
TZOFFSETFROM:+0100
TZOFFSETTO:+0000
TZNAME:Europe/Lisbon WET
END:STANDARD
BEGIN:STANDARD
DTSTART:20141026T010000
RDATE:20150329T020000
TZOFFSETFROM:+0100
TZOFFSETTO:+0000
TZNAME:Europe/Lisbon WET
END:STANDARD
BEGIN:STANDARD
DTSTART:20151025T010000
RDATE:20160327T020000
TZOFFSETFROM:+0100
TZOFFSETTO:+0000
TZNAME:Europe/Lisbon WET
END:STANDARD
BEGIN:STANDARD
DTSTART:20161030T010000
RDATE:20170326T020000
TZOFFSETFROM:+0100
TZOFFSETTO:+0000
TZNAME:Europe/Lisbon WET
END:STANDARD
BEGIN:STANDARD
DTSTART:20171029T010000
RDATE:20180325T020000
TZOFFSETFROM:+0100
TZOFFSETTO:+0000
TZNAME:Europe/Lisbon WET
END:STANDARD
BEGIN:STANDARD
DTSTART:20181028T010000
RDATE:20190331T020000
TZOFFSETFROM:+0100
TZOFFSETTO:+0000
TZNAME:Europe/Lisbon WET
END:STANDARD
BEGIN:STANDARD
DTSTART:20191027T010000
RDATE:20200329T020000
TZOFFSETFROM:+0100
TZOFFSETTO:+0000
TZNAME:Europe/Lisbon WET
END:STANDARD
BEGIN:STANDARD
DTSTART:20201025T010000
RDATE:20210328T020000
TZOFFSETFROM:+0100
TZOFFSETTO:+0000
TZNAME:Europe/Lisbon WET
END:STANDARD
BEGIN:DAYLIGHT
DTSTART:20130331T020000
RDATE:20131027T010000
TZOFFSETFROM:+0000
TZOFFSETTO:+0100
TZNAME:Europe/Lisbon WEST
END:DAYLIGHT
BEGIN:DAYLIGHT
DTSTART:20140330T020000
RDATE:20141026T010000
TZOFFSETFROM:+0000
TZOFFSETTO:+0100
TZNAME:Europe/Lisbon WEST
END:DAYLIGHT
BEGIN:DAYLIGHT
DTSTART:20150329T020000
RDATE:20151025T010000
TZOFFSETFROM:+0000
TZOFFSETTO:+0100
TZNAME:Europe/Lisbon WEST
END:DAYLIGHT
BEGIN:DAYLIGHT
DTSTART:20160327T020000
RDATE:20161030T010000
TZOFFSETFROM:+0000
TZOFFSETTO:+0100
TZNAME:Europe/Lisbon WEST
END:DAYLIGHT
BEGIN:DAYLIGHT
DTSTART:20170326T020000
RDATE:20171029T010000
TZOFFSETFROM:+0000
TZOFFSETTO:+0100
TZNAME:Europe/Lisbon WEST
END:DAYLIGHT
BEGIN:DAYLIGHT
DTSTART:20180325T020000
RDATE:20181028T010000
TZOFFSETFROM:+0000
TZOFFSETTO:+0100
TZNAME:Europe/Lisbon WEST
END:DAYLIGHT
BEGIN:DAYLIGHT
DTSTART:20190331T020000
RDATE:20191027T010000
TZOFFSETFROM:+0000
TZOFFSETTO:+0100
TZNAME:Europe/Lisbon WEST
END:DAYLIGHT
BEGIN:DAYLIGHT
DTSTART:20200329T020000
RDATE:20201025T010000
TZOFFSETFROM:+0000
TZOFFSETTO:+0100
TZNAME:Europe/Lisbon WEST
END:DAYLIGHT
END:VTIMEZONE
BEGIN:VEVENT
UID:a88d0b117de6b2bafb3110824aba2ae6
CATEGORIES:Santos
SUMMARY:São Carlos Houben
DESCRIPTION;ENCODING=QUOTED-PRINTABLE:\n\nSão Carlos de Santo André, nasceu como João André Houben, em Munstergel
 een, na Holanda, no dia 11 de Dezembro do ano de 1821.\n\n\nTomada a decisã
 o de consagrar a sua vida a Deus, São Carlos Houben, entrou no noviciado pa
 ssionista de Ere, na Bélgica, no ano de 1845. São Carlos Houben foi ordenad
 o sacerdote no dia 21 de Dezembro do ano de 1850, e volvidos 2 anos, em 185
 2, foi destinado à nova fundação passionista de Inglaterra, onde o beato Do
 mingos Barberi, tinha anteriormente trabalhado pelo regresso dos irmãos sep
 arados da fé católica.\n\n\nO beato Carlos Houben, seguindo o exemplo do be
 ato Domingos, apóstolo do Ecumenismo, trabalhou sem cessar pelo bem das alm
 as e pela unidade da Igreja, primeiro em Inglaterra, e depois na Irlanda, o
 nde viria a falecer com grande santidade no dia 5 de Janeiro de 1893, vigíl
 ia da Epifania do Senhor.\n\n\nSão Carlos Houben, foi um homem de grande vi
 da interior ao estilo de São Paulo da Cruz e foi beatificado pelo Papa João
  Paulo II a 16 de Outubro de 1988 e canonizado pelo Papa Bento XVI a 03 de 
 Junho de 2007.                          \n\n\n\n\n\n\n\n\nNascimento: 11 de
  Dezembro de 1821 d.C. em Munstergeleen, na Holanda\n\n\nMorte: 05 de Janei
 ro de 1893, na Irlanda\n\n\n\n
DTSTAMP:20260420T203206Z
DTSTART;TZID=Europe/Lisbon;VALUE=DATE:20140105
DTEND;TZID=Europe/Lisbon;VALUE=DATE:20140106
SEQUENCE:0
RRULE:FREQ=YEARLY;COUNT=100;INTERVAL=1;BYYEARDAY=+5
TRANSP:OPAQUE
END:VEVENT
END:VCALENDAR