BEGIN:VCALENDAR
VERSION:2.0
PRODID:-//jEvents 2.0 for Joomla//EN
CALSCALE:GREGORIAN
METHOD:PUBLISH
BEGIN:VTIMEZONE
TZID:Europe/Lisbon
BEGIN:STANDARD
DTSTART:20151025T010000
RDATE:20160327T020000
TZOFFSETFROM:+0100
TZOFFSETTO:+0000
TZNAME:Europe/Lisbon WET
END:STANDARD
BEGIN:STANDARD
DTSTART:20161030T010000
RDATE:20170326T020000
TZOFFSETFROM:+0100
TZOFFSETTO:+0000
TZNAME:Europe/Lisbon WET
END:STANDARD
BEGIN:STANDARD
DTSTART:20171029T010000
RDATE:20180325T020000
TZOFFSETFROM:+0100
TZOFFSETTO:+0000
TZNAME:Europe/Lisbon WET
END:STANDARD
BEGIN:STANDARD
DTSTART:20181028T010000
RDATE:20190331T020000
TZOFFSETFROM:+0100
TZOFFSETTO:+0000
TZNAME:Europe/Lisbon WET
END:STANDARD
BEGIN:STANDARD
DTSTART:20191027T010000
RDATE:20200329T020000
TZOFFSETFROM:+0100
TZOFFSETTO:+0000
TZNAME:Europe/Lisbon WET
END:STANDARD
BEGIN:STANDARD
DTSTART:20201025T010000
RDATE:20210328T020000
TZOFFSETFROM:+0100
TZOFFSETTO:+0000
TZNAME:Europe/Lisbon WET
END:STANDARD
BEGIN:DAYLIGHT
DTSTART:20150428T000000
RDATE:20151025T010000
TZOFFSETFROM:+0000
TZOFFSETTO:+0100
TZNAME:Europe/Lisbon WEST
END:DAYLIGHT
BEGIN:DAYLIGHT
DTSTART:20160327T020000
RDATE:20161030T010000
TZOFFSETFROM:+0000
TZOFFSETTO:+0100
TZNAME:Europe/Lisbon WEST
END:DAYLIGHT
BEGIN:DAYLIGHT
DTSTART:20170326T020000
RDATE:20171029T010000
TZOFFSETFROM:+0000
TZOFFSETTO:+0100
TZNAME:Europe/Lisbon WEST
END:DAYLIGHT
BEGIN:DAYLIGHT
DTSTART:20180325T020000
RDATE:20181028T010000
TZOFFSETFROM:+0000
TZOFFSETTO:+0100
TZNAME:Europe/Lisbon WEST
END:DAYLIGHT
BEGIN:DAYLIGHT
DTSTART:20190331T020000
RDATE:20191027T010000
TZOFFSETFROM:+0000
TZOFFSETTO:+0100
TZNAME:Europe/Lisbon WEST
END:DAYLIGHT
BEGIN:DAYLIGHT
DTSTART:20200329T020000
RDATE:20201025T010000
TZOFFSETFROM:+0000
TZOFFSETTO:+0100
TZNAME:Europe/Lisbon WEST
END:DAYLIGHT
END:VTIMEZONE
BEGIN:VEVENT
UID:d57d725b76127223aa3287f77e223234
CATEGORIES:Santos
SUMMARY:São Luís Maria Grignion de Montfort
DESCRIPTION;ENCODING=QUOTED-PRINTABLE:São Luís Maria Grignion de Montfort nasceu a 31 de janeiro de 1673, em Mont
 fort (hoje Montfort-sur-Meu, França) e faleceu a 28 de abril de 1716 em Sai
 nt-Laurent-sur-Sèvre (França). São Luís Maria Grignion de Montfort era filh
 o de João Batista Grignion de Bachelleraie e de Joanna Visuelle de Chesnais
 . São Luís Maria Grignion de Montfort era o filho mais velho de uma família
  numerosa. Teve, ao todo 17 irmãos, dos quais um padre, um irmão dominicano
 , uma irmã beneditina e uma irmã sacramentina. O Santo foi batizado no dia 
 seguinte ao do seu nascimento, recebendo o nome de Luís. Ao receber o Crism
 a, acrescentou o nome de Maria. Algum tempo depois, abandonou o nome da fam
 ília e passou a se chamar Luís Maria Montfort.\nQuando São Luís Maria Grign
 ion de Montfort era criança a família instalou-se na propriedade do Bois-Ma
 rquer, em Iffendic. A velha igreja desta cidade foi o cenário das primeiras
  orações de São Luís Maria Grignion de Montfort e o berço de sua ardorosa d
 evoção ao Santíssimo Sacramento. Ali São Luís Maria Grignion de Montfort fe
 z a Primeira Comunhão e passava horas em recolhimento.\nCom 11 anos São Luí
 s Maria Grignion de Montfort ingressou no colégio jesuíta de Rennes e nele 
 recebeu sólida formação humana e espiritual. No mesmo colégio, concluiu o c
 urso de filosofia em 1692. Em algum momento durante estes anos, São Luís Ma
 ria Grignion de Montfort tomou conhecimento da sua vocação e chamado sacerd
 otal, e no final da sua escolaridade ordinária, iniciou seus estudos de fil
 osofia e teologia, ainda em São Tomás de Aquino, em Rennes. Ouvindo as hist
 órias de um padre local, o abade Julien Bellier, sobre a sua vida como um m
 issionário itinerante, São Luís Maria Grignion de Montfort foi inspirado a 
 pregar missões entre as pessoas pobres. E, sob a orientação de alguns outro
 s sacerdotes, começou a desenvolver a sua forte devoção a Nossa Senhora.\nN
 o final de 1693 foi dada a São Luís Maria Grignion de Montfort a oportunida
 de de ir para Paris para estudar no renomado Seminário de São Sulpício. São
  Luís Maria Grignion de Montfort quis percorrer a pé os mais de 300 km que 
 o separavam da capital francesa. Quando São Luís Maria Grignion de Montfort
  chegou a Paris, descobriu que o seu benfeitor não tinha fornecido dinheiro
  suficiente, passando a viver entre os muito pobres, mas frequentando a Uni
 versidade de Sorbonne para palestras sobre teologia. Após menos de dois ano
 s, São Luís Maria Grignion de Montfort ficou muito doente e teve que ser ho
 spitalizado. Todos acreditavam que São Luís Maria Grignion de Montfort morr
 eria, de tão grave que era o seu estado, mas ele nunca duvidou da cura, poi
 s sentia não haver chegado a sua hora. São Luís Maria Grignion de Montfort 
 sobreviveu e quando teve alta do hospital encontrou um emprego reservado em
  São Sulpício, onde ingressou em julho de 1695. São Sulpício tinha sido fun
 dado por Jean-Jacques Olier, um dos principais sacerdotes do que veio a ser
  conhecido como a Escola Francesa de Espiritualidade. Tendo em conta que Sã
 o Luís Maria Grignion de Montfort foi nomeado como bibliotecário, o seu tem
 po em São Sulpício deu-lhe a oportunidade de estudar a maioria das obras di
 sponíveis sobre espiritualidade e, em particular, sobre o lugar da Virgem M
 aria na vida cristã. Mais tarde isso levaria ao seu foco sobre o Santo Rosá
 rio e do seu aclamado livro "Os Segredos do Rosário".\nSão Luís Maria Grign
 ion de Montfort foi ordenado sacerdote a 5 de junho de 1700 e quis celebrar
  sua primeira Missa na capela de Maria Santíssima, situada atrás do coro da
  Igreja de Saint-Sulpice. São Luís Maria Grignion de Montfort foi enviado p
 ara exercer o ministério na comunidade de eclesiásticos Saint-Clément, em N
 antes, na qual se pregavam retiros anuais e conferências dominicais para o 
 clero da região. São Luís Maria Grignion de Montfort dirigiu-se para onde o
  mandava a obediência, mas as suas cartas deste período mostram que ele se 
 sentiu frustrado com a falta de oportunidade para pregar, atividade esta qu
 e considerava o motivo de sua vocação. Estudou várias opções, inclusive a d
 e se tornar um eremita, mas a convicção de que foi chamado para "pregar mis
 sões aos pobres" aumentou.\nCinco meses depois de sua ordenação reuniu-se c
 om Marie Louise Trichet, quando foi nomeado capelão do hospital de Poitiers
 . Essa reunião tornou-se o início de trinta e quatro anos de serviço aos po
 bres de Marie Louise e São Luís Maria Grignion de Montfort.\nFrustrado com 
 os bispos locais, em julho de 1706 São Luís Maria Grignion de Montfort deci
 diu fazer uma peregrinação a pé a Roma, para pedir um conselho ao Papa Clem
 ente XI, sobre o que ele deveria fazer. Foi enviado de volta à França, com 
 o título de missionário apostólico e a ­pedido do Santo, concedeu o Pontífi
 ce indulgência plenária a todos os que osculassem seu Crucifixo de marfim, 
 na hora da morte, &ldquo;pronunciando os nomes de Jesus e Maria com contriç
 ão dos seus pecados&rdquo;. \nO bispo de La Rochelle tinha se impressionado
  com São Luís Maria Grignion de Montfort há algum tempo e convidou-o para a
 brir uma escola ali. Com a ajuda das suas seguidoras, Marie Louise Trichet 
 e Catherine Brunet alistaram diversas pessoas. Em 1715 foi aberta uma escol
 a e em pouco tempo tinha 400 alunos.\nEm 22 de agosto de 1715, elas juntame
 nte com Marie Valleau e Marie Régnier de La Rochelle receberam a aprovação 
 do bispo de Champflour de La Rochelle para desempenhar a sua profissão reli
 giosa na Congregação dos Missionários Monfortinos sob a direção de São Luís
  Maria Grignion de Montfort.\nSão Luís Maria Grignion de Montfort fundou ai
 nda as Filhas da Sabedoria e os Irmãos de São Gabriel. Também escreveu vári
 os livros, dos quais destaca-se o &ldquo;Tratado da Verdadeira Devoção à Sa
 ntíssima Virgem&rdquo;.\nSão Luís Maria Grignion de Montfort morreu em 28 d
 e abril de 1716, aos 43 anos, depois de ter realizado mais de 100 missões p
 opulares. Seu último sermão foi sobre a ternura de Jesus e a Sabedoria do P
 ai encarnado.\nSão Luís Maria Grignion de Montfort foi canonizado a 20 de j
 ulho de 1947 pelo Papa Pio XII.\n \nSão Luís Maria Grignion de Montfort rog
 ai por nós!\n
DTSTAMP:20260420T031332Z
DTSTART;TZID=Europe/Lisbon;VALUE=DATE:20160428
DTEND;TZID=Europe/Lisbon;VALUE=DATE:20160429
SEQUENCE:0
RRULE:FREQ=YEARLY;COUNT=100;INTERVAL=1;BYYEARDAY=-248
TRANSP:OPAQUE
END:VEVENT
END:VCALENDAR